BEGIN:VCALENDAR
VERSION:2.0
PRODID:-//SCFD - ECPv6.15.18//NONSGML v1.0//EN
CALSCALE:GREGORIAN
METHOD:PUBLISH
X-WR-CALNAME:SCFD
X-ORIGINAL-URL:https://scfd.org/es/
X-WR-CALDESC:Eventos para SCFD
REFRESH-INTERVAL;VALUE=DURATION:PT1H
X-Robots-Tag:noindex
X-PUBLISHED-TTL:PT1H
BEGIN:VTIMEZONE
TZID:America/Denver
BEGIN:DAYLIGHT
TZOFFSETFROM:-0700
TZOFFSETTO:-0600
TZNAME:MDT
DTSTART:20230312T090000
END:DAYLIGHT
BEGIN:STANDARD
TZOFFSETFROM:-0600
TZOFFSETTO:-0700
TZNAME:MST
DTSTART:20231105T080000
END:STANDARD
BEGIN:DAYLIGHT
TZOFFSETFROM:-0700
TZOFFSETTO:-0600
TZNAME:MDT
DTSTART:20240310T090000
END:DAYLIGHT
BEGIN:STANDARD
TZOFFSETFROM:-0600
TZOFFSETTO:-0700
TZNAME:MST
DTSTART:20241103T080000
END:STANDARD
BEGIN:DAYLIGHT
TZOFFSETFROM:-0700
TZOFFSETTO:-0600
TZNAME:MDT
DTSTART:20250309T090000
END:DAYLIGHT
BEGIN:STANDARD
TZOFFSETFROM:-0600
TZOFFSETTO:-0700
TZNAME:MST
DTSTART:20251102T080000
END:STANDARD
END:VTIMEZONE
BEGIN:VEVENT
DTSTART;TZID=America/Denver:20240715T090000
DTEND;TZID=America/Denver:20240715T160000
DTSTAMP:20260419T092842
CREATED:20240319T153119Z
LAST-MODIFIED:20240319T153121Z
UID:10008539-1721034000-1721059200@scfd.org
SUMMARY:Días Libres de MOA
DESCRIPTION:
URL:https://scfd.org/es/event/dias-libres-de-moa/2024-07-15/
END:VEVENT
BEGIN:VEVENT
DTSTART;TZID=America/Denver:20240715T090000
DTEND;TZID=America/Denver:20240715T160000
DTSTAMP:20260419T092842
CREATED:20240319T153155Z
LAST-MODIFIED:20240319T153155Z
UID:10008558-1721034000-1721059200@scfd.org
SUMMARY:Días Libres de MOA
DESCRIPTION:
URL:https://scfd.org/es/event/dias-libres-de-moa-2/2024-07-15/
END:VEVENT
BEGIN:VEVENT
DTSTART;TZID=America/Denver:20240715T090000
DTEND;TZID=America/Denver:20240715T160000
DTSTAMP:20260419T092842
CREATED:20240319T153255Z
LAST-MODIFIED:20240319T153255Z
UID:10008570-1721034000-1721059200@scfd.org
SUMMARY:Días Libres de MOA
DESCRIPTION:
URL:https://scfd.org/es/event/dias-libres-de-moa-3/2024-07-15/
END:VEVENT
BEGIN:VEVENT
DTSTART;TZID=America/Denver:20240715T090000
DTEND;TZID=America/Denver:20240715T160000
DTSTAMP:20260419T092842
CREATED:20240812T185407Z
LAST-MODIFIED:20240812T185407Z
UID:10008631-1721034000-1721059200@scfd.org
SUMMARY:Días Libres de MOA
DESCRIPTION:
URL:https://scfd.org/es/event/dias-libres-de-moa-4/2024-07-15/
END:VEVENT
END:VCALENDAR