BEGIN:VCALENDAR
VERSION:2.0
PRODID:-//SCFD - ECPv6.15.18//NONSGML v1.0//EN
CALSCALE:GREGORIAN
METHOD:PUBLISH
X-WR-CALNAME:SCFD
X-ORIGINAL-URL:https://scfd.org/es/
X-WR-CALDESC:Eventos para SCFD
REFRESH-INTERVAL;VALUE=DURATION:PT1H
X-Robots-Tag:noindex
X-PUBLISHED-TTL:PT1H
BEGIN:VTIMEZONE
TZID:America/Denver
BEGIN:DAYLIGHT
TZOFFSETFROM:-0700
TZOFFSETTO:-0600
TZNAME:MDT
DTSTART:20230312T090000
END:DAYLIGHT
BEGIN:STANDARD
TZOFFSETFROM:-0600
TZOFFSETTO:-0700
TZNAME:MST
DTSTART:20231105T080000
END:STANDARD
BEGIN:DAYLIGHT
TZOFFSETFROM:-0700
TZOFFSETTO:-0600
TZNAME:MDT
DTSTART:20240310T090000
END:DAYLIGHT
BEGIN:STANDARD
TZOFFSETFROM:-0600
TZOFFSETTO:-0700
TZNAME:MST
DTSTART:20241103T080000
END:STANDARD
BEGIN:DAYLIGHT
TZOFFSETFROM:-0700
TZOFFSETTO:-0600
TZNAME:MDT
DTSTART:20250309T090000
END:DAYLIGHT
BEGIN:STANDARD
TZOFFSETFROM:-0600
TZOFFSETTO:-0700
TZNAME:MST
DTSTART:20251102T080000
END:STANDARD
END:VTIMEZONE
BEGIN:VEVENT
DTSTART;TZID=America/Denver:20240910T100000
DTEND;TZID=America/Denver:20240910T200000
DTSTAMP:20260419T155513
CREATED:20231214T230435Z
LAST-MODIFIED:20231214T230435Z
UID:10008340-1725962400-1725998400@scfd.org
SUMMARY:Día Gratis del Museo de Arte de Denver
DESCRIPTION:
URL:https://scfd.org/es/event/dia-gratis-del-museo-de-arte-de-denver-18/2024-09-10/
END:VEVENT
BEGIN:VEVENT
DTSTART;TZID=America/Denver:20240910T100000
DTEND;TZID=America/Denver:20240910T210000
DTSTAMP:20260419T155513
CREATED:20231214T220845Z
LAST-MODIFIED:20231214T220845Z
UID:10007939-1725962400-1726002000@scfd.org
SUMMARY:Día Gratis del Museo de Arte de Denver
DESCRIPTION:
URL:https://scfd.org/es/event/dia-gratis-del-museo-de-arte-de-denver/2024-09-10/
END:VEVENT
BEGIN:VEVENT
DTSTART;TZID=America/Denver:20240910T100000
DTEND;TZID=America/Denver:20240910T210000
DTSTAMP:20260419T155513
CREATED:20231214T221231Z
LAST-MODIFIED:20231214T221231Z
UID:10006788-1725962400-1726002000@scfd.org
SUMMARY:Día Gratis del Museo de Arte de Denver
DESCRIPTION:
URL:https://scfd.org/es/event/dia-gratis-del-museo-de-arte-de-denver-2/2024-09-10/
END:VEVENT
BEGIN:VEVENT
DTSTART;TZID=America/Denver:20240910T100000
DTEND;TZID=America/Denver:20240910T210000
DTSTAMP:20260419T155513
CREATED:20231214T221643Z
LAST-MODIFIED:20231214T221643Z
UID:10006825-1725962400-1726002000@scfd.org
SUMMARY:Día Gratis del Museo de Arte de Denver
DESCRIPTION:
URL:https://scfd.org/es/event/dia-gratis-del-museo-de-arte-de-denver-3/2024-09-10/
END:VEVENT
BEGIN:VEVENT
DTSTART;TZID=America/Denver:20240910T100000
DTEND;TZID=America/Denver:20240910T210000
DTSTAMP:20260419T155513
CREATED:20231214T221955Z
LAST-MODIFIED:20231214T221955Z
UID:10007967-1725962400-1726002000@scfd.org
SUMMARY:Día Gratis del Museo de Arte de Denver
DESCRIPTION:
URL:https://scfd.org/es/event/dia-gratis-del-museo-de-arte-de-denver-4/2024-09-10/
END:VEVENT
BEGIN:VEVENT
DTSTART;TZID=America/Denver:20240910T100000
DTEND;TZID=America/Denver:20240910T210000
DTSTAMP:20260419T155513
CREATED:20231214T222117Z
LAST-MODIFIED:20231214T222117Z
UID:10007994-1725962400-1726002000@scfd.org
SUMMARY:Día Gratis del Museo de Arte de Denver
DESCRIPTION:
URL:https://scfd.org/es/event/dia-gratis-del-museo-de-arte-de-denver-5/2024-09-10/
END:VEVENT
BEGIN:VEVENT
DTSTART;TZID=America/Denver:20240910T100000
DTEND;TZID=America/Denver:20240910T210000
DTSTAMP:20260419T155513
CREATED:20231214T222132Z
LAST-MODIFIED:20231214T222132Z
UID:10008011-1725962400-1726002000@scfd.org
SUMMARY:Día Gratis del Museo de Arte de Denver
DESCRIPTION:
URL:https://scfd.org/es/event/dia-gratis-del-museo-de-arte-de-denver-6/2024-09-10/
END:VEVENT
BEGIN:VEVENT
DTSTART;TZID=America/Denver:20240910T100000
DTEND;TZID=America/Denver:20240910T210000
DTSTAMP:20260419T155513
CREATED:20231214T222307Z
LAST-MODIFIED:20231214T222307Z
UID:10008052-1725962400-1726002000@scfd.org
SUMMARY:Día Gratis del Museo de Arte de Denver
DESCRIPTION:
URL:https://scfd.org/es/event/dia-gratis-del-museo-de-arte-de-denver-7/2024-09-10/
END:VEVENT
BEGIN:VEVENT
DTSTART;TZID=America/Denver:20240910T100000
DTEND;TZID=America/Denver:20240910T210000
DTSTAMP:20260419T155513
CREATED:20231214T222700Z
LAST-MODIFIED:20231214T222700Z
UID:10008080-1725962400-1726002000@scfd.org
SUMMARY:Día Gratis del Museo de Arte de Denver
DESCRIPTION:
URL:https://scfd.org/es/event/dia-gratis-del-museo-de-arte-de-denver-8/2024-09-10/
END:VEVENT
BEGIN:VEVENT
DTSTART;TZID=America/Denver:20240910T100000
DTEND;TZID=America/Denver:20240910T210000
DTSTAMP:20260419T155513
CREATED:20231214T222745Z
LAST-MODIFIED:20231214T222745Z
UID:10008098-1725962400-1726002000@scfd.org
SUMMARY:Día Gratis del Museo de Arte de Denver
DESCRIPTION:
URL:https://scfd.org/es/event/dia-gratis-del-museo-de-arte-de-denver-9/2024-09-10/
END:VEVENT
BEGIN:VEVENT
DTSTART;TZID=America/Denver:20240910T100000
DTEND;TZID=America/Denver:20240910T210000
DTSTAMP:20260419T155513
CREATED:20231214T223425Z
LAST-MODIFIED:20231214T223425Z
UID:10008139-1725962400-1726002000@scfd.org
SUMMARY:Día Gratis del Museo de Arte de Denver
DESCRIPTION:
URL:https://scfd.org/es/event/dia-gratis-del-museo-de-arte-de-denver-10/2024-09-10/
END:VEVENT
BEGIN:VEVENT
DTSTART;TZID=America/Denver:20240910T100000
DTEND;TZID=America/Denver:20240910T210000
DTSTAMP:20260419T155513
CREATED:20231214T223507Z
LAST-MODIFIED:20231214T223507Z
UID:10008173-1725962400-1726002000@scfd.org
SUMMARY:Día Gratis del Museo de Arte de Denver
DESCRIPTION:
URL:https://scfd.org/es/event/dia-gratis-del-museo-de-arte-de-denver-11/2024-09-10/
END:VEVENT
BEGIN:VEVENT
DTSTART;TZID=America/Denver:20240910T100000
DTEND;TZID=America/Denver:20240910T210000
DTSTAMP:20260419T155513
CREATED:20231214T223617Z
LAST-MODIFIED:20231214T223617Z
UID:10006873-1725962400-1726002000@scfd.org
SUMMARY:Día Gratis del Museo de Arte de Denver
DESCRIPTION:
URL:https://scfd.org/es/event/dia-gratis-del-museo-de-arte-de-denver-12/2024-09-10/
END:VEVENT
BEGIN:VEVENT
DTSTART;TZID=America/Denver:20240910T100000
DTEND;TZID=America/Denver:20240910T210000
DTSTAMP:20260419T155513
CREATED:20231214T223824Z
LAST-MODIFIED:20231214T223824Z
UID:10006901-1725962400-1726002000@scfd.org
SUMMARY:Día Gratis del Museo de Arte de Denver
DESCRIPTION:
URL:https://scfd.org/es/event/dia-gratis-del-museo-de-arte-de-denver-13/2024-09-10/
END:VEVENT
BEGIN:VEVENT
DTSTART;TZID=America/Denver:20240910T100000
DTEND;TZID=America/Denver:20240910T210000
DTSTAMP:20260419T155513
CREATED:20231214T225222Z
LAST-MODIFIED:20231214T225222Z
UID:10006940-1725962400-1726002000@scfd.org
SUMMARY:Día Gratis del Museo de Arte de Denver
DESCRIPTION:
URL:https://scfd.org/es/event/dia-gratis-del-museo-de-arte-de-denver-14/2024-09-10/
END:VEVENT
BEGIN:VEVENT
DTSTART;TZID=America/Denver:20240910T100000
DTEND;TZID=America/Denver:20240910T210000
DTSTAMP:20260419T155513
CREATED:20231214T225641Z
LAST-MODIFIED:20231214T225641Z
UID:10008207-1725962400-1726002000@scfd.org
SUMMARY:Día Gratis del Museo de Arte de Denver
DESCRIPTION:
URL:https://scfd.org/es/event/dia-gratis-del-museo-de-arte-de-denver-15/2024-09-10/
END:VEVENT
BEGIN:VEVENT
DTSTART;TZID=America/Denver:20240910T100000
DTEND;TZID=America/Denver:20240910T210000
DTSTAMP:20260419T155513
CREATED:20231214T230055Z
LAST-MODIFIED:20231214T230055Z
UID:10008263-1725962400-1726002000@scfd.org
SUMMARY:Día Gratis del Museo de Arte de Denver
DESCRIPTION:
URL:https://scfd.org/es/event/dia-gratis-del-museo-de-arte-de-denver-16/2024-09-10/
END:VEVENT
BEGIN:VEVENT
DTSTART;TZID=America/Denver:20240910T100000
DTEND;TZID=America/Denver:20240910T210000
DTSTAMP:20260419T155513
CREATED:20231214T230333Z
LAST-MODIFIED:20231214T230333Z
UID:10008301-1725962400-1726002000@scfd.org
SUMMARY:Día Gratis del Museo de Arte de Denver
DESCRIPTION:
URL:https://scfd.org/es/event/dia-gratis-del-museo-de-arte-de-denver-17/2024-09-10/
END:VEVENT
BEGIN:VEVENT
DTSTART;TZID=America/Denver:20240910T170000
DTEND;TZID=America/Denver:20240910T210000
DTSTAMP:20260419T155513
CREATED:20231215T002005Z
LAST-MODIFIED:20231215T002005Z
UID:10008384-1725987600-1726002000@scfd.org
SUMMARY:Museo de Naturaleza y Ciencia de Denver
DESCRIPTION:
URL:https://scfd.org/es/event/museo-de-naturaleza-y-ciencia-de-denver/2024-09-10/
END:VEVENT
END:VCALENDAR