BEGIN:VCALENDAR
VERSION:2.0
PRODID:-//SCFD - ECPv6.15.18//NONSGML v1.0//EN
CALSCALE:GREGORIAN
METHOD:PUBLISH
X-ORIGINAL-URL:https://scfd.org/es/
X-WR-CALDESC:Eventos para SCFD
REFRESH-INTERVAL;VALUE=DURATION:PT1H
X-Robots-Tag:noindex
X-PUBLISHED-TTL:PT1H
BEGIN:VTIMEZONE
TZID:America/Denver
BEGIN:DAYLIGHT
TZOFFSETFROM:-0700
TZOFFSETTO:-0600
TZNAME:MDT
DTSTART:20230312T090000
END:DAYLIGHT
BEGIN:STANDARD
TZOFFSETFROM:-0600
TZOFFSETTO:-0700
TZNAME:MST
DTSTART:20231105T080000
END:STANDARD
BEGIN:DAYLIGHT
TZOFFSETFROM:-0700
TZOFFSETTO:-0600
TZNAME:MDT
DTSTART:20240310T090000
END:DAYLIGHT
BEGIN:STANDARD
TZOFFSETFROM:-0600
TZOFFSETTO:-0700
TZNAME:MST
DTSTART:20241103T080000
END:STANDARD
BEGIN:DAYLIGHT
TZOFFSETFROM:-0700
TZOFFSETTO:-0600
TZNAME:MDT
DTSTART:20250309T090000
END:DAYLIGHT
BEGIN:STANDARD
TZOFFSETFROM:-0600
TZOFFSETTO:-0700
TZNAME:MST
DTSTART:20251102T080000
END:STANDARD
END:VTIMEZONE
BEGIN:VEVENT
DTSTART;VALUE=DATE:20241101
DTEND;VALUE=DATE:20241124
DTSTAMP:20260423T184841
CREATED:20241025T171429Z
LAST-MODIFIED:20241025T171429Z
UID:10008678-1730419200-1732406399@scfd.org
SUMMARY:Ojos arriba\, boca abierta
DESCRIPTION:
URL:https://scfd.org/es/event/ojos-arriba-boca-abierta/
END:VEVENT
BEGIN:VEVENT
DTSTART;TZID=America/Denver:20241101T100000
DTEND;TZID=America/Denver:20241101T160000
DTSTAMP:20260423T184841
CREATED:20231214T221040Z
LAST-MODIFIED:20231214T221040Z
UID:10006763-1730455200-1730476800@scfd.org
SUMMARY:Días gratis en el zoológico de Denver
DESCRIPTION:
URL:https://scfd.org/es/event/dias-gratis-en-el-zoologico-de-denver-7/2024-11-01/
END:VEVENT
BEGIN:VEVENT
DTSTART;TZID=America/Denver:20241101T100000
DTEND;TZID=America/Denver:20241101T160000
DTSTAMP:20260423T184841
CREATED:20231214T221248Z
LAST-MODIFIED:20231214T221248Z
UID:10006797-1730455200-1730476800@scfd.org
SUMMARY:Días gratis en el zoológico de Denver
DESCRIPTION:
URL:https://scfd.org/es/event/dias-gratis-en-el-zoologico-de-denver-8/2024-11-01/
END:VEVENT
BEGIN:VEVENT
DTSTART;TZID=America/Denver:20241101T100000
DTEND;TZID=America/Denver:20241101T160000
DTSTAMP:20260423T184841
CREATED:20231214T221844Z
LAST-MODIFIED:20231214T221844Z
UID:10006834-1730455200-1730476800@scfd.org
SUMMARY:Días gratis en el zoológico de Denver
DESCRIPTION:
URL:https://scfd.org/es/event/dias-gratis-en-el-zoologico-de-denver-9/2024-11-01/
END:VEVENT
BEGIN:VEVENT
DTSTART;TZID=America/Denver:20241101T100000
DTEND;TZID=America/Denver:20241101T160000
DTSTAMP:20260423T184841
CREATED:20231214T223843Z
LAST-MODIFIED:20231214T223843Z
UID:10006910-1730455200-1730476800@scfd.org
SUMMARY:Días gratis en el zoológico de Denver
DESCRIPTION:
URL:https://scfd.org/es/event/dias-gratis-en-el-zoologico-de-denver-10/2024-11-01/
END:VEVENT
BEGIN:VEVENT
DTSTART;TZID=America/Denver:20241101T100000
DTEND;TZID=America/Denver:20241101T160000
DTSTAMP:20260423T184841
CREATED:20231214T230138Z
LAST-MODIFIED:20231214T230138Z
UID:10008271-1730455200-1730476800@scfd.org
SUMMARY:Días gratis en el zoológico de Denver
DESCRIPTION:
URL:https://scfd.org/es/event/dias-gratis-en-el-zoologico-de-denver-11/2024-11-01/
END:VEVENT
BEGIN:VEVENT
DTSTART;TZID=America/Denver:20241101T100000
DTEND;TZID=America/Denver:20241101T160000
DTSTAMP:20260423T184841
CREATED:20231214T230357Z
LAST-MODIFIED:20231214T230357Z
UID:10008309-1730455200-1730476800@scfd.org
SUMMARY:Días gratis en el zoológico de Denver
DESCRIPTION:
URL:https://scfd.org/es/event/dias-gratis-en-el-zoologico-de-denver-12/2024-11-01/
END:VEVENT
BEGIN:VEVENT
DTSTART;TZID=America/Denver:20241101T100000
DTEND;TZID=America/Denver:20241101T160000
DTSTAMP:20260423T184842
CREATED:20231214T230448Z
LAST-MODIFIED:20231214T230448Z
UID:10008349-1730455200-1730476800@scfd.org
SUMMARY:Días gratis en el zoológico de Denver
DESCRIPTION:
URL:https://scfd.org/es/event/dias-gratis-en-el-zoologico-de-denver-13/2024-11-01/
END:VEVENT
BEGIN:VEVENT
DTSTART;TZID=America/Denver:20241101T170000
DTEND;TZID=America/Denver:20241101T190000
DTSTAMP:20260423T184842
CREATED:20240812T185326Z
LAST-MODIFIED:20240812T185326Z
UID:10008625-1730480400-1730487600@scfd.org
SUMMARY:Recepción de Clausura de la Exhibición del Día de los Muertos
DESCRIPTION:
URL:https://scfd.org/es/event/recepcion-de-clausura-de-la-exhibicion-del-dia-de-los-muertos/
END:VEVENT
BEGIN:VEVENT
DTSTART;TZID=America/Denver:20241101T170000
DTEND;TZID=America/Denver:20241101T220000
DTSTAMP:20260423T184842
CREATED:20241025T171411Z
LAST-MODIFIED:20241025T171411Z
UID:10007157-1730480400-1730498400@scfd.org
SUMMARY:Noche en los Museos
DESCRIPTION:
URL:https://scfd.org/es/event/noche-en-los-museos-2/
END:VEVENT
END:VCALENDAR