BEGIN:VCALENDAR
VERSION:2.0
PRODID:-//SCFD - ECPv6.15.18//NONSGML v1.0//EN
CALSCALE:GREGORIAN
METHOD:PUBLISH
X-WR-CALNAME:SCFD
X-ORIGINAL-URL:https://scfd.org/es/
X-WR-CALDESC:Eventos para SCFD
REFRESH-INTERVAL;VALUE=DURATION:PT1H
X-Robots-Tag:noindex
X-PUBLISHED-TTL:PT1H
BEGIN:VTIMEZONE
TZID:America/Denver
BEGIN:DAYLIGHT
TZOFFSETFROM:-0700
TZOFFSETTO:-0600
TZNAME:MDT
DTSTART:20240310T090000
END:DAYLIGHT
BEGIN:STANDARD
TZOFFSETFROM:-0600
TZOFFSETTO:-0700
TZNAME:MST
DTSTART:20241103T080000
END:STANDARD
BEGIN:DAYLIGHT
TZOFFSETFROM:-0700
TZOFFSETTO:-0600
TZNAME:MDT
DTSTART:20250309T090000
END:DAYLIGHT
BEGIN:STANDARD
TZOFFSETFROM:-0600
TZOFFSETTO:-0700
TZNAME:MST
DTSTART:20251102T080000
END:STANDARD
BEGIN:DAYLIGHT
TZOFFSETFROM:-0700
TZOFFSETTO:-0600
TZNAME:MDT
DTSTART:20260308T090000
END:DAYLIGHT
BEGIN:STANDARD
TZOFFSETFROM:-0600
TZOFFSETTO:-0700
TZNAME:MST
DTSTART:20261101T080000
END:STANDARD
END:VTIMEZONE
BEGIN:VEVENT
DTSTART;TZID=America/Denver:20250605T180000
DTEND;TZID=America/Denver:20250605T200000
DTSTAMP:20260424T164938
CREATED:20250523T222136Z
LAST-MODIFIED:20250523T222136Z
UID:10008933-1749146400-1749153600@scfd.org
SUMMARY:Exposición de arte: 34ª Exposición Estatal Anual de la Sociedad de Acuarela de Colorado (CWS). Está invitado a una noche especial para celebrar esta exhibición con jurado el 5 de junio de 6:00 a 8:00 p.m. en la Galería del Centro PACE. Disfruta de la música en vivo de Rick Vaught y refrigerios ligeros mientras admiras la excelencia creativa y la diversidad del arte de la acuarela en Colorado.
DESCRIPTION:
URL:https://scfd.org/es/event/exposicion-de-arte-34a-exposicion-estatal-anual-de-la-sociedad-de-acuarela-de-colorado-cws-esta-invitado-a-una-noche-especial-para-celebrar-esta-exhibicion-con-jurado-el-5-de-junio-de-600-a-800/
END:VEVENT
END:VCALENDAR