BEGIN:VCALENDAR
VERSION:2.0
PRODID:-//SCFD - ECPv6.15.18//NONSGML v1.0//EN
CALSCALE:GREGORIAN
METHOD:PUBLISH
X-ORIGINAL-URL:https://scfd.org/es/
X-WR-CALDESC:Eventos para SCFD
REFRESH-INTERVAL;VALUE=DURATION:PT1H
X-Robots-Tag:noindex
X-PUBLISHED-TTL:PT1H
BEGIN:VTIMEZONE
TZID:America/Denver
BEGIN:DAYLIGHT
TZOFFSETFROM:-0700
TZOFFSETTO:-0600
TZNAME:MDT
DTSTART:20240310T090000
END:DAYLIGHT
BEGIN:STANDARD
TZOFFSETFROM:-0600
TZOFFSETTO:-0700
TZNAME:MST
DTSTART:20241103T080000
END:STANDARD
BEGIN:DAYLIGHT
TZOFFSETFROM:-0700
TZOFFSETTO:-0600
TZNAME:MDT
DTSTART:20250309T090000
END:DAYLIGHT
BEGIN:STANDARD
TZOFFSETFROM:-0600
TZOFFSETTO:-0700
TZNAME:MST
DTSTART:20251102T080000
END:STANDARD
BEGIN:DAYLIGHT
TZOFFSETFROM:-0700
TZOFFSETTO:-0600
TZNAME:MDT
DTSTART:20260308T090000
END:DAYLIGHT
BEGIN:STANDARD
TZOFFSETFROM:-0600
TZOFFSETTO:-0700
TZNAME:MST
DTSTART:20261101T080000
END:STANDARD
END:VTIMEZONE
BEGIN:VEVENT
DTSTART;VALUE=DATE:20250613
DTEND;VALUE=DATE:20250614
DTSTAMP:20260425T144055
CREATED:20250515T193449Z
LAST-MODIFIED:20250515T193449Z
UID:10007511-1749772800-1749859199@scfd.org
SUMMARY:INSPIRE Artes Lakewood
DESCRIPTION:
URL:https://scfd.org/es/event/inspire-artes-lakewood/2025-06-13/
END:VEVENT
BEGIN:VEVENT
DTSTART;TZID=America/Denver:20250613T183000
DTEND;TZID=America/Denver:20250613T203000
DTSTAMP:20260425T144055
CREATED:20250523T221809Z
LAST-MODIFIED:20250523T221809Z
UID:10008927-1749839400-1749846600@scfd.org
SUMMARY:Voces Sagradas EN VIVO
DESCRIPTION:
URL:https://scfd.org/es/event/voces-sagradas-en-vivo/2025-06-13/
END:VEVENT
END:VCALENDAR