BEGIN:VCALENDAR
VERSION:2.0
PRODID:-//SCFD - ECPv6.15.18//NONSGML v1.0//EN
CALSCALE:GREGORIAN
METHOD:PUBLISH
X-ORIGINAL-URL:https://scfd.org/es/
X-WR-CALDESC:Eventos para SCFD
REFRESH-INTERVAL;VALUE=DURATION:PT1H
X-Robots-Tag:noindex
X-PUBLISHED-TTL:PT1H
BEGIN:VTIMEZONE
TZID:America/Denver
BEGIN:DAYLIGHT
TZOFFSETFROM:-0700
TZOFFSETTO:-0600
TZNAME:MDT
DTSTART:20200308T090000
END:DAYLIGHT
BEGIN:STANDARD
TZOFFSETFROM:-0600
TZOFFSETTO:-0700
TZNAME:MST
DTSTART:20201101T080000
END:STANDARD
BEGIN:DAYLIGHT
TZOFFSETFROM:-0700
TZOFFSETTO:-0600
TZNAME:MDT
DTSTART:20210314T090000
END:DAYLIGHT
BEGIN:STANDARD
TZOFFSETFROM:-0600
TZOFFSETTO:-0700
TZNAME:MST
DTSTART:20211107T080000
END:STANDARD
BEGIN:DAYLIGHT
TZOFFSETFROM:-0700
TZOFFSETTO:-0600
TZNAME:MDT
DTSTART:20220313T090000
END:DAYLIGHT
BEGIN:STANDARD
TZOFFSETFROM:-0600
TZOFFSETTO:-0700
TZNAME:MST
DTSTART:20221106T080000
END:STANDARD
END:VTIMEZONE
BEGIN:VEVENT
DTSTART;TZID=America/Denver:20210216T100000
DTEND;TZID=America/Denver:20210216T170000
DTSTAMP:20260424T154906
CREATED:20210218T190434Z
LAST-MODIFIED:20210218T190957Z
UID:10006047-1613469600-1613494800@scfd.org
SUMMARY:Días libres de SCFD
DESCRIPTION:
URL:https://scfd.org/es/event/dias-libres-de-scfd-9/
CATEGORIES:Día libre
END:VEVENT
BEGIN:VEVENT
DTSTART;TZID=America/Denver:20210214T090000
DTEND;TZID=America/Denver:20210214T170000
DTSTAMP:20260424T154906
CREATED:20210218T190434Z
LAST-MODIFIED:20210218T191003Z
UID:10006097-1613293200-1613322000@scfd.org
SUMMARY:Compartir los días de amor (días libres de la comunidad del zoológico de Denver)
DESCRIPTION:
URL:https://scfd.org/es/event/compartir-los-dias-de-amor-dias-libres-de-la-comunidad-del-zoologico-de-denver-2/
END:VEVENT
BEGIN:VEVENT
DTSTART;TZID=America/Denver:20210208T090000
DTEND;TZID=America/Denver:20210208T170000
DTSTAMP:20260424T154906
CREATED:20210218T191038Z
LAST-MODIFIED:20210218T191038Z
UID:10006101-1612774800-1612803600@scfd.org
SUMMARY:Día libre de DMNS
DESCRIPTION:
URL:https://scfd.org/es/event/dia-libre-de-dmns-4/
END:VEVENT
BEGIN:VEVENT
DTSTART;TZID=America/Denver:20210205T120000
DTEND;TZID=America/Denver:20210205T210000
DTSTAMP:20260424T154906
CREATED:20210218T191042Z
LAST-MODIFIED:20210218T191042Z
UID:10006102-1612526400-1612558800@scfd.org
SUMMARY:Primer viernes gratis
DESCRIPTION:
URL:https://scfd.org/es/event/primer-viernes-gratis/
END:VEVENT
END:VCALENDAR