BEGIN:VCALENDAR
VERSION:2.0
PRODID:-//SCFD - ECPv6.15.18//NONSGML v1.0//EN
CALSCALE:GREGORIAN
METHOD:PUBLISH
X-ORIGINAL-URL:https://scfd.org/es/
X-WR-CALDESC:Eventos para SCFD
REFRESH-INTERVAL;VALUE=DURATION:PT1H
X-Robots-Tag:noindex
X-PUBLISHED-TTL:PT1H
BEGIN:VTIMEZONE
TZID:America/Denver
BEGIN:DAYLIGHT
TZOFFSETFROM:-0700
TZOFFSETTO:-0600
TZNAME:MDT
DTSTART:20210314T090000
END:DAYLIGHT
BEGIN:STANDARD
TZOFFSETFROM:-0600
TZOFFSETTO:-0700
TZNAME:MST
DTSTART:20211107T080000
END:STANDARD
BEGIN:DAYLIGHT
TZOFFSETFROM:-0700
TZOFFSETTO:-0600
TZNAME:MDT
DTSTART:20220313T090000
END:DAYLIGHT
BEGIN:STANDARD
TZOFFSETFROM:-0600
TZOFFSETTO:-0700
TZNAME:MST
DTSTART:20221106T080000
END:STANDARD
BEGIN:DAYLIGHT
TZOFFSETFROM:-0700
TZOFFSETTO:-0600
TZNAME:MDT
DTSTART:20230312T090000
END:DAYLIGHT
BEGIN:STANDARD
TZOFFSETFROM:-0600
TZOFFSETTO:-0700
TZNAME:MST
DTSTART:20231105T080000
END:STANDARD
END:VTIMEZONE
BEGIN:VEVENT
DTSTART;TZID=America/Denver:20221216T100000
DTEND;TZID=America/Denver:20221216T160000
DTSTAMP:20260422T180959
CREATED:20220325T162222Z
LAST-MODIFIED:20221216T181720Z
UID:10006128-1671184800-1671206400@scfd.org
SUMMARY:Días libres de SCFD en Four Mile Historic Park
DESCRIPTION:
URL:https://scfd.org/es/event/dias-libres-de-scfd-en-four-mile-historic-park/
END:VEVENT
BEGIN:VEVENT
DTSTART;TZID=America/Denver:20221215T100000
DTEND;TZID=America/Denver:20221215T150000
DTSTAMP:20260422T180959
CREATED:20211202T032605Z
LAST-MODIFIED:20211202T032605Z
UID:10006295-1671098400-1671116400@scfd.org
SUMMARY:Días libres de SCFD en el Centro de Conservación de plains
DESCRIPTION:
URL:https://scfd.org/es/event/dias-libres-de-scfd-en-el-centro-de-conservacion-de-plains-8/
END:VEVENT
BEGIN:VEVENT
DTSTART;TZID=America/Denver:20221213T100000
DTEND;TZID=America/Denver:20221213T210000
DTSTAMP:20260422T180959
CREATED:20220325T162231Z
LAST-MODIFIED:20220325T162231Z
UID:10006130-1670925600-1670965200@scfd.org
SUMMARY:Día libre de SCFD en el Museo de Arte de Denver
DESCRIPTION:
URL:https://scfd.org/es/event/dia-libre-de-scfd-en-el-museo-de-arte-de-denver/
END:VEVENT
BEGIN:VEVENT
DTSTART;TZID=America/Denver:20221210T090000
DTEND;TZID=America/Denver:20221210T170000
DTSTAMP:20260422T180959
CREATED:20221216T181749Z
LAST-MODIFIED:20221216T181749Z
UID:10007121-1670662800-1670691600@scfd.org
SUMMARY:Día libre
DESCRIPTION:
URL:https://scfd.org/es/event/dia-libre/2022-12-10/
END:VEVENT
BEGIN:VEVENT
DTSTART;TZID=America/Denver:20221207T100000
DTEND;TZID=America/Denver:20221207T170000
DTSTAMP:20260422T180959
CREATED:20221216T181758Z
LAST-MODIFIED:20221216T181758Z
UID:10007122-1670407200-1670432400@scfd.org
SUMMARY:Entrada gratuita el primer miércoles del mes\, de noviembre a abril
DESCRIPTION:
URL:https://scfd.org/es/event/entrada-gratuita-el-primer-miercoles-del-mes-de-noviembre-a-abril-5/2022-12-07/
END:VEVENT
BEGIN:VEVENT
DTSTART;TZID=America/Denver:20221207T100000
DTEND;TZID=America/Denver:20221207T170000
DTSTAMP:20260422T180959
CREATED:20221216T181656Z
LAST-MODIFIED:20221216T181656Z
UID:10007112-1670407200-1670432400@scfd.org
SUMMARY:Entrada gratuita el primer miércoles del mes\, de noviembre a abril
DESCRIPTION:
URL:https://scfd.org/es/event/entrada-gratuita-el-primer-miercoles-del-mes-de-noviembre-a-abril-4/2022-12-07/
END:VEVENT
BEGIN:VEVENT
DTSTART;TZID=America/Denver:20221207T100000
DTEND;TZID=America/Denver:20221207T170000
DTSTAMP:20260422T180959
CREATED:20221216T181615Z
LAST-MODIFIED:20221216T181615Z
UID:10007106-1670407200-1670432400@scfd.org
SUMMARY:Entrada gratuita el primer miércoles del mes\, de noviembre a abril
DESCRIPTION:
URL:https://scfd.org/es/event/entrada-gratuita-el-primer-miercoles-del-mes-de-noviembre-a-abril-3/2022-12-07/
END:VEVENT
BEGIN:VEVENT
DTSTART;TZID=America/Denver:20221207T100000
DTEND;TZID=America/Denver:20221207T170000
DTSTAMP:20260422T180959
CREATED:20221216T181537Z
LAST-MODIFIED:20221216T181537Z
UID:10007088-1670407200-1670432400@scfd.org
SUMMARY:Entrada gratuita el primer miércoles del mes\, de noviembre a abril
DESCRIPTION:
URL:https://scfd.org/es/event/entrada-gratuita-el-primer-miercoles-del-mes-de-noviembre-a-abril-2/2022-12-07/
END:VEVENT
BEGIN:VEVENT
DTSTART;TZID=America/Denver:20221207T100000
DTEND;TZID=America/Denver:20221207T170000
DTSTAMP:20260422T180959
CREATED:20221216T180715Z
LAST-MODIFIED:20221216T180715Z
UID:10007057-1670407200-1670432400@scfd.org
SUMMARY:Entrada gratuita el primer miércoles del mes\, de noviembre a abril
DESCRIPTION:
URL:https://scfd.org/es/event/entrada-gratuita-el-primer-miercoles-del-mes-de-noviembre-a-abril/2022-12-07/
END:VEVENT
BEGIN:VEVENT
DTSTART;TZID=America/Denver:20221207T100000
DTEND;TZID=America/Denver:20221207T170000
DTSTAMP:20260422T180959
CREATED:20220415T221144Z
LAST-MODIFIED:20220415T221144Z
UID:10006633-1670407200-1670432400@scfd.org
SUMMARY:Día Libre de SCFD
DESCRIPTION:
URL:https://scfd.org/es/event/dia-libre-de-scfd-4/2022-12-07/
END:VEVENT
BEGIN:VEVENT
DTSTART;TZID=America/Denver:20221207T100000
DTEND;TZID=America/Denver:20221207T170000
DTSTAMP:20260422T180959
CREATED:20220415T221134Z
LAST-MODIFIED:20220415T221134Z
UID:10006622-1670407200-1670432400@scfd.org
SUMMARY:Día Libre de SCFD
DESCRIPTION:
URL:https://scfd.org/es/event/dia-libre-de-scfd-3/2022-12-07/
END:VEVENT
BEGIN:VEVENT
DTSTART;TZID=America/Denver:20221207T100000
DTEND;TZID=America/Denver:20221207T170000
DTSTAMP:20260422T180959
CREATED:20220415T221053Z
LAST-MODIFIED:20220415T221053Z
UID:10006599-1670407200-1670432400@scfd.org
SUMMARY:Día Libre de SCFD
DESCRIPTION:
URL:https://scfd.org/es/event/dia-libre-de-scfd-2/2022-12-07/
END:VEVENT
BEGIN:VEVENT
DTSTART;TZID=America/Denver:20221207T100000
DTEND;TZID=America/Denver:20221207T170000
DTSTAMP:20260422T180959
CREATED:20220415T221028Z
LAST-MODIFIED:20220415T221028Z
UID:10006552-1670407200-1670432400@scfd.org
SUMMARY:Día Libre de SCFD
DESCRIPTION:
URL:https://scfd.org/es/event/dia-libre-de-scfd/2022-12-07/
END:VEVENT
BEGIN:VEVENT
DTSTART;TZID=America/Denver:20221206T130000
DTEND;TZID=America/Denver:20221206T150000
DTSTAMP:20260422T180959
CREATED:20210218T191056Z
LAST-MODIFIED:20220121T023036Z
UID:10006113-1670331600-1670338800@scfd.org
SUMMARY:RMQ English Paper Piecing - Clase gratuita
DESCRIPTION:
URL:https://scfd.org/es/event/rmq-english-paper-piecing-clase-gratuita-2/2022-12-06/
END:VEVENT
BEGIN:VEVENT
DTSTART;TZID=America/Denver:20221205T090000
DTEND;TZID=America/Denver:20221205T170000
DTSTAMP:20260422T180959
CREATED:20220121T023158Z
LAST-MODIFIED:20220415T221318Z
UID:10006078-1670230800-1670259600@scfd.org
SUMMARY:Días libres de SCFD 2022 en DMNS
DESCRIPTION:
URL:https://scfd.org/es/event/dias-libres-de-scfd-2022-5/2022-12-05/
END:VEVENT
BEGIN:VEVENT
DTSTART;TZID=America/Denver:20221203T193000
DTEND;TZID=America/Denver:20221203T204500
DTSTAMP:20260422T180959
CREATED:20221216T181841Z
LAST-MODIFIED:20221216T181841Z
UID:10007127-1670095800-1670100300@scfd.org
SUMMARY:Concierto: "The 90's - Concert Memories\, con la Cherokee Trails High School Band
DESCRIPTION:
URL:https://scfd.org/es/event/concierto-the-90s-concert-memories-con-la-cherokee-trails-high-school-band/
END:VEVENT
BEGIN:VEVENT
DTSTART;TZID=America/Denver:20221203T100000
DTEND;TZID=America/Denver:20221203T160000
DTSTAMP:20260422T180959
CREATED:20221216T181906Z
LAST-MODIFIED:20221216T181906Z
UID:10007130-1670061600-1670083200@scfd.org
SUMMARY:Winterfest 2022 - Mercado anual de regalos artesanales y festival navideño
DESCRIPTION:
URL:https://scfd.org/es/event/winterfest-2022-mercado-anual-de-regalos-artesanales-y-festival-navideno/
END:VEVENT
BEGIN:VEVENT
DTSTART;VALUE=DATE:20221125
DTEND;VALUE=DATE:20221126
DTSTAMP:20260422T180959
CREATED:20220121T023150Z
LAST-MODIFIED:20220121T023150Z
UID:10006069-1669334400-1669420799@scfd.org
SUMMARY:Días libres de SCFD en York St & Chatfield Farms
DESCRIPTION:
URL:https://scfd.org/es/event/dias-libres-de-scfd-en-york-st-chatfield-farms-2/2022-11-25/
END:VEVENT
BEGIN:VEVENT
DTSTART;VALUE=DATE:20221125
DTEND;VALUE=DATE:20221126
DTSTAMP:20260422T180959
CREATED:20220120T230550Z
LAST-MODIFIED:20220120T230551Z
UID:10006414-1669334400-1669420799@scfd.org
SUMMARY:Días libres de SCFD en York St & Chatfield Farms
DESCRIPTION:
URL:https://scfd.org/es/event/dias-libres-de-scfd-en-york-st-chatfield-farms/2022-11-25/
END:VEVENT
BEGIN:VEVENT
DTSTART;TZID=America/Denver:20221120T100000
DTEND;TZID=America/Denver:20221120T160000
DTSTAMP:20260422T180959
CREATED:20220415T221147Z
LAST-MODIFIED:20220415T221313Z
UID:10006643-1668938400-1668960000@scfd.org
SUMMARY:Días libres de SCFD en Four Mile Historic Park
DESCRIPTION:
URL:https://scfd.org/es/event/dias-libres-de-scfd-en-four-mile-historic-park-5/2022-11-20/
END:VEVENT
BEGIN:VEVENT
DTSTART;TZID=America/Denver:20221120T100000
DTEND;TZID=America/Denver:20221120T160000
DTSTAMP:20260422T180959
CREATED:20220415T221131Z
LAST-MODIFIED:20220415T221131Z
UID:10006611-1668938400-1668960000@scfd.org
SUMMARY:Días libres de SCFD en Four Mile Historic Park
DESCRIPTION:
URL:https://scfd.org/es/event/dias-libres-de-scfd-en-four-mile-historic-park-3/2022-11-20/
END:VEVENT
BEGIN:VEVENT
DTSTART;TZID=America/Denver:20221120T100000
DTEND;TZID=America/Denver:20221120T160000
DTSTAMP:20260422T180959
CREATED:20220415T221013Z
LAST-MODIFIED:20220415T221013Z
UID:10006507-1668938400-1668960000@scfd.org
SUMMARY:Días libres de SCFD en Four Mile Historic Park
DESCRIPTION:
URL:https://scfd.org/es/event/dias-libres-de-scfd-en-four-mile-historic-park-2/2022-11-20/
END:VEVENT
BEGIN:VEVENT
DTSTART;TZID=America/Denver:20221119T193000
DTEND;TZID=America/Denver:20221119T213000
DTSTAMP:20260422T180959
CREATED:20230103T214516Z
LAST-MODIFIED:20230103T214516Z
UID:10007140-1668886200-1668893400@scfd.org
SUMMARY:Apoteosis de la danza
DESCRIPTION:
URL:https://scfd.org/es/event/apoteosis-de-la-danza/
END:VEVENT
BEGIN:VEVENT
DTSTART;TZID=America/Denver:20221119T100000
DTEND;TZID=America/Denver:20221119T150000
DTSTAMP:20260422T180959
CREATED:20211202T032604Z
LAST-MODIFIED:20211202T032604Z
UID:10006293-1668852000-1668870000@scfd.org
SUMMARY:Días libres de SCFD en el Centro de Conservación de plains
DESCRIPTION:
URL:https://scfd.org/es/event/dias-libres-de-scfd-en-el-centro-de-conservacion-de-plains-7/
END:VEVENT
BEGIN:VEVENT
DTSTART;TZID=America/Denver:20221118T090000
DTEND;TZID=America/Denver:20221118T160000
DTSTAMP:20260422T180959
CREATED:20220415T221255Z
LAST-MODIFIED:20220415T221255Z
UID:10006192-1668762000-1668787200@scfd.org
SUMMARY:Día libre de SCFD en Dinosaur Ridge
DESCRIPTION:
URL:https://scfd.org/es/event/dia-libre-de-scfd-en-dinosaur-ridge-2/2022-11-18/
END:VEVENT
BEGIN:VEVENT
DTSTART;TZID=America/Denver:20221118T090000
DTEND;TZID=America/Denver:20221118T160000
DTSTAMP:20260422T180959
CREATED:20220415T221232Z
LAST-MODIFIED:20220415T221234Z
UID:10006152-1668762000-1668787200@scfd.org
SUMMARY:Día libre de SCFD en Dinosaur Ridge
DESCRIPTION:
URL:https://scfd.org/es/event/dia-libre-de-scfd-en-dinosaur-ridge/2022-11-18/
END:VEVENT
BEGIN:VEVENT
DTSTART;TZID=America/Denver:20221112T090000
DTEND;TZID=America/Denver:20221112T170000
DTSTAMP:20260422T180959
CREATED:20221216T181749Z
LAST-MODIFIED:20221216T181749Z
UID:10007120-1668243600-1668272400@scfd.org
SUMMARY:Día libre
DESCRIPTION:
URL:https://scfd.org/es/event/dia-libre/2022-11-12/
END:VEVENT
BEGIN:VEVENT
DTSTART;TZID=America/Denver:20221108T100000
DTEND;TZID=America/Denver:20221108T210000
DTSTAMP:20260422T180959
CREATED:20220415T221428Z
LAST-MODIFIED:20220415T221836Z
UID:10006227-1667901600-1667941200@scfd.org
SUMMARY:Día libre de SCFD en el Museo de Arte de Denver
DESCRIPTION:
URL:https://scfd.org/es/event/dia-libre-de-scfd-en-el-museo-de-arte-de-denver-3/
END:VEVENT
BEGIN:VEVENT
DTSTART;TZID=America/Denver:20221105T100000
DTEND;TZID=America/Denver:20221105T220000
DTSTAMP:20260422T180959
CREATED:20220415T221604Z
LAST-MODIFIED:20220415T221604Z
UID:10006672-1667642400-1667685600@scfd.org
SUMMARY:SCFD Gratis Día y Noche en los Museos
DESCRIPTION:
URL:https://scfd.org/es/event/scfd-gratis-dia-y-noche-en-los-museos/
END:VEVENT
BEGIN:VEVENT
DTSTART;TZID=America/Denver:20221105T100000
DTEND;TZID=America/Denver:20221105T170000
DTSTAMP:20260422T180959
CREATED:20220415T221144Z
LAST-MODIFIED:20220415T221144Z
UID:10006632-1667642400-1667667600@scfd.org
SUMMARY:Día Libre de SCFD
DESCRIPTION:
URL:https://scfd.org/es/event/dia-libre-de-scfd-4/2022-11-05/
END:VEVENT
END:VCALENDAR