BEGIN:VCALENDAR
VERSION:2.0
PRODID:-//SCFD - ECPv6.15.18//NONSGML v1.0//EN
CALSCALE:GREGORIAN
METHOD:PUBLISH
X-ORIGINAL-URL:https://scfd.org/es/
X-WR-CALDESC:Eventos para SCFD
REFRESH-INTERVAL;VALUE=DURATION:PT1H
X-Robots-Tag:noindex
X-PUBLISHED-TTL:PT1H
BEGIN:VTIMEZONE
TZID:America/Denver
BEGIN:DAYLIGHT
TZOFFSETFROM:-0700
TZOFFSETTO:-0600
TZNAME:MDT
DTSTART:20230312T090000
END:DAYLIGHT
BEGIN:STANDARD
TZOFFSETFROM:-0600
TZOFFSETTO:-0700
TZNAME:MST
DTSTART:20231105T080000
END:STANDARD
BEGIN:DAYLIGHT
TZOFFSETFROM:-0700
TZOFFSETTO:-0600
TZNAME:MDT
DTSTART:20240310T090000
END:DAYLIGHT
BEGIN:STANDARD
TZOFFSETFROM:-0600
TZOFFSETTO:-0700
TZNAME:MST
DTSTART:20241103T080000
END:STANDARD
BEGIN:DAYLIGHT
TZOFFSETFROM:-0700
TZOFFSETTO:-0600
TZNAME:MDT
DTSTART:20250309T090000
END:DAYLIGHT
BEGIN:STANDARD
TZOFFSETFROM:-0600
TZOFFSETTO:-0700
TZNAME:MST
DTSTART:20251102T080000
END:STANDARD
END:VTIMEZONE
BEGIN:VEVENT
DTSTART;TZID=America/Denver:20240404T190000
DTEND;TZID=America/Denver:20240404T210000
DTSTAMP:20260421T213009
CREATED:20240312T234422Z
LAST-MODIFIED:20240312T234422Z
UID:10008525-1712257200-1712264400@scfd.org
SUMMARY:El Arts HUB y la Caravana Cultural presentan una clase magistral con Art Lande
DESCRIPTION:
URL:https://scfd.org/es/event/el-arts-hub-y-la-caravana-cultural-presentan-una-clase-magistral-con-art-lande/
END:VEVENT
BEGIN:VEVENT
DTSTART;TZID=America/Denver:20240407T100000
DTEND;TZID=America/Denver:20240407T160000
DTSTAMP:20260421T213009
CREATED:20231214T221040Z
LAST-MODIFIED:20231214T221040Z
UID:10006762-1712484000-1712505600@scfd.org
SUMMARY:Días gratis en el zoológico de Denver
DESCRIPTION:
URL:https://scfd.org/es/event/dias-gratis-en-el-zoologico-de-denver-7/2024-04-07/
END:VEVENT
BEGIN:VEVENT
DTSTART;TZID=America/Denver:20240407T100000
DTEND;TZID=America/Denver:20240407T160000
DTSTAMP:20260421T213009
CREATED:20231214T221248Z
LAST-MODIFIED:20231214T221248Z
UID:10006796-1712484000-1712505600@scfd.org
SUMMARY:Días gratis en el zoológico de Denver
DESCRIPTION:
URL:https://scfd.org/es/event/dias-gratis-en-el-zoologico-de-denver-8/2024-04-07/
END:VEVENT
BEGIN:VEVENT
DTSTART;TZID=America/Denver:20240407T100000
DTEND;TZID=America/Denver:20240407T160000
DTSTAMP:20260421T213009
CREATED:20231214T221844Z
LAST-MODIFIED:20231214T221844Z
UID:10006833-1712484000-1712505600@scfd.org
SUMMARY:Días gratis en el zoológico de Denver
DESCRIPTION:
URL:https://scfd.org/es/event/dias-gratis-en-el-zoologico-de-denver-9/2024-04-07/
END:VEVENT
BEGIN:VEVENT
DTSTART;TZID=America/Denver:20240407T100000
DTEND;TZID=America/Denver:20240407T160000
DTSTAMP:20260421T213009
CREATED:20231214T223843Z
LAST-MODIFIED:20231214T223843Z
UID:10006909-1712484000-1712505600@scfd.org
SUMMARY:Días gratis en el zoológico de Denver
DESCRIPTION:
URL:https://scfd.org/es/event/dias-gratis-en-el-zoologico-de-denver-10/2024-04-07/
END:VEVENT
BEGIN:VEVENT
DTSTART;TZID=America/Denver:20240407T100000
DTEND;TZID=America/Denver:20240407T160000
DTSTAMP:20260421T213009
CREATED:20231214T230138Z
LAST-MODIFIED:20231214T230138Z
UID:10008270-1712484000-1712505600@scfd.org
SUMMARY:Días gratis en el zoológico de Denver
DESCRIPTION:
URL:https://scfd.org/es/event/dias-gratis-en-el-zoologico-de-denver-11/2024-04-07/
END:VEVENT
BEGIN:VEVENT
DTSTART;TZID=America/Denver:20240407T100000
DTEND;TZID=America/Denver:20240407T160000
DTSTAMP:20260421T213009
CREATED:20231214T230357Z
LAST-MODIFIED:20231214T230357Z
UID:10008308-1712484000-1712505600@scfd.org
SUMMARY:Días gratis en el zoológico de Denver
DESCRIPTION:
URL:https://scfd.org/es/event/dias-gratis-en-el-zoologico-de-denver-12/2024-04-07/
END:VEVENT
BEGIN:VEVENT
DTSTART;TZID=America/Denver:20240407T100000
DTEND;TZID=America/Denver:20240407T160000
DTSTAMP:20260421T213009
CREATED:20231214T230448Z
LAST-MODIFIED:20231214T230448Z
UID:10008348-1712484000-1712505600@scfd.org
SUMMARY:Días gratis en el zoológico de Denver
DESCRIPTION:
URL:https://scfd.org/es/event/dias-gratis-en-el-zoologico-de-denver-13/2024-04-07/
END:VEVENT
BEGIN:VEVENT
DTSTART;TZID=America/Denver:20240409T100000
DTEND;TZID=America/Denver:20240409T200000
DTSTAMP:20260421T213009
CREATED:20231214T230435Z
LAST-MODIFIED:20231214T230435Z
UID:10008332-1712656800-1712692800@scfd.org
SUMMARY:Día Gratis del Museo de Arte de Denver
DESCRIPTION:
URL:https://scfd.org/es/event/dia-gratis-del-museo-de-arte-de-denver-18/2024-04-09/
END:VEVENT
BEGIN:VEVENT
DTSTART;TZID=America/Denver:20240409T100000
DTEND;TZID=America/Denver:20240409T210000
DTSTAMP:20260421T213009
CREATED:20231214T220845Z
LAST-MODIFIED:20231214T220845Z
UID:10007931-1712656800-1712696400@scfd.org
SUMMARY:Día Gratis del Museo de Arte de Denver
DESCRIPTION:
URL:https://scfd.org/es/event/dia-gratis-del-museo-de-arte-de-denver/2024-04-09/
END:VEVENT
BEGIN:VEVENT
DTSTART;TZID=America/Denver:20240409T100000
DTEND;TZID=America/Denver:20240409T210000
DTSTAMP:20260421T213009
CREATED:20231214T221231Z
LAST-MODIFIED:20231214T221231Z
UID:10006780-1712656800-1712696400@scfd.org
SUMMARY:Día Gratis del Museo de Arte de Denver
DESCRIPTION:
URL:https://scfd.org/es/event/dia-gratis-del-museo-de-arte-de-denver-2/2024-04-09/
END:VEVENT
BEGIN:VEVENT
DTSTART;TZID=America/Denver:20240409T100000
DTEND;TZID=America/Denver:20240409T210000
DTSTAMP:20260421T213009
CREATED:20231214T221643Z
LAST-MODIFIED:20231214T221643Z
UID:10006817-1712656800-1712696400@scfd.org
SUMMARY:Día Gratis del Museo de Arte de Denver
DESCRIPTION:
URL:https://scfd.org/es/event/dia-gratis-del-museo-de-arte-de-denver-3/2024-04-09/
END:VEVENT
BEGIN:VEVENT
DTSTART;TZID=America/Denver:20240409T100000
DTEND;TZID=America/Denver:20240409T210000
DTSTAMP:20260421T213009
CREATED:20231214T221955Z
LAST-MODIFIED:20231214T221955Z
UID:10007959-1712656800-1712696400@scfd.org
SUMMARY:Día Gratis del Museo de Arte de Denver
DESCRIPTION:
URL:https://scfd.org/es/event/dia-gratis-del-museo-de-arte-de-denver-4/2024-04-09/
END:VEVENT
BEGIN:VEVENT
DTSTART;TZID=America/Denver:20240409T100000
DTEND;TZID=America/Denver:20240409T210000
DTSTAMP:20260421T213009
CREATED:20231214T222117Z
LAST-MODIFIED:20231214T222117Z
UID:10007986-1712656800-1712696400@scfd.org
SUMMARY:Día Gratis del Museo de Arte de Denver
DESCRIPTION:
URL:https://scfd.org/es/event/dia-gratis-del-museo-de-arte-de-denver-5/2024-04-09/
END:VEVENT
BEGIN:VEVENT
DTSTART;TZID=America/Denver:20240409T100000
DTEND;TZID=America/Denver:20240409T210000
DTSTAMP:20260421T213009
CREATED:20231214T222132Z
LAST-MODIFIED:20231214T222132Z
UID:10008003-1712656800-1712696400@scfd.org
SUMMARY:Día Gratis del Museo de Arte de Denver
DESCRIPTION:
URL:https://scfd.org/es/event/dia-gratis-del-museo-de-arte-de-denver-6/2024-04-09/
END:VEVENT
BEGIN:VEVENT
DTSTART;TZID=America/Denver:20240409T100000
DTEND;TZID=America/Denver:20240409T210000
DTSTAMP:20260421T213009
CREATED:20231214T222307Z
LAST-MODIFIED:20231214T222307Z
UID:10008044-1712656800-1712696400@scfd.org
SUMMARY:Día Gratis del Museo de Arte de Denver
DESCRIPTION:
URL:https://scfd.org/es/event/dia-gratis-del-museo-de-arte-de-denver-7/2024-04-09/
END:VEVENT
BEGIN:VEVENT
DTSTART;TZID=America/Denver:20240409T100000
DTEND;TZID=America/Denver:20240409T210000
DTSTAMP:20260421T213009
CREATED:20231214T222700Z
LAST-MODIFIED:20231214T222700Z
UID:10008072-1712656800-1712696400@scfd.org
SUMMARY:Día Gratis del Museo de Arte de Denver
DESCRIPTION:
URL:https://scfd.org/es/event/dia-gratis-del-museo-de-arte-de-denver-8/2024-04-09/
END:VEVENT
BEGIN:VEVENT
DTSTART;TZID=America/Denver:20240409T100000
DTEND;TZID=America/Denver:20240409T210000
DTSTAMP:20260421T213009
CREATED:20231214T222745Z
LAST-MODIFIED:20231214T222745Z
UID:10008090-1712656800-1712696400@scfd.org
SUMMARY:Día Gratis del Museo de Arte de Denver
DESCRIPTION:
URL:https://scfd.org/es/event/dia-gratis-del-museo-de-arte-de-denver-9/2024-04-09/
END:VEVENT
BEGIN:VEVENT
DTSTART;TZID=America/Denver:20240409T100000
DTEND;TZID=America/Denver:20240409T210000
DTSTAMP:20260421T213009
CREATED:20231214T223425Z
LAST-MODIFIED:20231214T223425Z
UID:10008131-1712656800-1712696400@scfd.org
SUMMARY:Día Gratis del Museo de Arte de Denver
DESCRIPTION:
URL:https://scfd.org/es/event/dia-gratis-del-museo-de-arte-de-denver-10/2024-04-09/
END:VEVENT
BEGIN:VEVENT
DTSTART;TZID=America/Denver:20240409T100000
DTEND;TZID=America/Denver:20240409T210000
DTSTAMP:20260421T213009
CREATED:20231214T223507Z
LAST-MODIFIED:20231214T223507Z
UID:10008165-1712656800-1712696400@scfd.org
SUMMARY:Día Gratis del Museo de Arte de Denver
DESCRIPTION:
URL:https://scfd.org/es/event/dia-gratis-del-museo-de-arte-de-denver-11/2024-04-09/
END:VEVENT
BEGIN:VEVENT
DTSTART;TZID=America/Denver:20240409T100000
DTEND;TZID=America/Denver:20240409T210000
DTSTAMP:20260421T213009
CREATED:20231214T223617Z
LAST-MODIFIED:20231214T223617Z
UID:10006865-1712656800-1712696400@scfd.org
SUMMARY:Día Gratis del Museo de Arte de Denver
DESCRIPTION:
URL:https://scfd.org/es/event/dia-gratis-del-museo-de-arte-de-denver-12/2024-04-09/
END:VEVENT
BEGIN:VEVENT
DTSTART;TZID=America/Denver:20240409T100000
DTEND;TZID=America/Denver:20240409T210000
DTSTAMP:20260421T213009
CREATED:20231214T223824Z
LAST-MODIFIED:20231214T223824Z
UID:10006893-1712656800-1712696400@scfd.org
SUMMARY:Día Gratis del Museo de Arte de Denver
DESCRIPTION:
URL:https://scfd.org/es/event/dia-gratis-del-museo-de-arte-de-denver-13/2024-04-09/
END:VEVENT
BEGIN:VEVENT
DTSTART;TZID=America/Denver:20240409T100000
DTEND;TZID=America/Denver:20240409T210000
DTSTAMP:20260421T213009
CREATED:20231214T225222Z
LAST-MODIFIED:20231214T225222Z
UID:10006932-1712656800-1712696400@scfd.org
SUMMARY:Día Gratis del Museo de Arte de Denver
DESCRIPTION:
URL:https://scfd.org/es/event/dia-gratis-del-museo-de-arte-de-denver-14/2024-04-09/
END:VEVENT
BEGIN:VEVENT
DTSTART;TZID=America/Denver:20240409T100000
DTEND;TZID=America/Denver:20240409T210000
DTSTAMP:20260421T213009
CREATED:20231214T225641Z
LAST-MODIFIED:20231214T225641Z
UID:10008199-1712656800-1712696400@scfd.org
SUMMARY:Día Gratis del Museo de Arte de Denver
DESCRIPTION:
URL:https://scfd.org/es/event/dia-gratis-del-museo-de-arte-de-denver-15/2024-04-09/
END:VEVENT
BEGIN:VEVENT
DTSTART;TZID=America/Denver:20240409T100000
DTEND;TZID=America/Denver:20240409T210000
DTSTAMP:20260421T213009
CREATED:20231214T230055Z
LAST-MODIFIED:20231214T230055Z
UID:10008255-1712656800-1712696400@scfd.org
SUMMARY:Día Gratis del Museo de Arte de Denver
DESCRIPTION:
URL:https://scfd.org/es/event/dia-gratis-del-museo-de-arte-de-denver-16/2024-04-09/
END:VEVENT
BEGIN:VEVENT
DTSTART;TZID=America/Denver:20240409T100000
DTEND;TZID=America/Denver:20240409T210000
DTSTAMP:20260421T213009
CREATED:20231214T230333Z
LAST-MODIFIED:20231214T230333Z
UID:10008293-1712656800-1712696400@scfd.org
SUMMARY:Día Gratis del Museo de Arte de Denver
DESCRIPTION:
URL:https://scfd.org/es/event/dia-gratis-del-museo-de-arte-de-denver-17/2024-04-09/
END:VEVENT
BEGIN:VEVENT
DTSTART;TZID=America/Denver:20240413T090000
DTEND;TZID=America/Denver:20240413T170000
DTSTAMP:20260421T213009
CREATED:20240214T192347Z
LAST-MODIFIED:20240214T192347Z
UID:10008509-1712998800-1713027600@scfd.org
SUMMARY:Museo Longmont Segundo sábado gratis
DESCRIPTION:
URL:https://scfd.org/es/event/museo-longmont-segundo-sabado-gratis-10/2024-04-13/
END:VEVENT
BEGIN:VEVENT
DTSTART;TZID=America/Denver:20240420T090000
DTEND;TZID=America/Denver:20240420T120000
DTSTAMP:20260421T213009
CREATED:20240207T160737Z
LAST-MODIFIED:20240207T160737Z
UID:10007004-1713603600-1713614400@scfd.org
SUMMARY:Festival de la Fibra
DESCRIPTION:
URL:https://scfd.org/es/event/festival-de-la-fibra/
END:VEVENT
BEGIN:VEVENT
DTSTART;TZID=America/Denver:20240422T090000
DTEND;TZID=America/Denver:20240422T143000
DTSTAMP:20260421T213009
CREATED:20231214T221012Z
LAST-MODIFIED:20231214T221012Z
UID:10006753-1713776400-1713796200@scfd.org
SUMMARY:Jardín Botánico de Denver - Días Gratis en York Street y Chatfield Farms
DESCRIPTION:
URL:https://scfd.org/es/event/jardin-botanico-de-denver-dias-gratis-en-york-street-y-chatfield-farms/2024-04-22/
END:VEVENT
BEGIN:VEVENT
DTSTART;TZID=America/Denver:20240422T090000
DTEND;TZID=America/Denver:20240422T143000
DTSTAMP:20260421T213009
CREATED:20231214T222232Z
LAST-MODIFIED:20231214T222232Z
UID:10008028-1713776400-1713796200@scfd.org
SUMMARY:Jardín Botánico de Denver - Días Gratis en York Street y Chatfield Farms
DESCRIPTION:
URL:https://scfd.org/es/event/jardin-botanico-de-denver-dias-gratis-en-york-street-y-chatfield-farms-2/2024-04-22/
END:VEVENT
END:VCALENDAR