BEGIN:VCALENDAR
VERSION:2.0
PRODID:-//SCFD - ECPv6.15.18//NONSGML v1.0//EN
CALSCALE:GREGORIAN
METHOD:PUBLISH
X-ORIGINAL-URL:https://scfd.org/es/
X-WR-CALDESC:Eventos para SCFD
REFRESH-INTERVAL;VALUE=DURATION:PT1H
X-Robots-Tag:noindex
X-PUBLISHED-TTL:PT1H
BEGIN:VTIMEZONE
TZID:America/Denver
BEGIN:DAYLIGHT
TZOFFSETFROM:-0700
TZOFFSETTO:-0600
TZNAME:MDT
DTSTART:20230312T090000
END:DAYLIGHT
BEGIN:STANDARD
TZOFFSETFROM:-0600
TZOFFSETTO:-0700
TZNAME:MST
DTSTART:20231105T080000
END:STANDARD
BEGIN:DAYLIGHT
TZOFFSETFROM:-0700
TZOFFSETTO:-0600
TZNAME:MDT
DTSTART:20240310T090000
END:DAYLIGHT
BEGIN:STANDARD
TZOFFSETFROM:-0600
TZOFFSETTO:-0700
TZNAME:MST
DTSTART:20241103T080000
END:STANDARD
BEGIN:DAYLIGHT
TZOFFSETFROM:-0700
TZOFFSETTO:-0600
TZNAME:MDT
DTSTART:20250309T090000
END:DAYLIGHT
BEGIN:STANDARD
TZOFFSETFROM:-0600
TZOFFSETTO:-0700
TZNAME:MST
DTSTART:20251102T080000
END:STANDARD
END:VTIMEZONE
BEGIN:VEVENT
DTSTART;TZID=America/Denver:20240613T090000
DTEND;TZID=America/Denver:20240613T140000
DTSTAMP:20260420T181956
CREATED:20231214T221133Z
LAST-MODIFIED:20231214T221215Z
UID:10006770-1718269200-1718287200@scfd.org
SUMMARY:Días Gratuitos de SCFD
DESCRIPTION:
URL:https://scfd.org/es/event/dias-libres-de-scfd-11/2024-06-13/
END:VEVENT
BEGIN:VEVENT
DTSTART;TZID=America/Denver:20240613T090000
DTEND;TZID=America/Denver:20240613T140000
DTSTAMP:20260420T181956
CREATED:20231214T220816Z
LAST-MODIFIED:20231214T220816Z
UID:10007922-1718269200-1718287200@scfd.org
SUMMARY:Días libres de SCFD
DESCRIPTION:
URL:https://scfd.org/es/event/dias-libres-de-scfd-10/2024-06-13/
END:VEVENT
BEGIN:VEVENT
DTSTART;TZID=America/Denver:20240611T100000
DTEND;TZID=America/Denver:20240611T210000
DTSTAMP:20260420T181956
CREATED:20231214T230333Z
LAST-MODIFIED:20231214T230333Z
UID:10008296-1718100000-1718139600@scfd.org
SUMMARY:Día Gratis del Museo de Arte de Denver
DESCRIPTION:
URL:https://scfd.org/es/event/dia-gratis-del-museo-de-arte-de-denver-17/2024-06-11/
END:VEVENT
BEGIN:VEVENT
DTSTART;TZID=America/Denver:20240611T100000
DTEND;TZID=America/Denver:20240611T210000
DTSTAMP:20260420T181956
CREATED:20231214T230055Z
LAST-MODIFIED:20231214T230055Z
UID:10008258-1718100000-1718139600@scfd.org
SUMMARY:Día Gratis del Museo de Arte de Denver
DESCRIPTION:
URL:https://scfd.org/es/event/dia-gratis-del-museo-de-arte-de-denver-16/2024-06-11/
END:VEVENT
BEGIN:VEVENT
DTSTART;TZID=America/Denver:20240611T100000
DTEND;TZID=America/Denver:20240611T210000
DTSTAMP:20260420T181956
CREATED:20231214T225641Z
LAST-MODIFIED:20231214T225641Z
UID:10008202-1718100000-1718139600@scfd.org
SUMMARY:Día Gratis del Museo de Arte de Denver
DESCRIPTION:
URL:https://scfd.org/es/event/dia-gratis-del-museo-de-arte-de-denver-15/2024-06-11/
END:VEVENT
BEGIN:VEVENT
DTSTART;TZID=America/Denver:20240611T100000
DTEND;TZID=America/Denver:20240611T210000
DTSTAMP:20260420T181956
CREATED:20231214T225222Z
LAST-MODIFIED:20231214T225222Z
UID:10006935-1718100000-1718139600@scfd.org
SUMMARY:Día Gratis del Museo de Arte de Denver
DESCRIPTION:
URL:https://scfd.org/es/event/dia-gratis-del-museo-de-arte-de-denver-14/2024-06-11/
END:VEVENT
BEGIN:VEVENT
DTSTART;TZID=America/Denver:20240611T100000
DTEND;TZID=America/Denver:20240611T210000
DTSTAMP:20260420T181956
CREATED:20231214T223824Z
LAST-MODIFIED:20231214T223824Z
UID:10006896-1718100000-1718139600@scfd.org
SUMMARY:Día Gratis del Museo de Arte de Denver
DESCRIPTION:
URL:https://scfd.org/es/event/dia-gratis-del-museo-de-arte-de-denver-13/2024-06-11/
END:VEVENT
BEGIN:VEVENT
DTSTART;TZID=America/Denver:20240611T100000
DTEND;TZID=America/Denver:20240611T210000
DTSTAMP:20260420T181956
CREATED:20231214T223617Z
LAST-MODIFIED:20231214T223617Z
UID:10006868-1718100000-1718139600@scfd.org
SUMMARY:Día Gratis del Museo de Arte de Denver
DESCRIPTION:
URL:https://scfd.org/es/event/dia-gratis-del-museo-de-arte-de-denver-12/2024-06-11/
END:VEVENT
BEGIN:VEVENT
DTSTART;TZID=America/Denver:20240611T100000
DTEND;TZID=America/Denver:20240611T210000
DTSTAMP:20260420T181956
CREATED:20231214T223507Z
LAST-MODIFIED:20231214T223507Z
UID:10008168-1718100000-1718139600@scfd.org
SUMMARY:Día Gratis del Museo de Arte de Denver
DESCRIPTION:
URL:https://scfd.org/es/event/dia-gratis-del-museo-de-arte-de-denver-11/2024-06-11/
END:VEVENT
BEGIN:VEVENT
DTSTART;TZID=America/Denver:20240611T100000
DTEND;TZID=America/Denver:20240611T210000
DTSTAMP:20260420T181956
CREATED:20231214T223425Z
LAST-MODIFIED:20231214T223425Z
UID:10008134-1718100000-1718139600@scfd.org
SUMMARY:Día Gratis del Museo de Arte de Denver
DESCRIPTION:
URL:https://scfd.org/es/event/dia-gratis-del-museo-de-arte-de-denver-10/2024-06-11/
END:VEVENT
BEGIN:VEVENT
DTSTART;TZID=America/Denver:20240611T100000
DTEND;TZID=America/Denver:20240611T210000
DTSTAMP:20260420T181956
CREATED:20231214T222745Z
LAST-MODIFIED:20231214T222745Z
UID:10008093-1718100000-1718139600@scfd.org
SUMMARY:Día Gratis del Museo de Arte de Denver
DESCRIPTION:
URL:https://scfd.org/es/event/dia-gratis-del-museo-de-arte-de-denver-9/2024-06-11/
END:VEVENT
BEGIN:VEVENT
DTSTART;TZID=America/Denver:20240611T100000
DTEND;TZID=America/Denver:20240611T210000
DTSTAMP:20260420T181956
CREATED:20231214T222700Z
LAST-MODIFIED:20231214T222700Z
UID:10008075-1718100000-1718139600@scfd.org
SUMMARY:Día Gratis del Museo de Arte de Denver
DESCRIPTION:
URL:https://scfd.org/es/event/dia-gratis-del-museo-de-arte-de-denver-8/2024-06-11/
END:VEVENT
BEGIN:VEVENT
DTSTART;TZID=America/Denver:20240611T100000
DTEND;TZID=America/Denver:20240611T210000
DTSTAMP:20260420T181956
CREATED:20231214T222307Z
LAST-MODIFIED:20231214T222307Z
UID:10008047-1718100000-1718139600@scfd.org
SUMMARY:Día Gratis del Museo de Arte de Denver
DESCRIPTION:
URL:https://scfd.org/es/event/dia-gratis-del-museo-de-arte-de-denver-7/2024-06-11/
END:VEVENT
BEGIN:VEVENT
DTSTART;TZID=America/Denver:20240611T100000
DTEND;TZID=America/Denver:20240611T210000
DTSTAMP:20260420T181956
CREATED:20231214T222132Z
LAST-MODIFIED:20231214T222132Z
UID:10008006-1718100000-1718139600@scfd.org
SUMMARY:Día Gratis del Museo de Arte de Denver
DESCRIPTION:
URL:https://scfd.org/es/event/dia-gratis-del-museo-de-arte-de-denver-6/2024-06-11/
END:VEVENT
BEGIN:VEVENT
DTSTART;TZID=America/Denver:20240611T100000
DTEND;TZID=America/Denver:20240611T210000
DTSTAMP:20260420T181956
CREATED:20231214T222117Z
LAST-MODIFIED:20231214T222117Z
UID:10007989-1718100000-1718139600@scfd.org
SUMMARY:Día Gratis del Museo de Arte de Denver
DESCRIPTION:
URL:https://scfd.org/es/event/dia-gratis-del-museo-de-arte-de-denver-5/2024-06-11/
END:VEVENT
BEGIN:VEVENT
DTSTART;TZID=America/Denver:20240611T100000
DTEND;TZID=America/Denver:20240611T210000
DTSTAMP:20260420T181956
CREATED:20231214T221955Z
LAST-MODIFIED:20231214T221955Z
UID:10007962-1718100000-1718139600@scfd.org
SUMMARY:Día Gratis del Museo de Arte de Denver
DESCRIPTION:
URL:https://scfd.org/es/event/dia-gratis-del-museo-de-arte-de-denver-4/2024-06-11/
END:VEVENT
BEGIN:VEVENT
DTSTART;TZID=America/Denver:20240611T100000
DTEND;TZID=America/Denver:20240611T210000
DTSTAMP:20260420T181956
CREATED:20231214T221643Z
LAST-MODIFIED:20231214T221643Z
UID:10006820-1718100000-1718139600@scfd.org
SUMMARY:Día Gratis del Museo de Arte de Denver
DESCRIPTION:
URL:https://scfd.org/es/event/dia-gratis-del-museo-de-arte-de-denver-3/2024-06-11/
END:VEVENT
BEGIN:VEVENT
DTSTART;TZID=America/Denver:20240611T100000
DTEND;TZID=America/Denver:20240611T210000
DTSTAMP:20260420T181956
CREATED:20231214T221231Z
LAST-MODIFIED:20231214T221231Z
UID:10006783-1718100000-1718139600@scfd.org
SUMMARY:Día Gratis del Museo de Arte de Denver
DESCRIPTION:
URL:https://scfd.org/es/event/dia-gratis-del-museo-de-arte-de-denver-2/2024-06-11/
END:VEVENT
BEGIN:VEVENT
DTSTART;TZID=America/Denver:20240611T100000
DTEND;TZID=America/Denver:20240611T210000
DTSTAMP:20260420T181956
CREATED:20231214T220845Z
LAST-MODIFIED:20231214T220845Z
UID:10007934-1718100000-1718139600@scfd.org
SUMMARY:Día Gratis del Museo de Arte de Denver
DESCRIPTION:
URL:https://scfd.org/es/event/dia-gratis-del-museo-de-arte-de-denver/2024-06-11/
END:VEVENT
BEGIN:VEVENT
DTSTART;TZID=America/Denver:20240611T100000
DTEND;TZID=America/Denver:20240611T200000
DTSTAMP:20260420T181956
CREATED:20231214T230435Z
LAST-MODIFIED:20231214T230435Z
UID:10008335-1718100000-1718136000@scfd.org
SUMMARY:Día Gratis del Museo de Arte de Denver
DESCRIPTION:
URL:https://scfd.org/es/event/dia-gratis-del-museo-de-arte-de-denver-18/2024-06-11/
END:VEVENT
BEGIN:VEVENT
DTSTART;TZID=America/Denver:20240608T090000
DTEND;TZID=America/Denver:20240608T170000
DTSTAMP:20260420T181956
CREATED:20240214T192347Z
LAST-MODIFIED:20240214T192347Z
UID:10008511-1717837200-1717866000@scfd.org
SUMMARY:Museo Longmont Segundo sábado gratis
DESCRIPTION:
URL:https://scfd.org/es/event/museo-longmont-segundo-sabado-gratis-10/2024-06-08/
END:VEVENT
BEGIN:VEVENT
DTSTART;TZID=America/Denver:20240605T090000
DTEND;TZID=America/Denver:20240605T143000
DTSTAMP:20260420T181956
CREATED:20231214T230420Z
LAST-MODIFIED:20231214T230420Z
UID:10008323-1717578000-1717597800@scfd.org
SUMMARY:Jardín Botánico de Denver - Días Gratis en York Street y Chatfield Farms
DESCRIPTION:
URL:https://scfd.org/es/event/jardin-botanico-de-denver-dias-gratis-en-york-street-y-chatfield-farms-8/2024-06-05/
END:VEVENT
BEGIN:VEVENT
DTSTART;TZID=America/Denver:20240605T090000
DTEND;TZID=America/Denver:20240605T143000
DTSTAMP:20260420T181956
CREATED:20231214T230041Z
LAST-MODIFIED:20231214T230041Z
UID:10008247-1717578000-1717597800@scfd.org
SUMMARY:Jardín Botánico de Denver - Días Gratis en York Street y Chatfield Farms
DESCRIPTION:
URL:https://scfd.org/es/event/jardin-botanico-de-denver-dias-gratis-en-york-street-y-chatfield-farms-7/2024-06-05/
END:VEVENT
BEGIN:VEVENT
DTSTART;TZID=America/Denver:20240605T090000
DTEND;TZID=America/Denver:20240605T143000
DTSTAMP:20260420T181956
CREATED:20231214T225653Z
LAST-MODIFIED:20231214T225653Z
UID:10008215-1717578000-1717597800@scfd.org
SUMMARY:Jardín Botánico de Denver - Días Gratis en York Street y Chatfield Farms
DESCRIPTION:
URL:https://scfd.org/es/event/jardin-botanico-de-denver-dias-gratis-en-york-street-y-chatfield-farms-6/2024-06-05/
END:VEVENT
BEGIN:VEVENT
DTSTART;TZID=America/Denver:20240605T090000
DTEND;TZID=America/Denver:20240605T143000
DTSTAMP:20260420T181956
CREATED:20231214T223810Z
LAST-MODIFIED:20231214T223810Z
UID:10006884-1717578000-1717597800@scfd.org
SUMMARY:Jardín Botánico de Denver - Días Gratis en York Street y Chatfield Farms
DESCRIPTION:
URL:https://scfd.org/es/event/jardin-botanico-de-denver-dias-gratis-en-york-street-y-chatfield-farms-5/2024-06-05/
END:VEVENT
BEGIN:VEVENT
DTSTART;TZID=America/Denver:20240605T090000
DTEND;TZID=America/Denver:20240605T143000
DTSTAMP:20260420T181956
CREATED:20231214T223437Z
LAST-MODIFIED:20231214T223437Z
UID:10008147-1717578000-1717597800@scfd.org
SUMMARY:Jardín Botánico de Denver - Días Gratis en York Street y Chatfield Farms
DESCRIPTION:
URL:https://scfd.org/es/event/jardin-botanico-de-denver-dias-gratis-en-york-street-y-chatfield-farms-4/2024-06-05/
END:VEVENT
BEGIN:VEVENT
DTSTART;TZID=America/Denver:20240605T090000
DTEND;TZID=America/Denver:20240605T143000
DTSTAMP:20260420T181956
CREATED:20231214T222756Z
LAST-MODIFIED:20231214T222756Z
UID:10008106-1717578000-1717597800@scfd.org
SUMMARY:Jardín Botánico de Denver - Días Gratis en York Street y Chatfield Farms
DESCRIPTION:
URL:https://scfd.org/es/event/jardin-botanico-de-denver-dias-gratis-en-york-street-y-chatfield-farms-3/2024-06-05/
END:VEVENT
BEGIN:VEVENT
DTSTART;TZID=America/Denver:20240605T090000
DTEND;TZID=America/Denver:20240605T143000
DTSTAMP:20260420T181956
CREATED:20231214T222232Z
LAST-MODIFIED:20231214T222232Z
UID:10008029-1717578000-1717597800@scfd.org
SUMMARY:Jardín Botánico de Denver - Días Gratis en York Street y Chatfield Farms
DESCRIPTION:
URL:https://scfd.org/es/event/jardin-botanico-de-denver-dias-gratis-en-york-street-y-chatfield-farms-2/2024-06-05/
END:VEVENT
BEGIN:VEVENT
DTSTART;TZID=America/Denver:20240605T090000
DTEND;TZID=America/Denver:20240605T143000
DTSTAMP:20260420T181956
CREATED:20231214T221012Z
LAST-MODIFIED:20231214T221012Z
UID:10006754-1717578000-1717597800@scfd.org
SUMMARY:Jardín Botánico de Denver - Días Gratis en York Street y Chatfield Farms
DESCRIPTION:
URL:https://scfd.org/es/event/jardin-botanico-de-denver-dias-gratis-en-york-street-y-chatfield-farms/2024-06-05/
END:VEVENT
BEGIN:VEVENT
DTSTART;TZID=America/Denver:20240604T170000
DTEND;TZID=America/Denver:20240604T210000
DTSTAMP:20260420T181956
CREATED:20231215T002005Z
LAST-MODIFIED:20231215T002005Z
UID:10008381-1717520400-1717534800@scfd.org
SUMMARY:Museo de Naturaleza y Ciencia de Denver
DESCRIPTION:
URL:https://scfd.org/es/event/museo-de-naturaleza-y-ciencia-de-denver/2024-06-04/
END:VEVENT
END:VCALENDAR