BEGIN:VCALENDAR
VERSION:2.0
PRODID:-//SCFD - ECPv6.15.18//NONSGML v1.0//EN
CALSCALE:GREGORIAN
METHOD:PUBLISH
X-ORIGINAL-URL:https://scfd.org/es/
X-WR-CALDESC:Eventos para SCFD
REFRESH-INTERVAL;VALUE=DURATION:PT1H
X-Robots-Tag:noindex
X-PUBLISHED-TTL:PT1H
BEGIN:VTIMEZONE
TZID:America/Denver
BEGIN:DAYLIGHT
TZOFFSETFROM:-0700
TZOFFSETTO:-0600
TZNAME:MDT
DTSTART:20230312T090000
END:DAYLIGHT
BEGIN:STANDARD
TZOFFSETFROM:-0600
TZOFFSETTO:-0700
TZNAME:MST
DTSTART:20231105T080000
END:STANDARD
BEGIN:DAYLIGHT
TZOFFSETFROM:-0700
TZOFFSETTO:-0600
TZNAME:MDT
DTSTART:20240310T090000
END:DAYLIGHT
BEGIN:STANDARD
TZOFFSETFROM:-0600
TZOFFSETTO:-0700
TZNAME:MST
DTSTART:20241103T080000
END:STANDARD
BEGIN:DAYLIGHT
TZOFFSETFROM:-0700
TZOFFSETTO:-0600
TZNAME:MDT
DTSTART:20250309T090000
END:DAYLIGHT
BEGIN:STANDARD
TZOFFSETFROM:-0600
TZOFFSETTO:-0700
TZNAME:MST
DTSTART:20251102T080000
END:STANDARD
END:VTIMEZONE
BEGIN:VEVENT
DTSTART;TZID=America/Denver:20241116T090000
DTEND;TZID=America/Denver:20241116T140000
DTSTAMP:20260424T071512
CREATED:20231214T223409Z
LAST-MODIFIED:20231214T223409Z
UID:10008125-1731747600-1731765600@scfd.org
SUMMARY:Días Gratuitos de SCFD
DESCRIPTION:
URL:https://scfd.org/es/event/dias-gratuitos-de-scfd-3/2024-11-16/
END:VEVENT
BEGIN:VEVENT
DTSTART;TZID=America/Denver:20241116T100000
DTEND;TZID=America/Denver:20241116T150000
DTSTAMP:20260424T071512
CREATED:20231214T220816Z
LAST-MODIFIED:20231214T220816Z
UID:10007925-1731751200-1731769200@scfd.org
SUMMARY:Días libres de SCFD
DESCRIPTION:
URL:https://scfd.org/es/event/dias-libres-de-scfd-10/2024-11-16/
END:VEVENT
BEGIN:VEVENT
DTSTART;TZID=America/Denver:20241116T100000
DTEND;TZID=America/Denver:20241116T150000
DTSTAMP:20260424T071512
CREATED:20231214T221133Z
LAST-MODIFIED:20231214T221215Z
UID:10006773-1731751200-1731769200@scfd.org
SUMMARY:Días Gratuitos de SCFD
DESCRIPTION:
URL:https://scfd.org/es/event/dias-libres-de-scfd-11/2024-11-16/
END:VEVENT
BEGIN:VEVENT
DTSTART;TZID=America/Denver:20241116T100000
DTEND;TZID=America/Denver:20241116T150000
DTSTAMP:20260424T071512
CREATED:20231214T225628Z
LAST-MODIFIED:20231214T225628Z
UID:10008193-1731751200-1731769200@scfd.org
SUMMARY:Días Gratuitos de SCFD
DESCRIPTION:
URL:https://scfd.org/es/event/dias-gratuitos-de-scfd-4/2024-11-16/
END:VEVENT
BEGIN:VEVENT
DTSTART;TZID=America/Denver:20241116T100000
DTEND;TZID=America/Denver:20241116T150000
DTSTAMP:20260424T071512
CREATED:20231214T225953Z
LAST-MODIFIED:20231214T225953Z
UID:10008240-1731751200-1731769200@scfd.org
SUMMARY:Días Gratuitos de SCFD
DESCRIPTION:
URL:https://scfd.org/es/event/dias-gratuitos-de-scfd-5/2024-11-16/
END:VEVENT
BEGIN:VEVENT
DTSTART;TZID=America/Denver:20241116T100000
DTEND;TZID=America/Denver:20241116T150000
DTSTAMP:20260424T071512
CREATED:20231214T230412Z
LAST-MODIFIED:20231214T230412Z
UID:10008317-1731751200-1731769200@scfd.org
SUMMARY:Días Gratuitos de SCFD
DESCRIPTION:
URL:https://scfd.org/es/event/dias-gratuitos-de-scfd-6/2024-11-16/
END:VEVENT
BEGIN:VEVENT
DTSTART;TZID=America/Denver:20241117T100000
DTEND;TZID=America/Denver:20241117T160000
DTSTAMP:20260424T071512
CREATED:20231214T221040Z
LAST-MODIFIED:20231214T221040Z
UID:10006765-1731837600-1731859200@scfd.org
SUMMARY:Días gratis en el zoológico de Denver
DESCRIPTION:
URL:https://scfd.org/es/event/dias-gratis-en-el-zoologico-de-denver-7/2024-11-17/
END:VEVENT
BEGIN:VEVENT
DTSTART;TZID=America/Denver:20241117T100000
DTEND;TZID=America/Denver:20241117T160000
DTSTAMP:20260424T071512
CREATED:20231214T221248Z
LAST-MODIFIED:20231214T221248Z
UID:10006799-1731837600-1731859200@scfd.org
SUMMARY:Días gratis en el zoológico de Denver
DESCRIPTION:
URL:https://scfd.org/es/event/dias-gratis-en-el-zoologico-de-denver-8/2024-11-17/
END:VEVENT
BEGIN:VEVENT
DTSTART;TZID=America/Denver:20241117T100000
DTEND;TZID=America/Denver:20241117T160000
DTSTAMP:20260424T071512
CREATED:20231214T221844Z
LAST-MODIFIED:20231214T221844Z
UID:10006836-1731837600-1731859200@scfd.org
SUMMARY:Días gratis en el zoológico de Denver
DESCRIPTION:
URL:https://scfd.org/es/event/dias-gratis-en-el-zoologico-de-denver-9/2024-11-17/
END:VEVENT
BEGIN:VEVENT
DTSTART;TZID=America/Denver:20241117T100000
DTEND;TZID=America/Denver:20241117T160000
DTSTAMP:20260424T071512
CREATED:20231214T223843Z
LAST-MODIFIED:20231214T223843Z
UID:10006912-1731837600-1731859200@scfd.org
SUMMARY:Días gratis en el zoológico de Denver
DESCRIPTION:
URL:https://scfd.org/es/event/dias-gratis-en-el-zoologico-de-denver-10/2024-11-17/
END:VEVENT
BEGIN:VEVENT
DTSTART;TZID=America/Denver:20241117T100000
DTEND;TZID=America/Denver:20241117T160000
DTSTAMP:20260424T071512
CREATED:20231214T230138Z
LAST-MODIFIED:20231214T230138Z
UID:10008273-1731837600-1731859200@scfd.org
SUMMARY:Días gratis en el zoológico de Denver
DESCRIPTION:
URL:https://scfd.org/es/event/dias-gratis-en-el-zoologico-de-denver-11/2024-11-17/
END:VEVENT
BEGIN:VEVENT
DTSTART;TZID=America/Denver:20241117T100000
DTEND;TZID=America/Denver:20241117T160000
DTSTAMP:20260424T071512
CREATED:20231214T230357Z
LAST-MODIFIED:20231214T230357Z
UID:10008311-1731837600-1731859200@scfd.org
SUMMARY:Días gratis en el zoológico de Denver
DESCRIPTION:
URL:https://scfd.org/es/event/dias-gratis-en-el-zoologico-de-denver-12/2024-11-17/
END:VEVENT
BEGIN:VEVENT
DTSTART;TZID=America/Denver:20241117T100000
DTEND;TZID=America/Denver:20241117T160000
DTSTAMP:20260424T071512
CREATED:20231214T230448Z
LAST-MODIFIED:20231214T230448Z
UID:10008351-1731837600-1731859200@scfd.org
SUMMARY:Días gratis en el zoológico de Denver
DESCRIPTION:
URL:https://scfd.org/es/event/dias-gratis-en-el-zoologico-de-denver-13/2024-11-17/
END:VEVENT
BEGIN:VEVENT
DTSTART;TZID=America/Denver:20241118T090000
DTEND;TZID=America/Denver:20241118T170000
DTSTAMP:20260424T071512
CREATED:20231215T002005Z
LAST-MODIFIED:20231215T002005Z
UID:10008388-1731920400-1731949200@scfd.org
SUMMARY:Museo de Naturaleza y Ciencia de Denver
DESCRIPTION:
URL:https://scfd.org/es/event/museo-de-naturaleza-y-ciencia-de-denver/2024-11-18/
END:VEVENT
BEGIN:VEVENT
DTSTART;TZID=America/Denver:20241122T100000
DTEND;TZID=America/Denver:20241122T160000
DTSTAMP:20260424T071512
CREATED:20240104T192244Z
LAST-MODIFIED:20240104T192244Z
UID:10008412-1732269600-1732291200@scfd.org
SUMMARY:Viernes gratis en Four Mile
DESCRIPTION:
URL:https://scfd.org/es/event/viernes-gratis-en-four-mile/2024-11-22/
END:VEVENT
BEGIN:VEVENT
DTSTART;TZID=America/Denver:20241122T100000
DTEND;TZID=America/Denver:20241122T160000
DTSTAMP:20260424T071512
CREATED:20240104T192340Z
LAST-MODIFIED:20240104T192340Z
UID:10008422-1732269600-1732291200@scfd.org
SUMMARY:Viernes gratis en Four Mile
DESCRIPTION:
URL:https://scfd.org/es/event/viernes-gratis-en-four-mile-2/2024-11-22/
END:VEVENT
BEGIN:VEVENT
DTSTART;TZID=America/Denver:20241122T100000
DTEND;TZID=America/Denver:20241122T160000
DTSTAMP:20260424T071512
CREATED:20240104T192528Z
LAST-MODIFIED:20240104T192528Z
UID:10008431-1732269600-1732291200@scfd.org
SUMMARY:Viernes gratis en Four Mile
DESCRIPTION:
URL:https://scfd.org/es/event/viernes-gratis-en-four-mile-3/2024-11-22/
END:VEVENT
BEGIN:VEVENT
DTSTART;TZID=America/Denver:20241122T100000
DTEND;TZID=America/Denver:20241122T160000
DTSTAMP:20260424T071512
CREATED:20240104T192610Z
LAST-MODIFIED:20240104T192610Z
UID:10008441-1732269600-1732291200@scfd.org
SUMMARY:Viernes gratis en Four Mile
DESCRIPTION:
URL:https://scfd.org/es/event/viernes-gratis-en-four-mile-4/2024-11-22/
END:VEVENT
BEGIN:VEVENT
DTSTART;TZID=America/Denver:20241122T100000
DTEND;TZID=America/Denver:20241122T160000
DTSTAMP:20260424T071512
CREATED:20240104T192720Z
LAST-MODIFIED:20240104T192720Z
UID:10008450-1732269600-1732291200@scfd.org
SUMMARY:Viernes gratis en Four Mile
DESCRIPTION:
URL:https://scfd.org/es/event/viernes-gratis-en-four-mile-5/2024-11-22/
END:VEVENT
BEGIN:VEVENT
DTSTART;TZID=America/Denver:20241122T100000
DTEND;TZID=America/Denver:20241122T160000
DTSTAMP:20260424T071512
CREATED:20240104T192746Z
LAST-MODIFIED:20240104T192746Z
UID:10008459-1732269600-1732291200@scfd.org
SUMMARY:Viernes gratis en Four Mile
DESCRIPTION:
URL:https://scfd.org/es/event/viernes-gratis-en-four-mile-6/2024-11-22/
END:VEVENT
BEGIN:VEVENT
DTSTART;TZID=America/Denver:20241122T100000
DTEND;TZID=America/Denver:20241122T160000
DTSTAMP:20260424T071513
CREATED:20240104T192849Z
LAST-MODIFIED:20240104T192849Z
UID:10008469-1732269600-1732291200@scfd.org
SUMMARY:Viernes gratis en Four Mile
DESCRIPTION:
URL:https://scfd.org/es/event/viernes-gratis-en-four-mile-7/2024-11-22/
END:VEVENT
BEGIN:VEVENT
DTSTART;TZID=America/Denver:20241122T100000
DTEND;TZID=America/Denver:20241122T160000
DTSTAMP:20260424T071513
CREATED:20240104T192942Z
LAST-MODIFIED:20240104T192942Z
UID:10008478-1732269600-1732291200@scfd.org
SUMMARY:Viernes gratis en Four Mile
DESCRIPTION:
URL:https://scfd.org/es/event/viernes-gratis-en-four-mile-8/2024-11-22/
END:VEVENT
BEGIN:VEVENT
DTSTART;TZID=America/Denver:20241122T100000
DTEND;TZID=America/Denver:20241122T160000
DTSTAMP:20260424T071513
CREATED:20240104T193015Z
LAST-MODIFIED:20240104T193015Z
UID:10008488-1732269600-1732291200@scfd.org
SUMMARY:Viernes gratis en Four Mile
DESCRIPTION:
URL:https://scfd.org/es/event/viernes-gratis-en-four-mile-9/2024-11-22/
END:VEVENT
BEGIN:VEVENT
DTSTART;TZID=America/Denver:20241122T173000
DTEND;TZID=America/Denver:20241122T203000
DTSTAMP:20260424T071513
CREATED:20240731T150105Z
LAST-MODIFIED:20240731T150105Z
UID:10008612-1732296600-1732307400@scfd.org
SUMMARY:Estudio abierto
DESCRIPTION:
URL:https://scfd.org/es/event/estudio-abierto-20/2024-11-22/
END:VEVENT
BEGIN:VEVENT
DTSTART;TZID=America/Denver:20241122T173000
DTEND;TZID=America/Denver:20241122T203000
DTSTAMP:20260424T071513
CREATED:20240812T184814Z
LAST-MODIFIED:20240812T184814Z
UID:10008623-1732296600-1732307400@scfd.org
SUMMARY:Estudio abierto
DESCRIPTION:
URL:https://scfd.org/es/event/estudio-abierto-21/2024-11-22/
END:VEVENT
BEGIN:VEVENT
DTSTART;TZID=America/Denver:20241122T173000
DTEND;TZID=America/Denver:20241122T203000
DTSTAMP:20260424T071513
CREATED:20240812T185352Z
LAST-MODIFIED:20240812T185352Z
UID:10008629-1732296600-1732307400@scfd.org
SUMMARY:Estudio abierto
DESCRIPTION:
URL:https://scfd.org/es/event/estudio-abierto-22/2024-11-22/
END:VEVENT
BEGIN:VEVENT
DTSTART;TZID=America/Denver:20241122T173000
DTEND;TZID=America/Denver:20241122T203000
DTSTAMP:20260424T071513
CREATED:20240812T185621Z
LAST-MODIFIED:20240812T185621Z
UID:10008637-1732296600-1732307400@scfd.org
SUMMARY:Estudio abierto
DESCRIPTION:
URL:https://scfd.org/es/event/estudio-abierto-23/2024-11-22/
END:VEVENT
BEGIN:VEVENT
DTSTART;TZID=America/Denver:20241122T180000
DTEND;TZID=America/Denver:20241122T200000
DTSTAMP:20260424T071513
CREATED:20240207T160813Z
LAST-MODIFIED:20240207T160813Z
UID:10007017-1732298400-1732305600@scfd.org
SUMMARY:Micrófono abierto y mezcla
DESCRIPTION:
URL:https://scfd.org/es/event/microfono-abierto-y-mezcla-11/2024-11-22/
END:VEVENT
BEGIN:VEVENT
DTSTART;TZID=America/Denver:20241129T090000
DTEND;TZID=America/Denver:20241129T143000
DTSTAMP:20260424T071513
CREATED:20231214T221012Z
LAST-MODIFIED:20231214T221012Z
UID:10006757-1732870800-1732890600@scfd.org
SUMMARY:Jardín Botánico de Denver - Días Gratis en York Street y Chatfield Farms
DESCRIPTION:
URL:https://scfd.org/es/event/jardin-botanico-de-denver-dias-gratis-en-york-street-y-chatfield-farms/2024-11-29/
END:VEVENT
BEGIN:VEVENT
DTSTART;TZID=America/Denver:20241129T090000
DTEND;TZID=America/Denver:20241129T143000
DTSTAMP:20260424T071513
CREATED:20231214T222232Z
LAST-MODIFIED:20231214T222232Z
UID:10008032-1732870800-1732890600@scfd.org
SUMMARY:Jardín Botánico de Denver - Días Gratis en York Street y Chatfield Farms
DESCRIPTION:
URL:https://scfd.org/es/event/jardin-botanico-de-denver-dias-gratis-en-york-street-y-chatfield-farms-2/2024-11-29/
END:VEVENT
END:VCALENDAR