BEGIN:VCALENDAR
VERSION:2.0
PRODID:-//SCFD - ECPv6.15.18//NONSGML v1.0//EN
CALSCALE:GREGORIAN
METHOD:PUBLISH
X-ORIGINAL-URL:https://scfd.org/es/
X-WR-CALDESC:Eventos para SCFD
REFRESH-INTERVAL;VALUE=DURATION:PT1H
X-Robots-Tag:noindex
X-PUBLISHED-TTL:PT1H
BEGIN:VTIMEZONE
TZID:America/Denver
BEGIN:DAYLIGHT
TZOFFSETFROM:-0700
TZOFFSETTO:-0600
TZNAME:MDT
DTSTART:20230312T090000
END:DAYLIGHT
BEGIN:STANDARD
TZOFFSETFROM:-0600
TZOFFSETTO:-0700
TZNAME:MST
DTSTART:20231105T080000
END:STANDARD
BEGIN:DAYLIGHT
TZOFFSETFROM:-0700
TZOFFSETTO:-0600
TZNAME:MDT
DTSTART:20240310T090000
END:DAYLIGHT
BEGIN:STANDARD
TZOFFSETFROM:-0600
TZOFFSETTO:-0700
TZNAME:MST
DTSTART:20241103T080000
END:STANDARD
BEGIN:DAYLIGHT
TZOFFSETFROM:-0700
TZOFFSETTO:-0600
TZNAME:MDT
DTSTART:20250309T090000
END:DAYLIGHT
BEGIN:STANDARD
TZOFFSETFROM:-0600
TZOFFSETTO:-0700
TZNAME:MST
DTSTART:20251102T080000
END:STANDARD
BEGIN:DAYLIGHT
TZOFFSETFROM:-0700
TZOFFSETTO:-0600
TZNAME:MDT
DTSTART:20260308T090000
END:DAYLIGHT
BEGIN:STANDARD
TZOFFSETFROM:-0600
TZOFFSETTO:-0700
TZNAME:MST
DTSTART:20261101T080000
END:STANDARD
END:VTIMEZONE
BEGIN:VEVENT
DTSTART;TZID=America/Denver:20250209T100000
DTEND;TZID=America/Denver:20250209T170000
DTSTAMP:20260423T093407
CREATED:20250115T195147Z
LAST-MODIFIED:20250115T195147Z
UID:10007315-1739095200-1739120400@scfd.org
SUMMARY:Días libres de la comunidad del zoológico de Denver
DESCRIPTION:
URL:https://scfd.org/es/event/dias-libres-de-la-comunidad-del-zoologico-de-denver-12/2025-02-09/
END:VEVENT
BEGIN:VEVENT
DTSTART;TZID=America/Denver:20250208T090000
DTEND;TZID=America/Denver:20250208T170000
DTSTAMP:20260423T093407
CREATED:20250113T211614Z
LAST-MODIFIED:20250113T211614Z
UID:10008788-1739005200-1739034000@scfd.org
SUMMARY:Segundo Sábado Gratis
DESCRIPTION:
URL:https://scfd.org/es/event/segundo-sabado-gratis-3/2025-02-08/
END:VEVENT
BEGIN:VEVENT
DTSTART;TZID=America/Denver:20250207T160000
DTEND;TZID=America/Denver:20250207T200000
DTSTAMP:20260423T093407
CREATED:20250121T225015Z
LAST-MODIFIED:20250121T225015Z
UID:10008796-1738944000-1738958400@scfd.org
SUMMARY:Micrófono abierto juvenil
DESCRIPTION:
URL:https://scfd.org/es/event/microfono-abierto-juvenil/2025-02-07/
END:VEVENT
BEGIN:VEVENT
DTSTART;TZID=America/Denver:20250205T100000
DTEND;TZID=America/Denver:20250205T170000
DTSTAMP:20260423T093407
CREATED:20241119T192722Z
LAST-MODIFIED:20241119T192722Z
UID:10007227-1738749600-1738774800@scfd.org
SUMMARY:Día de entrada gratuita en el Museo de Buffalo Bill
DESCRIPTION:
URL:https://scfd.org/es/event/dia-de-entrada-gratuita-en-el-museo-de-buffalo-bill-3/2025-02-05/
END:VEVENT
BEGIN:VEVENT
DTSTART;TZID=America/Denver:20250205T100000
DTEND;TZID=America/Denver:20250205T170000
DTSTAMP:20260423T093407
CREATED:20241119T192540Z
LAST-MODIFIED:20241119T192540Z
UID:10007215-1738749600-1738774800@scfd.org
SUMMARY:Día de entrada gratuita en el Museo de Buffalo Bill
DESCRIPTION:
URL:https://scfd.org/es/event/dia-de-entrada-gratuita-en-el-museo-de-buffalo-bill-2/2025-02-05/
END:VEVENT
BEGIN:VEVENT
DTSTART;TZID=America/Denver:20250205T100000
DTEND;TZID=America/Denver:20250205T170000
DTSTAMP:20260423T093407
CREATED:20241119T192505Z
LAST-MODIFIED:20241119T192505Z
UID:10007205-1738749600-1738774800@scfd.org
SUMMARY:Día de entrada gratuita en el Museo de Buffalo Bill
DESCRIPTION:
URL:https://scfd.org/es/event/dia-de-entrada-gratuita-en-el-museo-de-buffalo-bill/2025-02-05/
END:VEVENT
BEGIN:VEVENT
DTSTART;TZID=America/Denver:20250202T090000
DTEND;TZID=America/Denver:20250202T170000
DTSTAMP:20260423T093407
CREATED:20241031T222543Z
LAST-MODIFIED:20241031T222543Z
UID:10008694-1738486800-1738515600@scfd.org
SUMMARY:Día Gratis del Museo de Naturaleza y Ciencia de Denver
DESCRIPTION:
URL:https://scfd.org/es/event/dia-gratis-del-museo-de-naturaleza-y-ciencia-de-denver-10/2025-02-02/
END:VEVENT
BEGIN:VEVENT
DTSTART;TZID=America/Denver:20250126T143000
DTEND;TZID=America/Denver:20250126T153000
DTSTAMP:20260423T093407
CREATED:20250113T211625Z
LAST-MODIFIED:20250113T211625Z
UID:10008791-1737901800-1737905400@scfd.org
SUMMARY:La chica que cantaba - en cuento y canción
DESCRIPTION:
URL:https://scfd.org/es/event/la-chica-que-cantaba-en-cuento-y-cancion/
END:VEVENT
BEGIN:VEVENT
DTSTART;TZID=America/Denver:20250126T100000
DTEND;TZID=America/Denver:20250126T170000
DTSTAMP:20260423T093407
CREATED:20250115T195147Z
LAST-MODIFIED:20250115T195147Z
UID:10007314-1737885600-1737910800@scfd.org
SUMMARY:Días libres de la comunidad del zoológico de Denver
DESCRIPTION:
URL:https://scfd.org/es/event/dias-libres-de-la-comunidad-del-zoologico-de-denver-12/2025-01-26/
END:VEVENT
BEGIN:VEVENT
DTSTART;TZID=America/Denver:20250120T090000
DTEND;TZID=America/Denver:20250120T170000
DTSTAMP:20260423T093407
CREATED:20250113T211647Z
LAST-MODIFIED:20250113T211647Z
UID:10008792-1737363600-1737392400@scfd.org
SUMMARY:Día Libre de MLK
DESCRIPTION:
URL:https://scfd.org/es/event/dia-libre-de-mlk/
END:VEVENT
BEGIN:VEVENT
DTSTART;TZID=America/Denver:20250120T090000
DTEND;TZID=America/Denver:20250120T160000
DTSTAMP:20260423T093407
CREATED:20241216T211901Z
LAST-MODIFIED:20241216T211901Z
UID:10008754-1737363600-1737388800@scfd.org
SUMMARY:Jardines Botánicos de Denver York Street Días Gratis: Por favor\, obtenga sus boletos con anticipación. No hay entradas disponibles para los días agotados. Los días gratuitos son solo para el horario regular del jardín y no incluyen eventos con boleto.
DESCRIPTION:
URL:https://scfd.org/es/event/jardines-botanicos-de-denver-york-street-dias-gratis-por-favor-obtenga-sus-boletos-con-anticipacion-no-hay-entradas-disponibles-para-los-dias-agotados-los-dias-gratuitos-son-solo-para-el-horario-r-7/2025-01-20/
END:VEVENT
BEGIN:VEVENT
DTSTART;TZID=America/Denver:20250116T180000
DTEND;TZID=America/Denver:20250116T210000
DTSTAMP:20260423T093407
CREATED:20250113T211718Z
LAST-MODIFIED:20250113T211718Z
UID:10008793-1737050400-1737061200@scfd.org
SUMMARY:Recepción de apertura del Arte del Estado
DESCRIPTION:
URL:https://scfd.org/es/event/recepcion-de-apertura-del-arte-del-estado/
END:VEVENT
BEGIN:VEVENT
DTSTART;TZID=America/Denver:20250116T100000
DTEND;TZID=America/Denver:20250116T150000
DTSTAMP:20260423T093407
CREATED:20241216T211928Z
LAST-MODIFIED:20241216T211928Z
UID:10008762-1737021600-1737039600@scfd.org
SUMMARY:Días libres en el Centro de Conservación de las Llanuras
DESCRIPTION:
URL:https://scfd.org/es/event/dias-libres-en-el-centro-de-conservacion-de-las-llanuras-7/2025-01-16/
END:VEVENT
BEGIN:VEVENT
DTSTART;TZID=America/Denver:20250114T100000
DTEND;TZID=America/Denver:20250114T200000
DTSTAMP:20260423T093407
CREATED:20241119T192733Z
LAST-MODIFIED:20241119T192733Z
UID:10007231-1736848800-1736884800@scfd.org
SUMMARY:Día libre en el DAM
DESCRIPTION:
URL:https://scfd.org/es/event/dia-libre-en-el-dam-27/
END:VEVENT
BEGIN:VEVENT
DTSTART;TZID=America/Denver:20250112T090000
DTEND;TZID=America/Denver:20250112T170000
DTSTAMP:20260423T093407
CREATED:20241031T222543Z
LAST-MODIFIED:20241031T222543Z
UID:10008693-1736672400-1736701200@scfd.org
SUMMARY:Día Gratis del Museo de Naturaleza y Ciencia de Denver
DESCRIPTION:
URL:https://scfd.org/es/event/dia-gratis-del-museo-de-naturaleza-y-ciencia-de-denver-10/2025-01-12/
END:VEVENT
BEGIN:VEVENT
DTSTART;TZID=America/Denver:20250110T100000
DTEND;TZID=America/Denver:20250110T170000
DTSTAMP:20260423T093407
CREATED:20250115T195147Z
LAST-MODIFIED:20250115T195147Z
UID:10007313-1736503200-1736528400@scfd.org
SUMMARY:Días libres de la comunidad del zoológico de Denver
DESCRIPTION:
URL:https://scfd.org/es/event/dias-libres-de-la-comunidad-del-zoologico-de-denver-12/2025-01-10/
END:VEVENT
BEGIN:VEVENT
DTSTART;TZID=America/Denver:20241227T180000
DTEND;TZID=America/Denver:20241227T200000
DTSTAMP:20260423T093407
CREATED:20240207T160813Z
LAST-MODIFIED:20240207T160813Z
UID:10007018-1735322400-1735329600@scfd.org
SUMMARY:Micrófono abierto y mezcla
DESCRIPTION:
URL:https://scfd.org/es/event/microfono-abierto-y-mezcla-11/2024-12-27/
END:VEVENT
BEGIN:VEVENT
DTSTART;TZID=America/Denver:20241214T090000
DTEND;TZID=America/Denver:20241214T170000
DTSTAMP:20260423T093407
CREATED:20240214T192347Z
LAST-MODIFIED:20240214T192347Z
UID:10008517-1734166800-1734195600@scfd.org
SUMMARY:Museo Longmont Segundo sábado gratis
DESCRIPTION:
URL:https://scfd.org/es/event/museo-longmont-segundo-sabado-gratis-10/2024-12-14/
END:VEVENT
BEGIN:VEVENT
DTSTART;TZID=America/Denver:20241213T100000
DTEND;TZID=America/Denver:20241213T160000
DTSTAMP:20260423T093407
CREATED:20240812T185820Z
LAST-MODIFIED:20240812T185820Z
UID:10008645-1734084000-1734105600@scfd.org
SUMMARY:Laboratorio de Aprendizaje de Educación contra el Terrorismo Día Libre de SCFD
DESCRIPTION:
URL:https://scfd.org/es/event/laboratorio-de-aprendizaje-de-educacion-contra-el-terrorismo-dia-libre-de-scfd-6/2024-12-13/
END:VEVENT
BEGIN:VEVENT
DTSTART;TZID=America/Denver:20241212T100000
DTEND;TZID=America/Denver:20241212T150000
DTSTAMP:20260423T093407
CREATED:20231214T230412Z
LAST-MODIFIED:20231214T230412Z
UID:10008318-1733997600-1734015600@scfd.org
SUMMARY:Días Gratuitos de SCFD
DESCRIPTION:
URL:https://scfd.org/es/event/dias-gratuitos-de-scfd-6/2024-12-12/
END:VEVENT
BEGIN:VEVENT
DTSTART;TZID=America/Denver:20241212T100000
DTEND;TZID=America/Denver:20241212T150000
DTSTAMP:20260423T093407
CREATED:20231214T225953Z
LAST-MODIFIED:20231214T225953Z
UID:10008241-1733997600-1734015600@scfd.org
SUMMARY:Días Gratuitos de SCFD
DESCRIPTION:
URL:https://scfd.org/es/event/dias-gratuitos-de-scfd-5/2024-12-12/
END:VEVENT
BEGIN:VEVENT
DTSTART;TZID=America/Denver:20241212T100000
DTEND;TZID=America/Denver:20241212T150000
DTSTAMP:20260423T093407
CREATED:20231214T225628Z
LAST-MODIFIED:20231214T225628Z
UID:10008194-1733997600-1734015600@scfd.org
SUMMARY:Días Gratuitos de SCFD
DESCRIPTION:
URL:https://scfd.org/es/event/dias-gratuitos-de-scfd-4/2024-12-12/
END:VEVENT
BEGIN:VEVENT
DTSTART;TZID=America/Denver:20241212T100000
DTEND;TZID=America/Denver:20241212T150000
DTSTAMP:20260423T093407
CREATED:20231214T221133Z
LAST-MODIFIED:20231214T221215Z
UID:10006774-1733997600-1734015600@scfd.org
SUMMARY:Días Gratuitos de SCFD
DESCRIPTION:
URL:https://scfd.org/es/event/dias-libres-de-scfd-11/2024-12-12/
END:VEVENT
BEGIN:VEVENT
DTSTART;TZID=America/Denver:20241212T100000
DTEND;TZID=America/Denver:20241212T150000
DTSTAMP:20260423T093407
CREATED:20231214T220816Z
LAST-MODIFIED:20231214T220816Z
UID:10007926-1733997600-1734015600@scfd.org
SUMMARY:Días libres de SCFD
DESCRIPTION:
URL:https://scfd.org/es/event/dias-libres-de-scfd-10/2024-12-12/
END:VEVENT
BEGIN:VEVENT
DTSTART;TZID=America/Denver:20241212T090000
DTEND;TZID=America/Denver:20241212T140000
DTSTAMP:20260423T093407
CREATED:20231214T223409Z
LAST-MODIFIED:20231214T223409Z
UID:10008126-1733994000-1734012000@scfd.org
SUMMARY:Días Gratuitos de SCFD
DESCRIPTION:
URL:https://scfd.org/es/event/dias-gratuitos-de-scfd-3/2024-12-12/
END:VEVENT
BEGIN:VEVENT
DTSTART;TZID=America/Denver:20241212T090000
DTEND;TZID=America/Denver:20241212T140000
DTSTAMP:20260423T093407
CREATED:20231214T222254Z
LAST-MODIFIED:20231214T222254Z
UID:10008039-1733994000-1734012000@scfd.org
SUMMARY:Días Gratuitos de SCFD
DESCRIPTION:
URL:https://scfd.org/es/event/dias-gratuitos-de-scfd/2024-12-12/
END:VEVENT
BEGIN:VEVENT
DTSTART;TZID=America/Denver:20241211T120000
DTEND;TZID=America/Denver:20241211T120000
DTSTAMP:20260423T093407
CREATED:20241021T165254Z
LAST-MODIFIED:20241021T165254Z
UID:10008672-1733918400-1733918400@scfd.org
SUMMARY:DCPAccess el día de la venta
DESCRIPTION:
URL:https://scfd.org/es/event/dcpaccess-el-dia-de-la-venta-2/
END:VEVENT
BEGIN:VEVENT
DTSTART;TZID=America/Denver:20241210T100000
DTEND;TZID=America/Denver:20241210T210000
DTSTAMP:20260423T093407
CREATED:20231214T230333Z
LAST-MODIFIED:20231214T230333Z
UID:10008305-1733824800-1733864400@scfd.org
SUMMARY:Día Gratis del Museo de Arte de Denver
DESCRIPTION:
URL:https://scfd.org/es/event/dia-gratis-del-museo-de-arte-de-denver-17/2024-12-10/
END:VEVENT
BEGIN:VEVENT
DTSTART;TZID=America/Denver:20241210T100000
DTEND;TZID=America/Denver:20241210T210000
DTSTAMP:20260423T093407
CREATED:20231214T230055Z
LAST-MODIFIED:20231214T230055Z
UID:10008267-1733824800-1733864400@scfd.org
SUMMARY:Día Gratis del Museo de Arte de Denver
DESCRIPTION:
URL:https://scfd.org/es/event/dia-gratis-del-museo-de-arte-de-denver-16/2024-12-10/
END:VEVENT
BEGIN:VEVENT
DTSTART;TZID=America/Denver:20241210T100000
DTEND;TZID=America/Denver:20241210T210000
DTSTAMP:20260423T093407
CREATED:20231214T225641Z
LAST-MODIFIED:20231214T225641Z
UID:10008211-1733824800-1733864400@scfd.org
SUMMARY:Día Gratis del Museo de Arte de Denver
DESCRIPTION:
URL:https://scfd.org/es/event/dia-gratis-del-museo-de-arte-de-denver-15/2024-12-10/
END:VEVENT
END:VCALENDAR