BEGIN:VCALENDAR
VERSION:2.0
PRODID:-//SCFD - ECPv6.15.18//NONSGML v1.0//EN
CALSCALE:GREGORIAN
METHOD:PUBLISH
X-WR-CALNAME:SCFD
X-ORIGINAL-URL:https://scfd.org/es/
X-WR-CALDESC:Eventos para SCFD
REFRESH-INTERVAL;VALUE=DURATION:PT1H
X-Robots-Tag:noindex
X-PUBLISHED-TTL:PT1H
BEGIN:VTIMEZONE
TZID:America/Denver
BEGIN:DAYLIGHT
TZOFFSETFROM:-0700
TZOFFSETTO:-0600
TZNAME:MDT
DTSTART:20240310T090000
END:DAYLIGHT
BEGIN:STANDARD
TZOFFSETFROM:-0600
TZOFFSETTO:-0700
TZNAME:MST
DTSTART:20241103T080000
END:STANDARD
BEGIN:DAYLIGHT
TZOFFSETFROM:-0700
TZOFFSETTO:-0600
TZNAME:MDT
DTSTART:20250309T090000
END:DAYLIGHT
BEGIN:STANDARD
TZOFFSETFROM:-0600
TZOFFSETTO:-0700
TZNAME:MST
DTSTART:20251102T080000
END:STANDARD
BEGIN:DAYLIGHT
TZOFFSETFROM:-0700
TZOFFSETTO:-0600
TZNAME:MDT
DTSTART:20260308T090000
END:DAYLIGHT
BEGIN:STANDARD
TZOFFSETFROM:-0600
TZOFFSETTO:-0700
TZNAME:MST
DTSTART:20261101T080000
END:STANDARD
END:VTIMEZONE
BEGIN:VEVENT
DTSTART;TZID=America/Denver:20250822T100000
DTEND;TZID=America/Denver:20250822T160000
DTSTAMP:20260419T113216
CREATED:20250403T183149Z
LAST-MODIFIED:20250403T183149Z
UID:10008890-1755856800-1755878400@scfd.org
SUMMARY:Día de Admisión General Gratuita de SCFD
DESCRIPTION:
URL:https://scfd.org/es/event/dia-de-admision-general-gratuita-de-scfd/2025-08-22/
END:VEVENT
BEGIN:VEVENT
DTSTART;TZID=America/Denver:20250822T100000
DTEND;TZID=America/Denver:20250822T160000
DTSTAMP:20260419T113216
CREATED:20250403T183221Z
LAST-MODIFIED:20250403T183221Z
UID:10007423-1755856800-1755878400@scfd.org
SUMMARY:Día de Admisión General Gratuita de SCFD
DESCRIPTION:
URL:https://scfd.org/es/event/dia-de-admision-general-gratuita-de-scfd-2/2025-08-22/
END:VEVENT
BEGIN:VEVENT
DTSTART;TZID=America/Denver:20250822T100000
DTEND;TZID=America/Denver:20250822T160000
DTSTAMP:20260419T113216
CREATED:20250403T183301Z
LAST-MODIFIED:20250403T183301Z
UID:10007438-1755856800-1755878400@scfd.org
SUMMARY:Día de Admisión General Gratuita de SCFD
DESCRIPTION:
URL:https://scfd.org/es/event/dia-de-admision-general-gratuita-de-scfd-3/2025-08-22/
END:VEVENT
BEGIN:VEVENT
DTSTART;TZID=America/Denver:20250822T100000
DTEND;TZID=America/Denver:20250822T160000
DTSTAMP:20260419T113216
CREATED:20250403T183347Z
LAST-MODIFIED:20250403T183347Z
UID:10007448-1755856800-1755878400@scfd.org
SUMMARY:Día de Admisión General Gratuita de SCFD
DESCRIPTION:
URL:https://scfd.org/es/event/dia-de-admision-general-gratuita-de-scfd-4/2025-08-22/
END:VEVENT
BEGIN:VEVENT
DTSTART;TZID=America/Denver:20250822T100000
DTEND;TZID=America/Denver:20250822T160000
DTSTAMP:20260419T113216
CREATED:20250403T183436Z
LAST-MODIFIED:20250403T183436Z
UID:10007458-1755856800-1755878400@scfd.org
SUMMARY:Día de Admisión General Gratuita de SCFD
DESCRIPTION:
URL:https://scfd.org/es/event/dia-de-admision-general-gratuita-de-scfd-5/2025-08-22/
END:VEVENT
BEGIN:VEVENT
DTSTART;TZID=America/Denver:20250822T100000
DTEND;TZID=America/Denver:20250822T160000
DTSTAMP:20260419T113216
CREATED:20250403T184041Z
LAST-MODIFIED:20250403T184041Z
UID:10007468-1755856800-1755878400@scfd.org
SUMMARY:Día de Admisión General Gratuita de SCFD
DESCRIPTION:
URL:https://scfd.org/es/event/dia-de-admision-general-gratuita-de-scfd-6/2025-08-22/
END:VEVENT
BEGIN:VEVENT
DTSTART;TZID=America/Denver:20250822T100000
DTEND;TZID=America/Denver:20250822T160000
DTSTAMP:20260419T113216
CREATED:20250403T184232Z
LAST-MODIFIED:20250403T184232Z
UID:10007478-1755856800-1755878400@scfd.org
SUMMARY:Día de Admisión General Gratuita de SCFD
DESCRIPTION:
URL:https://scfd.org/es/event/dia-de-admision-general-gratuita-de-scfd-7/2025-08-22/
END:VEVENT
BEGIN:VEVENT
DTSTART;TZID=America/Denver:20250823T140000
DTEND;TZID=America/Denver:20250823T153000
DTSTAMP:20260419T113216
CREATED:20250723T153704Z
LAST-MODIFIED:20250723T153704Z
UID:10007553-1755957600-1755963000@scfd.org
SUMMARY:Taller de poesía See and Respond con el poeta laureado de Lafayette\, ZBassSpeaks
DESCRIPTION:
URL:https://scfd.org/es/event/taller-de-poesia-see-and-respond-con-el-poeta-laureado-de-lafayette-zbassspeaks/
END:VEVENT
BEGIN:VEVENT
DTSTART;TZID=America/Denver:20250823T150000
DTEND;TZID=America/Denver:20250823T162000
DTSTAMP:20260419T113216
CREATED:20250820T164405Z
LAST-MODIFIED:20250820T164405Z
UID:10008988-1755961200-1755966000@scfd.org
SUMMARY:Temporada 13: Temblar el cielo por Christopher Tin
DESCRIPTION:
URL:https://scfd.org/es/event/temporada-13-temblar-el-cielo-por-christopher-tin/
END:VEVENT
BEGIN:VEVENT
DTSTART;TZID=America/Denver:20250825T090000
DTEND;TZID=America/Denver:20250825T170000
DTSTAMP:20260419T113216
CREATED:20241031T222543Z
LAST-MODIFIED:20241031T222543Z
UID:10008699-1756112400-1756141200@scfd.org
SUMMARY:Día Gratis del Museo de Naturaleza y Ciencia de Denver
DESCRIPTION:
URL:https://scfd.org/es/event/dia-gratis-del-museo-de-naturaleza-y-ciencia-de-denver-10/2025-08-25/
END:VEVENT
BEGIN:VEVENT
DTSTART;TZID=America/Denver:20250827T090000
DTEND;TZID=America/Denver:20250827T200000
DTSTAMP:20260419T113216
CREATED:20241216T211901Z
LAST-MODIFIED:20241216T211901Z
UID:10008760-1756285200-1756324800@scfd.org
SUMMARY:Jardines Botánicos de Denver York Street Días Gratis: Por favor\, obtenga sus boletos con anticipación. No hay entradas disponibles para los días agotados. Los días gratuitos son solo para el horario regular del jardín y no incluyen eventos con boleto.
DESCRIPTION:
URL:https://scfd.org/es/event/jardines-botanicos-de-denver-york-street-dias-gratis-por-favor-obtenga-sus-boletos-con-anticipacion-no-hay-entradas-disponibles-para-los-dias-agotados-los-dias-gratuitos-son-solo-para-el-horario-r-7/2025-08-27/
END:VEVENT
BEGIN:VEVENT
DTSTART;TZID=America/Denver:20250827T113000
DTEND;TZID=America/Denver:20250827T144500
DTSTAMP:20260419T113216
CREATED:20250519T221002Z
LAST-MODIFIED:20250519T221002Z
UID:10007529-1756294200-1756305900@scfd.org
SUMMARY:¿Está realmente enterrado aquí?
DESCRIPTION:
URL:https://scfd.org/es/event/esta-realmente-enterrado-aqui/2025-08-27/
END:VEVENT
BEGIN:VEVENT
DTSTART;TZID=America/Denver:20250830T100000
DTEND;TZID=America/Denver:20250830T170000
DTSTAMP:20260419T113216
CREATED:20250721T215737Z
LAST-MODIFIED:20250721T215737Z
UID:10008971-1756548000-1756573200@scfd.org
SUMMARY:Objetos perdidos: arte con objetos encontrados
DESCRIPTION:
URL:https://scfd.org/es/event/objetos-perdidos-arte-con-objetos-encontrados/2025-08-30/
END:VEVENT
BEGIN:VEVENT
DTSTART;TZID=America/Denver:20250830T130000
DTEND;TZID=America/Denver:20250830T150000
DTSTAMP:20260419T113216
CREATED:20250721T222926Z
LAST-MODIFIED:20250721T222926Z
UID:10007551-1756558800-1756566000@scfd.org
SUMMARY:Palabras Encontradas: Poesía y Collage con el Poeta Laureado Z
DESCRIPTION:
URL:https://scfd.org/es/event/palabras-encontradas-poesia-y-collage-con-el-poeta-laureado-z/
END:VEVENT
BEGIN:VEVENT
DTSTART;TZID=America/Denver:20250904T100000
DTEND;TZID=America/Denver:20250904T170000
DTSTAMP:20260419T113216
CREATED:20250721T215737Z
LAST-MODIFIED:20250721T215737Z
UID:10008972-1756980000-1757005200@scfd.org
SUMMARY:Objetos perdidos: arte con objetos encontrados
DESCRIPTION:
URL:https://scfd.org/es/event/objetos-perdidos-arte-con-objetos-encontrados/2025-09-04/
END:VEVENT
BEGIN:VEVENT
DTSTART;TZID=America/Denver:20250905T160000
DTEND;TZID=America/Denver:20250905T200000
DTSTAMP:20260419T113216
CREATED:20250121T225015Z
LAST-MODIFIED:20250121T225015Z
UID:10008803-1757088000-1757102400@scfd.org
SUMMARY:Micrófono abierto juvenil
DESCRIPTION:
URL:https://scfd.org/es/event/microfono-abierto-juvenil/2025-09-05/
END:VEVENT
BEGIN:VEVENT
DTSTART;TZID=America/Denver:20250906T100000
DTEND;TZID=America/Denver:20250906T170000
DTSTAMP:20260419T113216
CREATED:20241115T170451Z
LAST-MODIFIED:20241115T170451Z
UID:10008731-1757152800-1757178000@scfd.org
SUMMARY:Día libre en el DAM y Powwow de la Amistad
DESCRIPTION:
URL:https://scfd.org/es/event/dia-libre-en-el-dam-y-powwow-de-la-amistad-2/
END:VEVENT
BEGIN:VEVENT
DTSTART;TZID=America/Denver:20250906T120000
DTEND;TZID=America/Denver:20250906T130000
DTSTAMP:20260419T113216
CREATED:20250820T163736Z
LAST-MODIFIED:20250820T163736Z
UID:10008986-1757160000-1757163600@scfd.org
SUMMARY:Shakespeare en el estacionamiento
DESCRIPTION:
URL:https://scfd.org/es/event/shakespeare-en-el-estacionamiento/
END:VEVENT
BEGIN:VEVENT
DTSTART;TZID=America/Denver:20250906T130000
DTEND;TZID=America/Denver:20250906T150000
DTSTAMP:20260419T113216
CREATED:20250827T160336Z
LAST-MODIFIED:20250827T160336Z
UID:10008999-1757163600-1757170800@scfd.org
SUMMARY:Siente el ritmo Casa abierta
DESCRIPTION:
URL:https://scfd.org/es/event/siente-el-ritmo-casa-abierta/
END:VEVENT
BEGIN:VEVENT
DTSTART;TZID=America/Denver:20250906T140000
DTEND;TZID=America/Denver:20250906T160000
DTSTAMP:20260419T113216
CREATED:20250721T215942Z
LAST-MODIFIED:20250721T215942Z
UID:10008976-1757167200-1757174400@scfd.org
SUMMARY:Reparación visible con costuras Sashiko
DESCRIPTION:
URL:https://scfd.org/es/event/reparacion-visible-con-costuras-sashiko/2025-09-06/
END:VEVENT
BEGIN:VEVENT
DTSTART;TZID=America/Denver:20250909T100000
DTEND;TZID=America/Denver:20250909T200000
DTSTAMP:20260419T113216
CREATED:20241115T170440Z
LAST-MODIFIED:20241115T170440Z
UID:10008729-1757412000-1757448000@scfd.org
SUMMARY:Día libre en el DAM
DESCRIPTION:
URL:https://scfd.org/es/event/dia-libre-en-el-dam-17/
END:VEVENT
BEGIN:VEVENT
DTSTART;TZID=America/Denver:20250909T120000
DTEND;TZID=America/Denver:20250909T123000
DTSTAMP:20260419T113216
CREATED:20250625T213017Z
LAST-MODIFIED:20250625T213017Z
UID:10008940-1757419200-1757421000@scfd.org
SUMMARY:Venta de entradas DCPAccess
DESCRIPTION:
URL:https://scfd.org/es/event/venta-de-entradas-dcpaccess/2025-09-09/
END:VEVENT
BEGIN:VEVENT
DTSTART;TZID=America/Denver:20250910T100000
DTEND;TZID=America/Denver:20250910T170000
DTSTAMP:20260419T113216
CREATED:20250418T172541Z
LAST-MODIFIED:20250418T172541Z
UID:10008912-1757498400-1757523600@scfd.org
SUMMARY:Día Libre de SCFD en Marjorie Park
DESCRIPTION:
URL:https://scfd.org/es/event/dia-libre-de-scfd-en-marjorie-park/2025-09-10/
END:VEVENT
BEGIN:VEVENT
DTSTART;TZID=America/Denver:20250910T100000
DTEND;TZID=America/Denver:20250910T170000
DTSTAMP:20260419T113216
CREATED:20250721T215737Z
LAST-MODIFIED:20250721T215737Z
UID:10008973-1757498400-1757523600@scfd.org
SUMMARY:Objetos perdidos: arte con objetos encontrados
DESCRIPTION:
URL:https://scfd.org/es/event/objetos-perdidos-arte-con-objetos-encontrados/2025-09-10/
END:VEVENT
BEGIN:VEVENT
DTSTART;TZID=America/Denver:20250912T100000
DTEND;TZID=America/Denver:20250912T170000
DTSTAMP:20260419T113216
CREATED:20241106T211823Z
LAST-MODIFIED:20241106T211823Z
UID:10008715-1757671200-1757696400@scfd.org
SUMMARY:Días libres de Wings Over the Rockies
DESCRIPTION:
URL:https://scfd.org/es/event/dias-libres-de-wings-over-the-rockies-4/2025-09-12/
END:VEVENT
BEGIN:VEVENT
DTSTART;TZID=America/Denver:20250912T183000
DTEND;TZID=America/Denver:20250912T203000
DTSTAMP:20260419T113216
CREATED:20250523T221809Z
LAST-MODIFIED:20250523T221809Z
UID:10008930-1757701800-1757709000@scfd.org
SUMMARY:Voces Sagradas EN VIVO
DESCRIPTION:
URL:https://scfd.org/es/event/voces-sagradas-en-vivo/2025-09-12/
END:VEVENT
BEGIN:VEVENT
DTSTART;TZID=America/Denver:20250913T070000
DTEND;TZID=America/Denver:20250913T140000
DTSTAMP:20260419T113216
CREATED:20250814T200339Z
LAST-MODIFIED:20250814T200339Z
UID:10008981-1757746800-1757772000@scfd.org
SUMMARY:Festival de observación de aves de otoño
DESCRIPTION:
URL:https://scfd.org/es/event/festival-de-observacion-de-aves-de-otono/
END:VEVENT
BEGIN:VEVENT
DTSTART;TZID=America/Denver:20250913T143000
DTEND;TZID=America/Denver:20250913T153000
DTSTAMP:20260419T113216
CREATED:20250807T200326Z
LAST-MODIFIED:20250807T200326Z
UID:10008978-1757773800-1757777400@scfd.org
SUMMARY:Concierto familiar: ¡Animales!
DESCRIPTION:
URL:https://scfd.org/es/event/concierto-familiar-animales/
END:VEVENT
BEGIN:VEVENT
DTSTART;TZID=America/Denver:20250914T090000
DTEND;TZID=America/Denver:20250914T170000
DTSTAMP:20260419T113216
CREATED:20250115T194909Z
LAST-MODIFIED:20250115T194909Z
UID:10007297-1757840400-1757869200@scfd.org
SUMMARY:Entrada gratuita a la sala de exposiciones
DESCRIPTION:
URL:https://scfd.org/es/event/entrada-gratuita-a-la-sala-de-exposiciones-4/2025-09-14/
END:VEVENT
BEGIN:VEVENT
DTSTART;TZID=America/Denver:20250915T090000
DTEND;TZID=America/Denver:20250915T170000
DTSTAMP:20260419T113216
CREATED:20241031T222543Z
LAST-MODIFIED:20241031T222543Z
UID:10008700-1757926800-1757955600@scfd.org
SUMMARY:Día Gratis del Museo de Naturaleza y Ciencia de Denver
DESCRIPTION:
URL:https://scfd.org/es/event/dia-gratis-del-museo-de-naturaleza-y-ciencia-de-denver-10/2025-09-15/
END:VEVENT
END:VCALENDAR