BEGIN:VCALENDAR
VERSION:2.0
PRODID:-//SCFD - ECPv6.15.18//NONSGML v1.0//EN
CALSCALE:GREGORIAN
METHOD:PUBLISH
X-ORIGINAL-URL:https://scfd.org/es/
X-WR-CALDESC:Eventos para SCFD
REFRESH-INTERVAL;VALUE=DURATION:PT1H
X-Robots-Tag:noindex
X-PUBLISHED-TTL:PT1H
BEGIN:VTIMEZONE
TZID:America/Denver
BEGIN:DAYLIGHT
TZOFFSETFROM:-0700
TZOFFSETTO:-0600
TZNAME:MDT
DTSTART:20230312T090000
END:DAYLIGHT
BEGIN:STANDARD
TZOFFSETFROM:-0600
TZOFFSETTO:-0700
TZNAME:MST
DTSTART:20231105T080000
END:STANDARD
BEGIN:DAYLIGHT
TZOFFSETFROM:-0700
TZOFFSETTO:-0600
TZNAME:MDT
DTSTART:20240310T090000
END:DAYLIGHT
BEGIN:STANDARD
TZOFFSETFROM:-0600
TZOFFSETTO:-0700
TZNAME:MST
DTSTART:20241103T080000
END:STANDARD
BEGIN:DAYLIGHT
TZOFFSETFROM:-0700
TZOFFSETTO:-0600
TZNAME:MDT
DTSTART:20250309T090000
END:DAYLIGHT
BEGIN:STANDARD
TZOFFSETFROM:-0600
TZOFFSETTO:-0700
TZNAME:MST
DTSTART:20251102T080000
END:STANDARD
END:VTIMEZONE
BEGIN:VEVENT
DTSTART;TZID=America/Denver:20240818T184500
DTEND;TZID=America/Denver:20240818T200000
DTSTAMP:20260422T202952
CREATED:20240812T185936Z
LAST-MODIFIED:20240812T185936Z
UID:10008650-1724006700-1724011200@scfd.org
SUMMARY:Aventuras épicas en los Jardines del Hudson
DESCRIPTION:
URL:https://scfd.org/es/event/aventuras-epicas-en-los-jardines-del-hudson/
END:VEVENT
BEGIN:VEVENT
DTSTART;TZID=America/Denver:20240819T090000
DTEND;TZID=America/Denver:20240819T160000
DTSTAMP:20260422T202952
CREATED:20240319T153119Z
LAST-MODIFIED:20240319T153121Z
UID:10008540-1724058000-1724083200@scfd.org
SUMMARY:Días Libres de MOA
DESCRIPTION:
URL:https://scfd.org/es/event/dias-libres-de-moa/2024-08-19/
END:VEVENT
BEGIN:VEVENT
DTSTART;TZID=America/Denver:20240819T090000
DTEND;TZID=America/Denver:20240819T160000
DTSTAMP:20260422T202952
CREATED:20240319T153155Z
LAST-MODIFIED:20240319T153155Z
UID:10008559-1724058000-1724083200@scfd.org
SUMMARY:Días Libres de MOA
DESCRIPTION:
URL:https://scfd.org/es/event/dias-libres-de-moa-2/2024-08-19/
END:VEVENT
BEGIN:VEVENT
DTSTART;TZID=America/Denver:20240819T090000
DTEND;TZID=America/Denver:20240819T160000
DTSTAMP:20260422T202952
CREATED:20240319T153255Z
LAST-MODIFIED:20240319T153255Z
UID:10008571-1724058000-1724083200@scfd.org
SUMMARY:Días Libres de MOA
DESCRIPTION:
URL:https://scfd.org/es/event/dias-libres-de-moa-3/2024-08-19/
END:VEVENT
BEGIN:VEVENT
DTSTART;TZID=America/Denver:20240821T170000
DTEND;TZID=America/Denver:20240821T210000
DTSTAMP:20260422T202952
CREATED:20231215T002005Z
LAST-MODIFIED:20231215T002005Z
UID:10008383-1724259600-1724274000@scfd.org
SUMMARY:Museo de Naturaleza y Ciencia de Denver
DESCRIPTION:
URL:https://scfd.org/es/event/museo-de-naturaleza-y-ciencia-de-denver/2024-08-21/
END:VEVENT
BEGIN:VEVENT
DTSTART;TZID=America/Denver:20240823T100000
DTEND;TZID=America/Denver:20240823T160000
DTSTAMP:20260422T202952
CREATED:20240104T192244Z
LAST-MODIFIED:20240104T192244Z
UID:10008409-1724407200-1724428800@scfd.org
SUMMARY:Viernes gratis en Four Mile
DESCRIPTION:
URL:https://scfd.org/es/event/viernes-gratis-en-four-mile/2024-08-23/
END:VEVENT
BEGIN:VEVENT
DTSTART;TZID=America/Denver:20240823T100000
DTEND;TZID=America/Denver:20240823T160000
DTSTAMP:20260422T202952
CREATED:20240104T192340Z
LAST-MODIFIED:20240104T192340Z
UID:10008419-1724407200-1724428800@scfd.org
SUMMARY:Viernes gratis en Four Mile
DESCRIPTION:
URL:https://scfd.org/es/event/viernes-gratis-en-four-mile-2/2024-08-23/
END:VEVENT
BEGIN:VEVENT
DTSTART;TZID=America/Denver:20240823T100000
DTEND;TZID=America/Denver:20240823T160000
DTSTAMP:20260422T202952
CREATED:20240104T192528Z
LAST-MODIFIED:20240104T192528Z
UID:10008428-1724407200-1724428800@scfd.org
SUMMARY:Viernes gratis en Four Mile
DESCRIPTION:
URL:https://scfd.org/es/event/viernes-gratis-en-four-mile-3/2024-08-23/
END:VEVENT
BEGIN:VEVENT
DTSTART;TZID=America/Denver:20240823T100000
DTEND;TZID=America/Denver:20240823T160000
DTSTAMP:20260422T202952
CREATED:20240104T192610Z
LAST-MODIFIED:20240104T192610Z
UID:10008438-1724407200-1724428800@scfd.org
SUMMARY:Viernes gratis en Four Mile
DESCRIPTION:
URL:https://scfd.org/es/event/viernes-gratis-en-four-mile-4/2024-08-23/
END:VEVENT
BEGIN:VEVENT
DTSTART;TZID=America/Denver:20240823T100000
DTEND;TZID=America/Denver:20240823T160000
DTSTAMP:20260422T202952
CREATED:20240104T192720Z
LAST-MODIFIED:20240104T192720Z
UID:10008447-1724407200-1724428800@scfd.org
SUMMARY:Viernes gratis en Four Mile
DESCRIPTION:
URL:https://scfd.org/es/event/viernes-gratis-en-four-mile-5/2024-08-23/
END:VEVENT
BEGIN:VEVENT
DTSTART;TZID=America/Denver:20240823T100000
DTEND;TZID=America/Denver:20240823T160000
DTSTAMP:20260422T202952
CREATED:20240104T192746Z
LAST-MODIFIED:20240104T192746Z
UID:10008456-1724407200-1724428800@scfd.org
SUMMARY:Viernes gratis en Four Mile
DESCRIPTION:
URL:https://scfd.org/es/event/viernes-gratis-en-four-mile-6/2024-08-23/
END:VEVENT
BEGIN:VEVENT
DTSTART;TZID=America/Denver:20240823T100000
DTEND;TZID=America/Denver:20240823T160000
DTSTAMP:20260422T202952
CREATED:20240104T192849Z
LAST-MODIFIED:20240104T192849Z
UID:10008466-1724407200-1724428800@scfd.org
SUMMARY:Viernes gratis en Four Mile
DESCRIPTION:
URL:https://scfd.org/es/event/viernes-gratis-en-four-mile-7/2024-08-23/
END:VEVENT
BEGIN:VEVENT
DTSTART;TZID=America/Denver:20240823T100000
DTEND;TZID=America/Denver:20240823T160000
DTSTAMP:20260422T202952
CREATED:20240104T192942Z
LAST-MODIFIED:20240104T192942Z
UID:10008475-1724407200-1724428800@scfd.org
SUMMARY:Viernes gratis en Four Mile
DESCRIPTION:
URL:https://scfd.org/es/event/viernes-gratis-en-four-mile-8/2024-08-23/
END:VEVENT
BEGIN:VEVENT
DTSTART;TZID=America/Denver:20240823T100000
DTEND;TZID=America/Denver:20240823T160000
DTSTAMP:20260422T202952
CREATED:20240104T193015Z
LAST-MODIFIED:20240104T193015Z
UID:10008485-1724407200-1724428800@scfd.org
SUMMARY:Viernes gratis en Four Mile
DESCRIPTION:
URL:https://scfd.org/es/event/viernes-gratis-en-four-mile-9/2024-08-23/
END:VEVENT
BEGIN:VEVENT
DTSTART;TZID=America/Denver:20240823T173000
DTEND;TZID=America/Denver:20240823T203000
DTSTAMP:20260422T202952
CREATED:20240731T150105Z
LAST-MODIFIED:20240731T150105Z
UID:10008609-1724434200-1724445000@scfd.org
SUMMARY:Estudio abierto
DESCRIPTION:
URL:https://scfd.org/es/event/estudio-abierto-20/2024-08-23/
END:VEVENT
BEGIN:VEVENT
DTSTART;TZID=America/Denver:20240823T173000
DTEND;TZID=America/Denver:20240823T203000
DTSTAMP:20260422T202952
CREATED:20240812T184814Z
LAST-MODIFIED:20240812T184814Z
UID:10008620-1724434200-1724445000@scfd.org
SUMMARY:Estudio abierto
DESCRIPTION:
URL:https://scfd.org/es/event/estudio-abierto-21/2024-08-23/
END:VEVENT
BEGIN:VEVENT
DTSTART;TZID=America/Denver:20240823T173000
DTEND;TZID=America/Denver:20240823T203000
DTSTAMP:20260422T202952
CREATED:20240812T185352Z
LAST-MODIFIED:20240812T185352Z
UID:10008626-1724434200-1724445000@scfd.org
SUMMARY:Estudio abierto
DESCRIPTION:
URL:https://scfd.org/es/event/estudio-abierto-22/2024-08-23/
END:VEVENT
BEGIN:VEVENT
DTSTART;TZID=America/Denver:20240823T173000
DTEND;TZID=America/Denver:20240823T203000
DTSTAMP:20260422T202952
CREATED:20240812T185621Z
LAST-MODIFIED:20240812T185621Z
UID:10008634-1724434200-1724445000@scfd.org
SUMMARY:Estudio abierto
DESCRIPTION:
URL:https://scfd.org/es/event/estudio-abierto-23/2024-08-23/
END:VEVENT
BEGIN:VEVENT
DTSTART;TZID=America/Denver:20240823T180000
DTEND;TZID=America/Denver:20240823T200000
DTSTAMP:20260422T202952
CREATED:20240207T160813Z
LAST-MODIFIED:20240207T160813Z
UID:10007014-1724436000-1724443200@scfd.org
SUMMARY:Micrófono abierto y mezcla
DESCRIPTION:
URL:https://scfd.org/es/event/microfono-abierto-y-mezcla-11/2024-08-23/
END:VEVENT
BEGIN:VEVENT
DTSTART;TZID=America/Denver:20240828T090000
DTEND;TZID=America/Denver:20240828T143000
DTSTAMP:20260422T202952
CREATED:20231214T221012Z
LAST-MODIFIED:20231214T221012Z
UID:10006756-1724835600-1724855400@scfd.org
SUMMARY:Jardín Botánico de Denver - Días Gratis en York Street y Chatfield Farms
DESCRIPTION:
URL:https://scfd.org/es/event/jardin-botanico-de-denver-dias-gratis-en-york-street-y-chatfield-farms/2024-08-28/
END:VEVENT
BEGIN:VEVENT
DTSTART;TZID=America/Denver:20240828T090000
DTEND;TZID=America/Denver:20240828T143000
DTSTAMP:20260422T202952
CREATED:20231214T222232Z
LAST-MODIFIED:20231214T222232Z
UID:10008031-1724835600-1724855400@scfd.org
SUMMARY:Jardín Botánico de Denver - Días Gratis en York Street y Chatfield Farms
DESCRIPTION:
URL:https://scfd.org/es/event/jardin-botanico-de-denver-dias-gratis-en-york-street-y-chatfield-farms-2/2024-08-28/
END:VEVENT
BEGIN:VEVENT
DTSTART;TZID=America/Denver:20240828T090000
DTEND;TZID=America/Denver:20240828T143000
DTSTAMP:20260422T202952
CREATED:20231214T222756Z
LAST-MODIFIED:20231214T222756Z
UID:10008108-1724835600-1724855400@scfd.org
SUMMARY:Jardín Botánico de Denver - Días Gratis en York Street y Chatfield Farms
DESCRIPTION:
URL:https://scfd.org/es/event/jardin-botanico-de-denver-dias-gratis-en-york-street-y-chatfield-farms-3/2024-08-28/
END:VEVENT
BEGIN:VEVENT
DTSTART;TZID=America/Denver:20240828T090000
DTEND;TZID=America/Denver:20240828T143000
DTSTAMP:20260422T202952
CREATED:20231214T223437Z
LAST-MODIFIED:20231214T223437Z
UID:10008149-1724835600-1724855400@scfd.org
SUMMARY:Jardín Botánico de Denver - Días Gratis en York Street y Chatfield Farms
DESCRIPTION:
URL:https://scfd.org/es/event/jardin-botanico-de-denver-dias-gratis-en-york-street-y-chatfield-farms-4/2024-08-28/
END:VEVENT
BEGIN:VEVENT
DTSTART;TZID=America/Denver:20240828T090000
DTEND;TZID=America/Denver:20240828T143000
DTSTAMP:20260422T202952
CREATED:20231214T223810Z
LAST-MODIFIED:20231214T223810Z
UID:10006886-1724835600-1724855400@scfd.org
SUMMARY:Jardín Botánico de Denver - Días Gratis en York Street y Chatfield Farms
DESCRIPTION:
URL:https://scfd.org/es/event/jardin-botanico-de-denver-dias-gratis-en-york-street-y-chatfield-farms-5/2024-08-28/
END:VEVENT
BEGIN:VEVENT
DTSTART;TZID=America/Denver:20240828T090000
DTEND;TZID=America/Denver:20240828T143000
DTSTAMP:20260422T202952
CREATED:20231214T225653Z
LAST-MODIFIED:20231214T225653Z
UID:10008217-1724835600-1724855400@scfd.org
SUMMARY:Jardín Botánico de Denver - Días Gratis en York Street y Chatfield Farms
DESCRIPTION:
URL:https://scfd.org/es/event/jardin-botanico-de-denver-dias-gratis-en-york-street-y-chatfield-farms-6/2024-08-28/
END:VEVENT
BEGIN:VEVENT
DTSTART;TZID=America/Denver:20240828T090000
DTEND;TZID=America/Denver:20240828T143000
DTSTAMP:20260422T202952
CREATED:20231214T230041Z
LAST-MODIFIED:20231214T230041Z
UID:10008249-1724835600-1724855400@scfd.org
SUMMARY:Jardín Botánico de Denver - Días Gratis en York Street y Chatfield Farms
DESCRIPTION:
URL:https://scfd.org/es/event/jardin-botanico-de-denver-dias-gratis-en-york-street-y-chatfield-farms-7/2024-08-28/
END:VEVENT
BEGIN:VEVENT
DTSTART;TZID=America/Denver:20240828T090000
DTEND;TZID=America/Denver:20240828T143000
DTSTAMP:20260422T202952
CREATED:20231214T230420Z
LAST-MODIFIED:20231214T230420Z
UID:10008325-1724835600-1724855400@scfd.org
SUMMARY:Jardín Botánico de Denver - Días Gratis en York Street y Chatfield Farms
DESCRIPTION:
URL:https://scfd.org/es/event/jardin-botanico-de-denver-dias-gratis-en-york-street-y-chatfield-farms-8/2024-08-28/
END:VEVENT
BEGIN:VEVENT
DTSTART;TZID=America/Denver:20240829T110000
DTEND;TZID=America/Denver:20240829T130000
DTSTAMP:20260422T202952
CREATED:20240319T153132Z
LAST-MODIFIED:20240319T153132Z
UID:10008547-1724929200-1724936400@scfd.org
SUMMARY:Sacude la cuadra
DESCRIPTION:
URL:https://scfd.org/es/event/sacude-la-cuadra/2024-08-29/
END:VEVENT
BEGIN:VEVENT
DTSTART;TZID=America/Denver:20240829T110000
DTEND;TZID=America/Denver:20240829T130000
DTSTAMP:20260422T202952
CREATED:20240319T153140Z
LAST-MODIFIED:20240319T153140Z
UID:10008554-1724929200-1724936400@scfd.org
SUMMARY:Sacude la cuadra
DESCRIPTION:
URL:https://scfd.org/es/event/sacude-la-cuadra-2/2024-08-29/
END:VEVENT
BEGIN:VEVENT
DTSTART;TZID=America/Denver:20240829T110000
DTEND;TZID=America/Denver:20240829T130000
DTSTAMP:20260422T202952
CREATED:20240319T153244Z
LAST-MODIFIED:20240319T153244Z
UID:10008566-1724929200-1724936400@scfd.org
SUMMARY:Sacude la cuadra
DESCRIPTION:
URL:https://scfd.org/es/event/sacude-la-cuadra-3/2024-08-29/
END:VEVENT
END:VCALENDAR