BEGIN:VCALENDAR
VERSION:2.0
PRODID:-//SCFD - ECPv6.15.18//NONSGML v1.0//EN
CALSCALE:GREGORIAN
METHOD:PUBLISH
X-ORIGINAL-URL:https://scfd.org/es/
X-WR-CALDESC:Eventos para SCFD
REFRESH-INTERVAL;VALUE=DURATION:PT1H
X-Robots-Tag:noindex
X-PUBLISHED-TTL:PT1H
BEGIN:VTIMEZONE
TZID:America/Denver
BEGIN:DAYLIGHT
TZOFFSETFROM:-0700
TZOFFSETTO:-0600
TZNAME:MDT
DTSTART:20230312T090000
END:DAYLIGHT
BEGIN:STANDARD
TZOFFSETFROM:-0600
TZOFFSETTO:-0700
TZNAME:MST
DTSTART:20231105T080000
END:STANDARD
BEGIN:DAYLIGHT
TZOFFSETFROM:-0700
TZOFFSETTO:-0600
TZNAME:MDT
DTSTART:20240310T090000
END:DAYLIGHT
BEGIN:STANDARD
TZOFFSETFROM:-0600
TZOFFSETTO:-0700
TZNAME:MST
DTSTART:20241103T080000
END:STANDARD
BEGIN:DAYLIGHT
TZOFFSETFROM:-0700
TZOFFSETTO:-0600
TZNAME:MDT
DTSTART:20250309T090000
END:DAYLIGHT
BEGIN:STANDARD
TZOFFSETFROM:-0600
TZOFFSETTO:-0700
TZNAME:MST
DTSTART:20251102T080000
END:STANDARD
END:VTIMEZONE
BEGIN:VEVENT
DTSTART;TZID=America/Denver:20240930T090000
DTEND;TZID=America/Denver:20240930T170000
DTSTAMP:20260419T140334
CREATED:20231215T002005Z
LAST-MODIFIED:20231215T002005Z
UID:10008385-1727686800-1727715600@scfd.org
SUMMARY:Museo de Naturaleza y Ciencia de Denver
DESCRIPTION:
URL:https://scfd.org/es/event/museo-de-naturaleza-y-ciencia-de-denver/2024-09-30/
END:VEVENT
BEGIN:VEVENT
DTSTART;TZID=America/Denver:20241001T170000
DTEND;TZID=America/Denver:20241001T190000
DTSTAMP:20260419T140334
CREATED:20231214T220951Z
LAST-MODIFIED:20231214T220951Z
UID:10007951-1727802000-1727809200@scfd.org
SUMMARY:Tardes gratuitos para votantes de SCFD en la Casa Molly Brown
DESCRIPTION:
URL:https://scfd.org/es/event/tardes-gratuitos-para-votantes-de-scfd-en-la-casa-molly-brown/2024-10-01/
END:VEVENT
BEGIN:VEVENT
DTSTART;TZID=America/Denver:20241001T170000
DTEND;TZID=America/Denver:20241001T190000
DTSTAMP:20260419T140334
CREATED:20231214T221518Z
LAST-MODIFIED:20231214T221518Z
UID:10006808-1727802000-1727809200@scfd.org
SUMMARY:Tardes gratuitos para votantes de SCFD en la Casa Molly Brown
DESCRIPTION:
URL:https://scfd.org/es/event/tardes-gratuitos-para-votantes-de-scfd-en-la-casa-molly-brown-2/2024-10-01/
END:VEVENT
BEGIN:VEVENT
DTSTART;TZID=America/Denver:20241001T170000
DTEND;TZID=America/Denver:20241001T190000
DTSTAMP:20260419T140334
CREATED:20231214T222012Z
LAST-MODIFIED:20231214T222012Z
UID:10007979-1727802000-1727809200@scfd.org
SUMMARY:Tardes gratuitos para votantes de SCFD en la Casa Molly Brown
DESCRIPTION:
URL:https://scfd.org/es/event/tardes-gratuitos-para-votantes-de-scfd-en-la-casa-molly-brown-3/2024-10-01/
END:VEVENT
BEGIN:VEVENT
DTSTART;TZID=America/Denver:20241001T170000
DTEND;TZID=America/Denver:20241001T190000
DTSTAMP:20260419T140334
CREATED:20231214T222146Z
LAST-MODIFIED:20231214T222146Z
UID:10008023-1727802000-1727809200@scfd.org
SUMMARY:Tardes gratuitos para votantes de SCFD en la Casa Molly Brown
DESCRIPTION:
URL:https://scfd.org/es/event/tardes-gratuitos-para-votantes-de-scfd-en-la-casa-molly-brown-4/2024-10-01/
END:VEVENT
BEGIN:VEVENT
DTSTART;TZID=America/Denver:20241001T170000
DTEND;TZID=America/Denver:20241001T190000
DTSTAMP:20260419T140334
CREATED:20231214T222455Z
LAST-MODIFIED:20231214T222455Z
UID:10008064-1727802000-1727809200@scfd.org
SUMMARY:Tardes gratuitos para votantes de SCFD en la Casa Molly Brown
DESCRIPTION:
URL:https://scfd.org/es/event/tardes-gratuitos-para-votantes-de-scfd-en-la-casa-molly-brown-5/2024-10-01/
END:VEVENT
BEGIN:VEVENT
DTSTART;TZID=America/Denver:20241001T170000
DTEND;TZID=America/Denver:20241001T190000
DTSTAMP:20260419T140334
CREATED:20231214T223224Z
LAST-MODIFIED:20231214T223224Z
UID:10008117-1727802000-1727809200@scfd.org
SUMMARY:Tardes gratuitos para votantes de SCFD en la Casa Molly Brown
DESCRIPTION:
URL:https://scfd.org/es/event/tardes-gratuitos-para-votantes-de-scfd-en-la-casa-molly-brown-6/2024-10-01/
END:VEVENT
BEGIN:VEVENT
DTSTART;TZID=America/Denver:20241001T170000
DTEND;TZID=America/Denver:20241001T190000
DTSTAMP:20260419T140334
CREATED:20231214T223452Z
LAST-MODIFIED:20231214T223452Z
UID:10008158-1727802000-1727809200@scfd.org
SUMMARY:Tardes gratuitos para votantes de SCFD en la Casa Molly Brown
DESCRIPTION:
URL:https://scfd.org/es/event/tardes-gratuitos-para-votantes-de-scfd-en-la-casa-molly-brown-7/2024-10-01/
END:VEVENT
BEGIN:VEVENT
DTSTART;TZID=America/Denver:20241001T170000
DTEND;TZID=America/Denver:20241001T190000
DTSTAMP:20260419T140334
CREATED:20231214T223548Z
LAST-MODIFIED:20231214T223548Z
UID:10008185-1727802000-1727809200@scfd.org
SUMMARY:Tardes gratuitos para votantes de SCFD en la Casa Molly Brown
DESCRIPTION:
URL:https://scfd.org/es/event/tardes-gratuitos-para-votantes-de-scfd-en-la-casa-molly-brown-8/2024-10-01/
END:VEVENT
BEGIN:VEVENT
DTSTART;TZID=America/Denver:20241001T170000
DTEND;TZID=America/Denver:20241001T190000
DTSTAMP:20260419T140334
CREATED:20231214T225151Z
LAST-MODIFIED:20231214T225151Z
UID:10006925-1727802000-1727809200@scfd.org
SUMMARY:Tardes gratuitos para votantes de SCFD en la Casa Molly Brown
DESCRIPTION:
URL:https://scfd.org/es/event/tardes-gratuitos-para-votantes-de-scfd-en-la-casa-molly-brown-9/2024-10-01/
END:VEVENT
BEGIN:VEVENT
DTSTART;TZID=America/Denver:20241001T170000
DTEND;TZID=America/Denver:20241001T190000
DTSTAMP:20260419T140334
CREATED:20231214T225753Z
LAST-MODIFIED:20231214T225753Z
UID:10008230-1727802000-1727809200@scfd.org
SUMMARY:Tardes gratuitos para votantes de SCFD en la Casa Molly Brown
DESCRIPTION:
URL:https://scfd.org/es/event/tardes-gratuitos-para-votantes-de-scfd-en-la-casa-molly-brown-10/2024-10-01/
END:VEVENT
BEGIN:VEVENT
DTSTART;TZID=America/Denver:20241001T170000
DTEND;TZID=America/Denver:20241001T190000
DTSTAMP:20260419T140334
CREATED:20231214T230302Z
LAST-MODIFIED:20231214T230302Z
UID:10008286-1727802000-1727809200@scfd.org
SUMMARY:Tardes gratuitos para votantes de SCFD en la Casa Molly Brown
DESCRIPTION:
URL:https://scfd.org/es/event/tardes-gratuitos-para-votantes-de-scfd-en-la-casa-molly-brown-11/2024-10-01/
END:VEVENT
BEGIN:VEVENT
DTSTART;TZID=America/Denver:20241003T090000
DTEND;TZID=America/Denver:20241003T170000
DTSTAMP:20260419T140334
CREATED:20240312T234431Z
LAST-MODIFIED:20240312T234431Z
UID:10008528-1727946000-1727974800@scfd.org
SUMMARY:Día Gratis del Museo del Ferrocarril de Colorado
DESCRIPTION:
URL:https://scfd.org/es/event/dia-gratis-del-museo-del-ferrocarril-de-colorado-3/2024-10-03/
END:VEVENT
BEGIN:VEVENT
DTSTART;TZID=America/Denver:20241003T170000
DTEND;TZID=America/Denver:20241003T190000
DTSTAMP:20260419T140334
CREATED:20240812T185837Z
LAST-MODIFIED:20240812T185837Z
UID:10008647-1727974800-1727982000@scfd.org
SUMMARY:Tardes de votantes de SCFD 2024 en el Museo de la Casa Molly Brown
DESCRIPTION:
URL:https://scfd.org/es/event/tardes-de-votantes-de-scfd-2024-en-el-museo-de-la-casa-molly-brown-4/2024-10-03/
END:VEVENT
BEGIN:VEVENT
DTSTART;TZID=America/Denver:20241008T100000
DTEND;TZID=America/Denver:20241008T200000
DTSTAMP:20260419T140334
CREATED:20231214T230435Z
LAST-MODIFIED:20231214T230435Z
UID:10008341-1728381600-1728417600@scfd.org
SUMMARY:Día Gratis del Museo de Arte de Denver
DESCRIPTION:
URL:https://scfd.org/es/event/dia-gratis-del-museo-de-arte-de-denver-18/2024-10-08/
END:VEVENT
BEGIN:VEVENT
DTSTART;TZID=America/Denver:20241008T100000
DTEND;TZID=America/Denver:20241008T210000
DTSTAMP:20260419T140334
CREATED:20231214T220845Z
LAST-MODIFIED:20231214T220845Z
UID:10007940-1728381600-1728421200@scfd.org
SUMMARY:Día Gratis del Museo de Arte de Denver
DESCRIPTION:
URL:https://scfd.org/es/event/dia-gratis-del-museo-de-arte-de-denver/2024-10-08/
END:VEVENT
BEGIN:VEVENT
DTSTART;TZID=America/Denver:20241008T100000
DTEND;TZID=America/Denver:20241008T210000
DTSTAMP:20260419T140334
CREATED:20231214T221231Z
LAST-MODIFIED:20231214T221231Z
UID:10006789-1728381600-1728421200@scfd.org
SUMMARY:Día Gratis del Museo de Arte de Denver
DESCRIPTION:
URL:https://scfd.org/es/event/dia-gratis-del-museo-de-arte-de-denver-2/2024-10-08/
END:VEVENT
BEGIN:VEVENT
DTSTART;TZID=America/Denver:20241008T100000
DTEND;TZID=America/Denver:20241008T210000
DTSTAMP:20260419T140334
CREATED:20231214T221643Z
LAST-MODIFIED:20231214T221643Z
UID:10006826-1728381600-1728421200@scfd.org
SUMMARY:Día Gratis del Museo de Arte de Denver
DESCRIPTION:
URL:https://scfd.org/es/event/dia-gratis-del-museo-de-arte-de-denver-3/2024-10-08/
END:VEVENT
BEGIN:VEVENT
DTSTART;TZID=America/Denver:20241008T100000
DTEND;TZID=America/Denver:20241008T210000
DTSTAMP:20260419T140334
CREATED:20231214T221955Z
LAST-MODIFIED:20231214T221955Z
UID:10007968-1728381600-1728421200@scfd.org
SUMMARY:Día Gratis del Museo de Arte de Denver
DESCRIPTION:
URL:https://scfd.org/es/event/dia-gratis-del-museo-de-arte-de-denver-4/2024-10-08/
END:VEVENT
BEGIN:VEVENT
DTSTART;TZID=America/Denver:20241008T100000
DTEND;TZID=America/Denver:20241008T210000
DTSTAMP:20260419T140334
CREATED:20231214T222117Z
LAST-MODIFIED:20231214T222117Z
UID:10007995-1728381600-1728421200@scfd.org
SUMMARY:Día Gratis del Museo de Arte de Denver
DESCRIPTION:
URL:https://scfd.org/es/event/dia-gratis-del-museo-de-arte-de-denver-5/2024-10-08/
END:VEVENT
BEGIN:VEVENT
DTSTART;TZID=America/Denver:20241008T100000
DTEND;TZID=America/Denver:20241008T210000
DTSTAMP:20260419T140334
CREATED:20231214T222132Z
LAST-MODIFIED:20231214T222132Z
UID:10008012-1728381600-1728421200@scfd.org
SUMMARY:Día Gratis del Museo de Arte de Denver
DESCRIPTION:
URL:https://scfd.org/es/event/dia-gratis-del-museo-de-arte-de-denver-6/2024-10-08/
END:VEVENT
BEGIN:VEVENT
DTSTART;TZID=America/Denver:20241008T100000
DTEND;TZID=America/Denver:20241008T210000
DTSTAMP:20260419T140334
CREATED:20231214T222307Z
LAST-MODIFIED:20231214T222307Z
UID:10008053-1728381600-1728421200@scfd.org
SUMMARY:Día Gratis del Museo de Arte de Denver
DESCRIPTION:
URL:https://scfd.org/es/event/dia-gratis-del-museo-de-arte-de-denver-7/2024-10-08/
END:VEVENT
BEGIN:VEVENT
DTSTART;TZID=America/Denver:20241008T100000
DTEND;TZID=America/Denver:20241008T210000
DTSTAMP:20260419T140334
CREATED:20231214T222700Z
LAST-MODIFIED:20231214T222700Z
UID:10008081-1728381600-1728421200@scfd.org
SUMMARY:Día Gratis del Museo de Arte de Denver
DESCRIPTION:
URL:https://scfd.org/es/event/dia-gratis-del-museo-de-arte-de-denver-8/2024-10-08/
END:VEVENT
BEGIN:VEVENT
DTSTART;TZID=America/Denver:20241008T100000
DTEND;TZID=America/Denver:20241008T210000
DTSTAMP:20260419T140334
CREATED:20231214T222745Z
LAST-MODIFIED:20231214T222745Z
UID:10008099-1728381600-1728421200@scfd.org
SUMMARY:Día Gratis del Museo de Arte de Denver
DESCRIPTION:
URL:https://scfd.org/es/event/dia-gratis-del-museo-de-arte-de-denver-9/2024-10-08/
END:VEVENT
BEGIN:VEVENT
DTSTART;TZID=America/Denver:20241008T100000
DTEND;TZID=America/Denver:20241008T210000
DTSTAMP:20260419T140334
CREATED:20231214T223425Z
LAST-MODIFIED:20231214T223425Z
UID:10008140-1728381600-1728421200@scfd.org
SUMMARY:Día Gratis del Museo de Arte de Denver
DESCRIPTION:
URL:https://scfd.org/es/event/dia-gratis-del-museo-de-arte-de-denver-10/2024-10-08/
END:VEVENT
BEGIN:VEVENT
DTSTART;TZID=America/Denver:20241008T100000
DTEND;TZID=America/Denver:20241008T210000
DTSTAMP:20260419T140334
CREATED:20231214T223507Z
LAST-MODIFIED:20231214T223507Z
UID:10008174-1728381600-1728421200@scfd.org
SUMMARY:Día Gratis del Museo de Arte de Denver
DESCRIPTION:
URL:https://scfd.org/es/event/dia-gratis-del-museo-de-arte-de-denver-11/2024-10-08/
END:VEVENT
BEGIN:VEVENT
DTSTART;TZID=America/Denver:20241008T100000
DTEND;TZID=America/Denver:20241008T210000
DTSTAMP:20260419T140334
CREATED:20231214T223617Z
LAST-MODIFIED:20231214T223617Z
UID:10006874-1728381600-1728421200@scfd.org
SUMMARY:Día Gratis del Museo de Arte de Denver
DESCRIPTION:
URL:https://scfd.org/es/event/dia-gratis-del-museo-de-arte-de-denver-12/2024-10-08/
END:VEVENT
BEGIN:VEVENT
DTSTART;TZID=America/Denver:20241008T100000
DTEND;TZID=America/Denver:20241008T210000
DTSTAMP:20260419T140334
CREATED:20231214T223824Z
LAST-MODIFIED:20231214T223824Z
UID:10006902-1728381600-1728421200@scfd.org
SUMMARY:Día Gratis del Museo de Arte de Denver
DESCRIPTION:
URL:https://scfd.org/es/event/dia-gratis-del-museo-de-arte-de-denver-13/2024-10-08/
END:VEVENT
BEGIN:VEVENT
DTSTART;TZID=America/Denver:20241008T100000
DTEND;TZID=America/Denver:20241008T210000
DTSTAMP:20260419T140334
CREATED:20231214T225222Z
LAST-MODIFIED:20231214T225222Z
UID:10006941-1728381600-1728421200@scfd.org
SUMMARY:Día Gratis del Museo de Arte de Denver
DESCRIPTION:
URL:https://scfd.org/es/event/dia-gratis-del-museo-de-arte-de-denver-14/2024-10-08/
END:VEVENT
BEGIN:VEVENT
DTSTART;TZID=America/Denver:20241008T100000
DTEND;TZID=America/Denver:20241008T210000
DTSTAMP:20260419T140334
CREATED:20231214T225641Z
LAST-MODIFIED:20231214T225641Z
UID:10008208-1728381600-1728421200@scfd.org
SUMMARY:Día Gratis del Museo de Arte de Denver
DESCRIPTION:
URL:https://scfd.org/es/event/dia-gratis-del-museo-de-arte-de-denver-15/2024-10-08/
END:VEVENT
END:VCALENDAR