BEGIN:VCALENDAR
VERSION:2.0
PRODID:-//SCFD - ECPv6.15.18//NONSGML v1.0//EN
CALSCALE:GREGORIAN
METHOD:PUBLISH
X-ORIGINAL-URL:https://scfd.org/es/
X-WR-CALDESC:Eventos para SCFD
REFRESH-INTERVAL;VALUE=DURATION:PT1H
X-Robots-Tag:noindex
X-PUBLISHED-TTL:PT1H
BEGIN:VTIMEZONE
TZID:America/Denver
BEGIN:DAYLIGHT
TZOFFSETFROM:-0700
TZOFFSETTO:-0600
TZNAME:MDT
DTSTART:20230312T090000
END:DAYLIGHT
BEGIN:STANDARD
TZOFFSETFROM:-0600
TZOFFSETTO:-0700
TZNAME:MST
DTSTART:20231105T080000
END:STANDARD
BEGIN:DAYLIGHT
TZOFFSETFROM:-0700
TZOFFSETTO:-0600
TZNAME:MDT
DTSTART:20240310T090000
END:DAYLIGHT
BEGIN:STANDARD
TZOFFSETFROM:-0600
TZOFFSETTO:-0700
TZNAME:MST
DTSTART:20241103T080000
END:STANDARD
BEGIN:DAYLIGHT
TZOFFSETFROM:-0700
TZOFFSETTO:-0600
TZNAME:MDT
DTSTART:20250309T090000
END:DAYLIGHT
BEGIN:STANDARD
TZOFFSETFROM:-0600
TZOFFSETTO:-0700
TZNAME:MST
DTSTART:20251102T080000
END:STANDARD
END:VTIMEZONE
BEGIN:VEVENT
DTSTART;VALUE=DATE:20241101
DTEND;VALUE=DATE:20241124
DTSTAMP:20260424T013903
CREATED:20241025T171429Z
LAST-MODIFIED:20241025T171429Z
UID:10008678-1730419200-1732406399@scfd.org
SUMMARY:Ojos arriba\, boca abierta
DESCRIPTION:
URL:https://scfd.org/es/event/ojos-arriba-boca-abierta/
END:VEVENT
BEGIN:VEVENT
DTSTART;TZID=America/Denver:20241122T100000
DTEND;TZID=America/Denver:20241122T160000
DTSTAMP:20260424T013903
CREATED:20240104T192244Z
LAST-MODIFIED:20240104T192244Z
UID:10008412-1732269600-1732291200@scfd.org
SUMMARY:Viernes gratis en Four Mile
DESCRIPTION:
URL:https://scfd.org/es/event/viernes-gratis-en-four-mile/2024-11-22/
END:VEVENT
BEGIN:VEVENT
DTSTART;TZID=America/Denver:20241122T100000
DTEND;TZID=America/Denver:20241122T160000
DTSTAMP:20260424T013903
CREATED:20240104T192340Z
LAST-MODIFIED:20240104T192340Z
UID:10008422-1732269600-1732291200@scfd.org
SUMMARY:Viernes gratis en Four Mile
DESCRIPTION:
URL:https://scfd.org/es/event/viernes-gratis-en-four-mile-2/2024-11-22/
END:VEVENT
BEGIN:VEVENT
DTSTART;TZID=America/Denver:20241122T100000
DTEND;TZID=America/Denver:20241122T160000
DTSTAMP:20260424T013903
CREATED:20240104T192528Z
LAST-MODIFIED:20240104T192528Z
UID:10008431-1732269600-1732291200@scfd.org
SUMMARY:Viernes gratis en Four Mile
DESCRIPTION:
URL:https://scfd.org/es/event/viernes-gratis-en-four-mile-3/2024-11-22/
END:VEVENT
BEGIN:VEVENT
DTSTART;TZID=America/Denver:20241122T100000
DTEND;TZID=America/Denver:20241122T160000
DTSTAMP:20260424T013903
CREATED:20240104T192610Z
LAST-MODIFIED:20240104T192610Z
UID:10008441-1732269600-1732291200@scfd.org
SUMMARY:Viernes gratis en Four Mile
DESCRIPTION:
URL:https://scfd.org/es/event/viernes-gratis-en-four-mile-4/2024-11-22/
END:VEVENT
BEGIN:VEVENT
DTSTART;TZID=America/Denver:20241122T100000
DTEND;TZID=America/Denver:20241122T160000
DTSTAMP:20260424T013903
CREATED:20240104T192720Z
LAST-MODIFIED:20240104T192720Z
UID:10008450-1732269600-1732291200@scfd.org
SUMMARY:Viernes gratis en Four Mile
DESCRIPTION:
URL:https://scfd.org/es/event/viernes-gratis-en-four-mile-5/2024-11-22/
END:VEVENT
BEGIN:VEVENT
DTSTART;TZID=America/Denver:20241122T100000
DTEND;TZID=America/Denver:20241122T160000
DTSTAMP:20260424T013903
CREATED:20240104T192746Z
LAST-MODIFIED:20240104T192746Z
UID:10008459-1732269600-1732291200@scfd.org
SUMMARY:Viernes gratis en Four Mile
DESCRIPTION:
URL:https://scfd.org/es/event/viernes-gratis-en-four-mile-6/2024-11-22/
END:VEVENT
BEGIN:VEVENT
DTSTART;TZID=America/Denver:20241122T100000
DTEND;TZID=America/Denver:20241122T160000
DTSTAMP:20260424T013903
CREATED:20240104T192849Z
LAST-MODIFIED:20240104T192849Z
UID:10008469-1732269600-1732291200@scfd.org
SUMMARY:Viernes gratis en Four Mile
DESCRIPTION:
URL:https://scfd.org/es/event/viernes-gratis-en-four-mile-7/2024-11-22/
END:VEVENT
BEGIN:VEVENT
DTSTART;TZID=America/Denver:20241122T100000
DTEND;TZID=America/Denver:20241122T160000
DTSTAMP:20260424T013903
CREATED:20240104T192942Z
LAST-MODIFIED:20240104T192942Z
UID:10008478-1732269600-1732291200@scfd.org
SUMMARY:Viernes gratis en Four Mile
DESCRIPTION:
URL:https://scfd.org/es/event/viernes-gratis-en-four-mile-8/2024-11-22/
END:VEVENT
BEGIN:VEVENT
DTSTART;TZID=America/Denver:20241122T100000
DTEND;TZID=America/Denver:20241122T160000
DTSTAMP:20260424T013903
CREATED:20240104T193015Z
LAST-MODIFIED:20240104T193015Z
UID:10008488-1732269600-1732291200@scfd.org
SUMMARY:Viernes gratis en Four Mile
DESCRIPTION:
URL:https://scfd.org/es/event/viernes-gratis-en-four-mile-9/2024-11-22/
END:VEVENT
BEGIN:VEVENT
DTSTART;TZID=America/Denver:20241122T173000
DTEND;TZID=America/Denver:20241122T203000
DTSTAMP:20260424T013903
CREATED:20240731T150105Z
LAST-MODIFIED:20240731T150105Z
UID:10008612-1732296600-1732307400@scfd.org
SUMMARY:Estudio abierto
DESCRIPTION:
URL:https://scfd.org/es/event/estudio-abierto-20/2024-11-22/
END:VEVENT
BEGIN:VEVENT
DTSTART;TZID=America/Denver:20241122T173000
DTEND;TZID=America/Denver:20241122T203000
DTSTAMP:20260424T013903
CREATED:20240812T184814Z
LAST-MODIFIED:20240812T184814Z
UID:10008623-1732296600-1732307400@scfd.org
SUMMARY:Estudio abierto
DESCRIPTION:
URL:https://scfd.org/es/event/estudio-abierto-21/2024-11-22/
END:VEVENT
BEGIN:VEVENT
DTSTART;TZID=America/Denver:20241122T173000
DTEND;TZID=America/Denver:20241122T203000
DTSTAMP:20260424T013903
CREATED:20240812T185352Z
LAST-MODIFIED:20240812T185352Z
UID:10008629-1732296600-1732307400@scfd.org
SUMMARY:Estudio abierto
DESCRIPTION:
URL:https://scfd.org/es/event/estudio-abierto-22/2024-11-22/
END:VEVENT
BEGIN:VEVENT
DTSTART;TZID=America/Denver:20241122T173000
DTEND;TZID=America/Denver:20241122T203000
DTSTAMP:20260424T013903
CREATED:20240812T185621Z
LAST-MODIFIED:20240812T185621Z
UID:10008637-1732296600-1732307400@scfd.org
SUMMARY:Estudio abierto
DESCRIPTION:
URL:https://scfd.org/es/event/estudio-abierto-23/2024-11-22/
END:VEVENT
BEGIN:VEVENT
DTSTART;TZID=America/Denver:20241122T180000
DTEND;TZID=America/Denver:20241122T200000
DTSTAMP:20260424T013903
CREATED:20240207T160813Z
LAST-MODIFIED:20240207T160813Z
UID:10007017-1732298400-1732305600@scfd.org
SUMMARY:Micrófono abierto y mezcla
DESCRIPTION:
URL:https://scfd.org/es/event/microfono-abierto-y-mezcla-11/2024-11-22/
END:VEVENT
BEGIN:VEVENT
DTSTART;TZID=America/Denver:20241129T090000
DTEND;TZID=America/Denver:20241129T143000
DTSTAMP:20260424T013903
CREATED:20231214T221012Z
LAST-MODIFIED:20231214T221012Z
UID:10006757-1732870800-1732890600@scfd.org
SUMMARY:Jardín Botánico de Denver - Días Gratis en York Street y Chatfield Farms
DESCRIPTION:
URL:https://scfd.org/es/event/jardin-botanico-de-denver-dias-gratis-en-york-street-y-chatfield-farms/2024-11-29/
END:VEVENT
BEGIN:VEVENT
DTSTART;TZID=America/Denver:20241129T090000
DTEND;TZID=America/Denver:20241129T143000
DTSTAMP:20260424T013903
CREATED:20231214T222232Z
LAST-MODIFIED:20231214T222232Z
UID:10008032-1732870800-1732890600@scfd.org
SUMMARY:Jardín Botánico de Denver - Días Gratis en York Street y Chatfield Farms
DESCRIPTION:
URL:https://scfd.org/es/event/jardin-botanico-de-denver-dias-gratis-en-york-street-y-chatfield-farms-2/2024-11-29/
END:VEVENT
BEGIN:VEVENT
DTSTART;TZID=America/Denver:20241129T090000
DTEND;TZID=America/Denver:20241129T143000
DTSTAMP:20260424T013903
CREATED:20231214T222756Z
LAST-MODIFIED:20231214T222756Z
UID:10008109-1732870800-1732890600@scfd.org
SUMMARY:Jardín Botánico de Denver - Días Gratis en York Street y Chatfield Farms
DESCRIPTION:
URL:https://scfd.org/es/event/jardin-botanico-de-denver-dias-gratis-en-york-street-y-chatfield-farms-3/2024-11-29/
END:VEVENT
BEGIN:VEVENT
DTSTART;TZID=America/Denver:20241129T090000
DTEND;TZID=America/Denver:20241129T143000
DTSTAMP:20260424T013903
CREATED:20231214T223437Z
LAST-MODIFIED:20231214T223437Z
UID:10008150-1732870800-1732890600@scfd.org
SUMMARY:Jardín Botánico de Denver - Días Gratis en York Street y Chatfield Farms
DESCRIPTION:
URL:https://scfd.org/es/event/jardin-botanico-de-denver-dias-gratis-en-york-street-y-chatfield-farms-4/2024-11-29/
END:VEVENT
BEGIN:VEVENT
DTSTART;TZID=America/Denver:20241129T090000
DTEND;TZID=America/Denver:20241129T143000
DTSTAMP:20260424T013903
CREATED:20231214T223810Z
LAST-MODIFIED:20231214T223810Z
UID:10006887-1732870800-1732890600@scfd.org
SUMMARY:Jardín Botánico de Denver - Días Gratis en York Street y Chatfield Farms
DESCRIPTION:
URL:https://scfd.org/es/event/jardin-botanico-de-denver-dias-gratis-en-york-street-y-chatfield-farms-5/2024-11-29/
END:VEVENT
BEGIN:VEVENT
DTSTART;TZID=America/Denver:20241129T090000
DTEND;TZID=America/Denver:20241129T143000
DTSTAMP:20260424T013903
CREATED:20231214T225653Z
LAST-MODIFIED:20231214T225653Z
UID:10008218-1732870800-1732890600@scfd.org
SUMMARY:Jardín Botánico de Denver - Días Gratis en York Street y Chatfield Farms
DESCRIPTION:
URL:https://scfd.org/es/event/jardin-botanico-de-denver-dias-gratis-en-york-street-y-chatfield-farms-6/2024-11-29/
END:VEVENT
BEGIN:VEVENT
DTSTART;TZID=America/Denver:20241129T090000
DTEND;TZID=America/Denver:20241129T143000
DTSTAMP:20260424T013903
CREATED:20231214T230041Z
LAST-MODIFIED:20231214T230041Z
UID:10008250-1732870800-1732890600@scfd.org
SUMMARY:Jardín Botánico de Denver - Días Gratis en York Street y Chatfield Farms
DESCRIPTION:
URL:https://scfd.org/es/event/jardin-botanico-de-denver-dias-gratis-en-york-street-y-chatfield-farms-7/2024-11-29/
END:VEVENT
BEGIN:VEVENT
DTSTART;TZID=America/Denver:20241129T090000
DTEND;TZID=America/Denver:20241129T143000
DTSTAMP:20260424T013903
CREATED:20231214T230420Z
LAST-MODIFIED:20231214T230420Z
UID:10008326-1732870800-1732890600@scfd.org
SUMMARY:Jardín Botánico de Denver - Días Gratis en York Street y Chatfield Farms
DESCRIPTION:
URL:https://scfd.org/es/event/jardin-botanico-de-denver-dias-gratis-en-york-street-y-chatfield-farms-8/2024-11-29/
END:VEVENT
BEGIN:VEVENT
DTSTART;TZID=America/Denver:20241203T170000
DTEND;TZID=America/Denver:20241203T190000
DTSTAMP:20260424T013903
CREATED:20231214T220951Z
LAST-MODIFIED:20231214T220951Z
UID:10007953-1733245200-1733252400@scfd.org
SUMMARY:Tardes gratuitos para votantes de SCFD en la Casa Molly Brown
DESCRIPTION:
URL:https://scfd.org/es/event/tardes-gratuitos-para-votantes-de-scfd-en-la-casa-molly-brown/2024-12-03/
END:VEVENT
BEGIN:VEVENT
DTSTART;TZID=America/Denver:20241203T170000
DTEND;TZID=America/Denver:20241203T190000
DTSTAMP:20260424T013903
CREATED:20231214T221518Z
LAST-MODIFIED:20231214T221518Z
UID:10006810-1733245200-1733252400@scfd.org
SUMMARY:Tardes gratuitos para votantes de SCFD en la Casa Molly Brown
DESCRIPTION:
URL:https://scfd.org/es/event/tardes-gratuitos-para-votantes-de-scfd-en-la-casa-molly-brown-2/2024-12-03/
END:VEVENT
BEGIN:VEVENT
DTSTART;TZID=America/Denver:20241203T170000
DTEND;TZID=America/Denver:20241203T190000
DTSTAMP:20260424T013903
CREATED:20231214T222012Z
LAST-MODIFIED:20231214T222012Z
UID:10007981-1733245200-1733252400@scfd.org
SUMMARY:Tardes gratuitos para votantes de SCFD en la Casa Molly Brown
DESCRIPTION:
URL:https://scfd.org/es/event/tardes-gratuitos-para-votantes-de-scfd-en-la-casa-molly-brown-3/2024-12-03/
END:VEVENT
BEGIN:VEVENT
DTSTART;TZID=America/Denver:20241203T170000
DTEND;TZID=America/Denver:20241203T190000
DTSTAMP:20260424T013903
CREATED:20231214T222146Z
LAST-MODIFIED:20231214T222146Z
UID:10008025-1733245200-1733252400@scfd.org
SUMMARY:Tardes gratuitos para votantes de SCFD en la Casa Molly Brown
DESCRIPTION:
URL:https://scfd.org/es/event/tardes-gratuitos-para-votantes-de-scfd-en-la-casa-molly-brown-4/2024-12-03/
END:VEVENT
BEGIN:VEVENT
DTSTART;TZID=America/Denver:20241203T170000
DTEND;TZID=America/Denver:20241203T190000
DTSTAMP:20260424T013903
CREATED:20231214T222455Z
LAST-MODIFIED:20231214T222455Z
UID:10008066-1733245200-1733252400@scfd.org
SUMMARY:Tardes gratuitos para votantes de SCFD en la Casa Molly Brown
DESCRIPTION:
URL:https://scfd.org/es/event/tardes-gratuitos-para-votantes-de-scfd-en-la-casa-molly-brown-5/2024-12-03/
END:VEVENT
BEGIN:VEVENT
DTSTART;TZID=America/Denver:20241203T170000
DTEND;TZID=America/Denver:20241203T190000
DTSTAMP:20260424T013903
CREATED:20231214T223224Z
LAST-MODIFIED:20231214T223224Z
UID:10008119-1733245200-1733252400@scfd.org
SUMMARY:Tardes gratuitos para votantes de SCFD en la Casa Molly Brown
DESCRIPTION:
URL:https://scfd.org/es/event/tardes-gratuitos-para-votantes-de-scfd-en-la-casa-molly-brown-6/2024-12-03/
END:VEVENT
BEGIN:VEVENT
DTSTART;TZID=America/Denver:20241203T170000
DTEND;TZID=America/Denver:20241203T190000
DTSTAMP:20260424T013903
CREATED:20231214T223452Z
LAST-MODIFIED:20231214T223452Z
UID:10008160-1733245200-1733252400@scfd.org
SUMMARY:Tardes gratuitos para votantes de SCFD en la Casa Molly Brown
DESCRIPTION:
URL:https://scfd.org/es/event/tardes-gratuitos-para-votantes-de-scfd-en-la-casa-molly-brown-7/2024-12-03/
END:VEVENT
END:VCALENDAR