BEGIN:VCALENDAR
VERSION:2.0
PRODID:-//SCFD - ECPv6.15.18//NONSGML v1.0//EN
CALSCALE:GREGORIAN
METHOD:PUBLISH
X-WR-CALNAME:SCFD
X-ORIGINAL-URL:https://scfd.org/es/
X-WR-CALDESC:Eventos para SCFD
REFRESH-INTERVAL;VALUE=DURATION:PT1H
X-Robots-Tag:noindex
X-PUBLISHED-TTL:PT1H
BEGIN:VTIMEZONE
TZID:America/Denver
BEGIN:DAYLIGHT
TZOFFSETFROM:-0700
TZOFFSETTO:-0600
TZNAME:MDT
DTSTART:20250309T090000
END:DAYLIGHT
BEGIN:STANDARD
TZOFFSETFROM:-0600
TZOFFSETTO:-0700
TZNAME:MST
DTSTART:20251102T080000
END:STANDARD
BEGIN:DAYLIGHT
TZOFFSETFROM:-0700
TZOFFSETTO:-0600
TZNAME:MDT
DTSTART:20260308T090000
END:DAYLIGHT
BEGIN:STANDARD
TZOFFSETFROM:-0600
TZOFFSETTO:-0700
TZNAME:MST
DTSTART:20261101T080000
END:STANDARD
BEGIN:DAYLIGHT
TZOFFSETFROM:-0700
TZOFFSETTO:-0600
TZNAME:MDT
DTSTART:20270314T090000
END:DAYLIGHT
BEGIN:STANDARD
TZOFFSETFROM:-0600
TZOFFSETTO:-0700
TZNAME:MST
DTSTART:20271107T080000
END:STANDARD
END:VTIMEZONE
BEGIN:VEVENT
DTSTART;TZID=America/Denver:20260507T160000
DTEND;TZID=America/Denver:20260507T190000
DTSTAMP:20260425T133309
CREATED:20251212T190725Z
LAST-MODIFIED:20251212T190725Z
UID:10009060-1778169600-1778180400@scfd.org
SUMMARY:Noches gratuitas SCFD
DESCRIPTION:
URL:https://scfd.org/es/event/noches-gratuitas-scfd/2026-05-07/
END:VEVENT
BEGIN:VEVENT
DTSTART;TZID=America/Denver:20260604T160000
DTEND;TZID=America/Denver:20260604T190000
DTSTAMP:20260425T133309
CREATED:20251212T190725Z
LAST-MODIFIED:20251212T190725Z
UID:10009061-1780588800-1780599600@scfd.org
SUMMARY:Noches gratuitas SCFD
DESCRIPTION:
URL:https://scfd.org/es/event/noches-gratuitas-scfd/2026-06-04/
END:VEVENT
BEGIN:VEVENT
DTSTART;TZID=America/Denver:20260702T160000
DTEND;TZID=America/Denver:20260702T190000
DTSTAMP:20260425T133309
CREATED:20251212T190725Z
LAST-MODIFIED:20251212T190725Z
UID:10009062-1783008000-1783018800@scfd.org
SUMMARY:Noches gratuitas SCFD
DESCRIPTION:
URL:https://scfd.org/es/event/noches-gratuitas-scfd/2026-07-02/
END:VEVENT
BEGIN:VEVENT
DTSTART;TZID=America/Denver:20260806T160000
DTEND;TZID=America/Denver:20260806T190000
DTSTAMP:20260425T133309
CREATED:20251212T190725Z
LAST-MODIFIED:20251212T190725Z
UID:10009063-1786032000-1786042800@scfd.org
SUMMARY:Noches gratuitas SCFD
DESCRIPTION:
URL:https://scfd.org/es/event/noches-gratuitas-scfd/2026-08-06/
END:VEVENT
BEGIN:VEVENT
DTSTART;TZID=America/Denver:20260903T160000
DTEND;TZID=America/Denver:20260903T190000
DTSTAMP:20260425T133309
CREATED:20251212T190725Z
LAST-MODIFIED:20251212T190725Z
UID:10009064-1788451200-1788462000@scfd.org
SUMMARY:Noches gratuitas SCFD
DESCRIPTION:
URL:https://scfd.org/es/event/noches-gratuitas-scfd/2026-09-03/
END:VEVENT
BEGIN:VEVENT
DTSTART;TZID=America/Denver:20261001T160000
DTEND;TZID=America/Denver:20261001T190000
DTSTAMP:20260425T133309
CREATED:20251212T190725Z
LAST-MODIFIED:20251212T190725Z
UID:10009065-1790870400-1790881200@scfd.org
SUMMARY:Noches gratuitas SCFD
DESCRIPTION:
URL:https://scfd.org/es/event/noches-gratuitas-scfd/2026-10-01/
END:VEVENT
BEGIN:VEVENT
DTSTART;TZID=America/Denver:20261105T160000
DTEND;TZID=America/Denver:20261105T190000
DTSTAMP:20260425T133309
CREATED:20251212T190725Z
LAST-MODIFIED:20251212T190725Z
UID:10009066-1793894400-1793905200@scfd.org
SUMMARY:Noches gratuitas SCFD
DESCRIPTION:
URL:https://scfd.org/es/event/noches-gratuitas-scfd/2026-11-05/
END:VEVENT
BEGIN:VEVENT
DTSTART;TZID=America/Denver:20261203T160000
DTEND;TZID=America/Denver:20261203T190000
DTSTAMP:20260425T133309
CREATED:20251212T190725Z
LAST-MODIFIED:20251212T190725Z
UID:10009067-1796313600-1796324400@scfd.org
SUMMARY:Noches gratuitas SCFD
DESCRIPTION:
URL:https://scfd.org/es/event/noches-gratuitas-scfd/2026-12-03/
END:VEVENT
END:VCALENDAR