BEGIN:VCALENDAR
VERSION:2.0
PRODID:-//SCFD - ECPv6.15.18//NONSGML v1.0//EN
CALSCALE:GREGORIAN
METHOD:PUBLISH
X-ORIGINAL-URL:https://scfd.org/es/
X-WR-CALDESC:Eventos para SCFD
REFRESH-INTERVAL;VALUE=DURATION:PT1H
X-Robots-Tag:noindex
X-PUBLISHED-TTL:PT1H
BEGIN:VTIMEZONE
TZID:America/Denver
BEGIN:DAYLIGHT
TZOFFSETFROM:-0700
TZOFFSETTO:-0600
TZNAME:MDT
DTSTART:20200308T090000
END:DAYLIGHT
BEGIN:STANDARD
TZOFFSETFROM:-0600
TZOFFSETTO:-0700
TZNAME:MST
DTSTART:20201101T080000
END:STANDARD
BEGIN:DAYLIGHT
TZOFFSETFROM:-0700
TZOFFSETTO:-0600
TZNAME:MDT
DTSTART:20210314T090000
END:DAYLIGHT
BEGIN:STANDARD
TZOFFSETFROM:-0600
TZOFFSETTO:-0700
TZNAME:MST
DTSTART:20211107T080000
END:STANDARD
BEGIN:DAYLIGHT
TZOFFSETFROM:-0700
TZOFFSETTO:-0600
TZNAME:MDT
DTSTART:20220313T090000
END:DAYLIGHT
BEGIN:STANDARD
TZOFFSETFROM:-0600
TZOFFSETTO:-0700
TZNAME:MST
DTSTART:20221106T080000
END:STANDARD
END:VTIMEZONE
BEGIN:VEVENT
DTSTART;TZID=America/Denver:20211118T100000
DTEND;TZID=America/Denver:20211118T170000
DTSTAMP:20260425T190505
CREATED:20210218T190034Z
LAST-MODIFIED:20210218T190034Z
UID:10006033-1637229600-1637254800@scfd.org
SUMMARY:Días libres de SCFD - ¡El décimo aniversario del Museo Clyfford Still!
DESCRIPTION:
URL:https://scfd.org/es/event/dias-libres-de-scfd-el-decimo-aniversario-del-museo-clyfford-still/
CATEGORIES:Día libre
END:VEVENT
BEGIN:VEVENT
DTSTART;TZID=America/Denver:20211118T183000
DTEND;TZID=America/Denver:20211118T203000
DTSTAMP:20260425T190505
CREATED:20211202T032310Z
LAST-MODIFIED:20211202T032310Z
UID:10006263-1637260200-1637267400@scfd.org
SUMMARY:Concierto de otoño de MHCB
DESCRIPTION:
URL:https://scfd.org/es/event/concierto-de-otono-de-mhcb/
END:VEVENT
END:VCALENDAR