BEGIN:VCALENDAR
VERSION:2.0
PRODID:-//SCFD - ECPv6.15.18//NONSGML v1.0//EN
CALSCALE:GREGORIAN
METHOD:PUBLISH
X-WR-CALNAME:SCFD
X-ORIGINAL-URL:https://scfd.org/es/
X-WR-CALDESC:Eventos para SCFD
REFRESH-INTERVAL;VALUE=DURATION:PT1H
X-Robots-Tag:noindex
X-PUBLISHED-TTL:PT1H
BEGIN:VTIMEZONE
TZID:America/Denver
BEGIN:DAYLIGHT
TZOFFSETFROM:-0700
TZOFFSETTO:-0600
TZNAME:MDT
DTSTART:20210314T090000
END:DAYLIGHT
BEGIN:STANDARD
TZOFFSETFROM:-0600
TZOFFSETTO:-0700
TZNAME:MST
DTSTART:20211107T080000
END:STANDARD
BEGIN:DAYLIGHT
TZOFFSETFROM:-0700
TZOFFSETTO:-0600
TZNAME:MDT
DTSTART:20220313T090000
END:DAYLIGHT
BEGIN:STANDARD
TZOFFSETFROM:-0600
TZOFFSETTO:-0700
TZNAME:MST
DTSTART:20221106T080000
END:STANDARD
BEGIN:DAYLIGHT
TZOFFSETFROM:-0700
TZOFFSETTO:-0600
TZNAME:MDT
DTSTART:20230312T090000
END:DAYLIGHT
BEGIN:STANDARD
TZOFFSETFROM:-0600
TZOFFSETTO:-0700
TZNAME:MST
DTSTART:20231105T080000
END:STANDARD
END:VTIMEZONE
BEGIN:VEVENT
DTSTART;TZID=America/Denver:20220103T090000
DTEND;TZID=America/Denver:20220103T170000
DTSTAMP:20260423T024532
CREATED:20220121T023158Z
LAST-MODIFIED:20220415T221318Z
UID:10006070-1641200400-1641229200@scfd.org
SUMMARY:Días libres de SCFD 2022 en DMNS
DESCRIPTION:
URL:https://scfd.org/es/event/dias-libres-de-scfd-2022-5/2022-01-03/
END:VEVENT
BEGIN:VEVENT
DTSTART;TZID=America/Denver:20220104T100000
DTEND;TZID=America/Denver:20220104T210000
DTSTAMP:20260423T024532
CREATED:20220120T230508Z
LAST-MODIFIED:20220120T230508Z
UID:10006367-1641290400-1641330000@scfd.org
SUMMARY:Día libre en el Museo de Arte de Denver
DESCRIPTION:
URL:https://scfd.org/es/event/dia-libre-en-el-museo-de-arte-de-denver-14/
END:VEVENT
END:VCALENDAR