BEGIN:VCALENDAR
VERSION:2.0
PRODID:-//SCFD - ECPv6.15.18//NONSGML v1.0//EN
CALSCALE:GREGORIAN
METHOD:PUBLISH
X-WR-CALNAME:SCFD
X-ORIGINAL-URL:https://scfd.org/es/
X-WR-CALDESC:Eventos para SCFD
REFRESH-INTERVAL;VALUE=DURATION:PT1H
X-Robots-Tag:noindex
X-PUBLISHED-TTL:PT1H
BEGIN:VTIMEZONE
TZID:America/Denver
BEGIN:DAYLIGHT
TZOFFSETFROM:-0700
TZOFFSETTO:-0600
TZNAME:MDT
DTSTART:20210314T090000
END:DAYLIGHT
BEGIN:STANDARD
TZOFFSETFROM:-0600
TZOFFSETTO:-0700
TZNAME:MST
DTSTART:20211107T080000
END:STANDARD
BEGIN:DAYLIGHT
TZOFFSETFROM:-0700
TZOFFSETTO:-0600
TZNAME:MDT
DTSTART:20220313T090000
END:DAYLIGHT
BEGIN:STANDARD
TZOFFSETFROM:-0600
TZOFFSETTO:-0700
TZNAME:MST
DTSTART:20221106T080000
END:STANDARD
BEGIN:DAYLIGHT
TZOFFSETFROM:-0700
TZOFFSETTO:-0600
TZNAME:MDT
DTSTART:20230312T090000
END:DAYLIGHT
BEGIN:STANDARD
TZOFFSETFROM:-0600
TZOFFSETTO:-0700
TZNAME:MST
DTSTART:20231105T080000
END:STANDARD
END:VTIMEZONE
BEGIN:VEVENT
DTSTART;TZID=America/Denver:20220501T090000
DTEND;TZID=America/Denver:20220501T170000
DTSTAMP:20260425T180100
CREATED:20220121T023158Z
LAST-MODIFIED:20220415T221318Z
UID:10006074-1651395600-1651424400@scfd.org
SUMMARY:Días libres de SCFD 2022 en DMNS
DESCRIPTION:
URL:https://scfd.org/es/event/dias-libres-de-scfd-2022-5/2022-05-01/
END:VEVENT
BEGIN:VEVENT
DTSTART;TZID=America/Denver:20220501T160000
DTEND;TZID=America/Denver:20220501T180000
DTSTAMP:20260425T180100
CREATED:20210909T225550Z
LAST-MODIFIED:20210909T225555Z
UID:10005974-1651420800-1651428000@scfd.org
SUMMARY:Concierto en escena y pantalla
DESCRIPTION:
URL:https://scfd.org/es/event/concierto-en-escena-y-pantalla/
END:VEVENT
END:VCALENDAR