BEGIN:VCALENDAR
VERSION:2.0
PRODID:-//SCFD - ECPv6.15.18//NONSGML v1.0//EN
CALSCALE:GREGORIAN
METHOD:PUBLISH
X-ORIGINAL-URL:https://scfd.org/es/
X-WR-CALDESC:Eventos para SCFD
REFRESH-INTERVAL;VALUE=DURATION:PT1H
X-Robots-Tag:noindex
X-PUBLISHED-TTL:PT1H
BEGIN:VTIMEZONE
TZID:America/Denver
BEGIN:DAYLIGHT
TZOFFSETFROM:-0700
TZOFFSETTO:-0600
TZNAME:MDT
DTSTART:20210314T090000
END:DAYLIGHT
BEGIN:STANDARD
TZOFFSETFROM:-0600
TZOFFSETTO:-0700
TZNAME:MST
DTSTART:20211107T080000
END:STANDARD
BEGIN:DAYLIGHT
TZOFFSETFROM:-0700
TZOFFSETTO:-0600
TZNAME:MDT
DTSTART:20220313T090000
END:DAYLIGHT
BEGIN:STANDARD
TZOFFSETFROM:-0600
TZOFFSETTO:-0700
TZNAME:MST
DTSTART:20221106T080000
END:STANDARD
BEGIN:DAYLIGHT
TZOFFSETFROM:-0700
TZOFFSETTO:-0600
TZNAME:MDT
DTSTART:20230312T090000
END:DAYLIGHT
BEGIN:STANDARD
TZOFFSETFROM:-0600
TZOFFSETTO:-0700
TZNAME:MST
DTSTART:20231105T080000
END:STANDARD
END:VTIMEZONE
BEGIN:VEVENT
DTSTART;TZID=America/Denver:20220510T100000
DTEND;TZID=America/Denver:20220510T210000
DTSTAMP:20260425T213959
CREATED:20220415T221035Z
LAST-MODIFIED:20220415T221035Z
UID:10006559-1652176800-1652216400@scfd.org
SUMMARY:Día libre de SCFD en el Museo de Arte de Denver
DESCRIPTION:
URL:https://scfd.org/es/event/dia-libre-de-scfd-en-el-museo-de-arte-de-denver-2/2022-05-10/
END:VEVENT
BEGIN:VEVENT
DTSTART;TZID=America/Denver:20220512T090000
DTEND;TZID=America/Denver:20220512T170000
DTSTAMP:20260425T213959
CREATED:20220120T230653Z
LAST-MODIFIED:20220120T230654Z
UID:10006416-1652346000-1652374800@scfd.org
SUMMARY:Día de Entrada Gratuita SCFD
DESCRIPTION:
URL:https://scfd.org/es/event/dia-de-entrada-gratuita-scfd/2022-05-12/
END:VEVENT
BEGIN:VEVENT
DTSTART;TZID=America/Denver:20220512T090000
DTEND;TZID=America/Denver:20220512T170000
DTSTAMP:20260425T213959
CREATED:20220121T023248Z
LAST-MODIFIED:20220121T023248Z
UID:10006082-1652346000-1652374800@scfd.org
SUMMARY:Día de Entrada Gratuita SCFD
DESCRIPTION:
URL:https://scfd.org/es/event/dia-de-entrada-gratuita-scfd-2/2022-05-12/
END:VEVENT
BEGIN:VEVENT
DTSTART;TZID=America/Denver:20220513T100000
DTEND;TZID=America/Denver:20220513T160000
DTSTAMP:20260425T213959
CREATED:20220415T221013Z
LAST-MODIFIED:20220415T221013Z
UID:10006501-1652436000-1652457600@scfd.org
SUMMARY:Días libres de SCFD en Four Mile Historic Park
DESCRIPTION:
URL:https://scfd.org/es/event/dias-libres-de-scfd-en-four-mile-historic-park-2/2022-05-13/
END:VEVENT
BEGIN:VEVENT
DTSTART;TZID=America/Denver:20220513T100000
DTEND;TZID=America/Denver:20220513T160000
DTSTAMP:20260425T213959
CREATED:20220415T221131Z
LAST-MODIFIED:20220415T221131Z
UID:10006605-1652436000-1652457600@scfd.org
SUMMARY:Días libres de SCFD en Four Mile Historic Park
DESCRIPTION:
URL:https://scfd.org/es/event/dias-libres-de-scfd-en-four-mile-historic-park-3/2022-05-13/
END:VEVENT
BEGIN:VEVENT
DTSTART;TZID=America/Denver:20220513T100000
DTEND;TZID=America/Denver:20220513T160000
DTSTAMP:20260425T213959
CREATED:20220415T221147Z
LAST-MODIFIED:20220415T221313Z
UID:10006637-1652436000-1652457600@scfd.org
SUMMARY:Días libres de SCFD en Four Mile Historic Park
DESCRIPTION:
URL:https://scfd.org/es/event/dias-libres-de-scfd-en-four-mile-historic-park-5/2022-05-13/
END:VEVENT
END:VCALENDAR