BEGIN:VCALENDAR
VERSION:2.0
PRODID:-//SCFD - ECPv6.15.18//NONSGML v1.0//EN
CALSCALE:GREGORIAN
METHOD:PUBLISH
X-WR-CALNAME:SCFD
X-ORIGINAL-URL:https://scfd.org/es/
X-WR-CALDESC:Eventos para SCFD
REFRESH-INTERVAL;VALUE=DURATION:PT1H
X-Robots-Tag:noindex
X-PUBLISHED-TTL:PT1H
BEGIN:VTIMEZONE
TZID:America/Denver
BEGIN:DAYLIGHT
TZOFFSETFROM:-0700
TZOFFSETTO:-0600
TZNAME:MDT
DTSTART:20220313T090000
END:DAYLIGHT
BEGIN:STANDARD
TZOFFSETFROM:-0600
TZOFFSETTO:-0700
TZNAME:MST
DTSTART:20221106T080000
END:STANDARD
BEGIN:DAYLIGHT
TZOFFSETFROM:-0700
TZOFFSETTO:-0600
TZNAME:MDT
DTSTART:20230312T090000
END:DAYLIGHT
BEGIN:STANDARD
TZOFFSETFROM:-0600
TZOFFSETTO:-0700
TZNAME:MST
DTSTART:20231105T080000
END:STANDARD
BEGIN:DAYLIGHT
TZOFFSETFROM:-0700
TZOFFSETTO:-0600
TZNAME:MDT
DTSTART:20240310T090000
END:DAYLIGHT
BEGIN:STANDARD
TZOFFSETFROM:-0600
TZOFFSETTO:-0700
TZNAME:MST
DTSTART:20241103T080000
END:STANDARD
END:VTIMEZONE
BEGIN:VEVENT
DTSTART;VALUE=DATE:20230128
DTEND;VALUE=DATE:20230327
DTSTAMP:20260423T222732
CREATED:20230227T173242Z
LAST-MODIFIED:20230227T173242Z
UID:10007405-1674864000-1679875199@scfd.org
SUMMARY:2023 Members' Show & Power of Process: Una exposición de estudiantes de Jeffco
DESCRIPTION:
URL:https://scfd.org/es/event/2023-members-show-power-of-process-una-exposicion-de-estudiantes-de-jeffco/
END:VEVENT
BEGIN:VEVENT
DTSTART;TZID=America/Denver:20230223T100000
DTEND;TZID=America/Denver:20230223T150000
DTSTAMP:20260423T222732
CREATED:20221216T180126Z
LAST-MODIFIED:20221216T180126Z
UID:10006316-1677146400-1677164400@scfd.org
SUMMARY:Días libres de SCFD en el Centro de Conservación de plains
DESCRIPTION:
URL:https://scfd.org/es/event/dias-libres-de-scfd-en-el-centro-de-conservacion-de-plains-9/2023-02-23/
END:VEVENT
BEGIN:VEVENT
DTSTART;TZID=America/Denver:20230223T100000
DTEND;TZID=America/Denver:20230223T170000
DTSTAMP:20260423T222732
CREATED:20221216T175451Z
LAST-MODIFIED:20221216T175451Z
UID:10007045-1677146400-1677171600@scfd.org
SUMMARY:Día Libre de SCFD
DESCRIPTION:
URL:https://scfd.org/es/event/dia-libre-de-scfd-19/
END:VEVENT
BEGIN:VEVENT
DTSTART;TZID=America/Denver:20230224T180000
DTEND;TZID=America/Denver:20230224T210000
DTSTAMP:20260423T222732
CREATED:20230119T012312Z
LAST-MODIFIED:20230119T012312Z
UID:10007333-1677261600-1677272400@scfd.org
SUMMARY:Estudio abierto
DESCRIPTION:
URL:https://scfd.org/es/event/estudio-abierto-13/2023-02-24/
END:VEVENT
BEGIN:VEVENT
DTSTART;TZID=America/Denver:20230224T180000
DTEND;TZID=America/Denver:20230224T210000
DTSTAMP:20260423T222732
CREATED:20230119T012328Z
LAST-MODIFIED:20230119T012328Z
UID:10007348-1677261600-1677272400@scfd.org
SUMMARY:Estudio abierto
DESCRIPTION:
URL:https://scfd.org/es/event/estudio-abierto-14/2023-02-24/
END:VEVENT
BEGIN:VEVENT
DTSTART;TZID=America/Denver:20230224T180000
DTEND;TZID=America/Denver:20230224T210000
DTSTAMP:20260423T222733
CREATED:20230119T012403Z
LAST-MODIFIED:20230119T012403Z
UID:10007370-1677261600-1677272400@scfd.org
SUMMARY:Estudio abierto
DESCRIPTION:
URL:https://scfd.org/es/event/estudio-abierto-15/2023-02-24/
END:VEVENT
BEGIN:VEVENT
DTSTART;TZID=America/Denver:20230224T180000
DTEND;TZID=America/Denver:20230224T210000
DTSTAMP:20260423T222733
CREATED:20230119T012431Z
LAST-MODIFIED:20230119T012431Z
UID:10006512-1677261600-1677272400@scfd.org
SUMMARY:Estudio abierto
DESCRIPTION:
URL:https://scfd.org/es/event/estudio-abierto-16/2023-02-24/
END:VEVENT
BEGIN:VEVENT
DTSTART;TZID=America/Denver:20230224T180000
DTEND;TZID=America/Denver:20230224T210000
DTSTAMP:20260423T222733
CREATED:20230119T012446Z
LAST-MODIFIED:20230119T012446Z
UID:10006530-1677261600-1677272400@scfd.org
SUMMARY:Estudio abierto
DESCRIPTION:
URL:https://scfd.org/es/event/estudio-abierto-17/2023-02-24/
END:VEVENT
BEGIN:VEVENT
DTSTART;TZID=America/Denver:20230224T180000
DTEND;TZID=America/Denver:20230224T210000
DTSTAMP:20260423T222733
CREATED:20230119T012518Z
LAST-MODIFIED:20230119T012518Z
UID:10006570-1677261600-1677272400@scfd.org
SUMMARY:Estudio abierto
DESCRIPTION:
URL:https://scfd.org/es/event/estudio-abierto-18/2023-02-24/
END:VEVENT
END:VCALENDAR