BEGIN:VCALENDAR
VERSION:2.0
PRODID:-//SCFD - ECPv6.15.18//NONSGML v1.0//EN
CALSCALE:GREGORIAN
METHOD:PUBLISH
X-WR-CALNAME:SCFD
X-ORIGINAL-URL:https://scfd.org/es/
X-WR-CALDESC:Eventos para SCFD
REFRESH-INTERVAL;VALUE=DURATION:PT1H
X-Robots-Tag:noindex
X-PUBLISHED-TTL:PT1H
BEGIN:VTIMEZONE
TZID:America/Denver
BEGIN:DAYLIGHT
TZOFFSETFROM:-0700
TZOFFSETTO:-0600
TZNAME:MDT
DTSTART:20220313T090000
END:DAYLIGHT
BEGIN:STANDARD
TZOFFSETFROM:-0600
TZOFFSETTO:-0700
TZNAME:MST
DTSTART:20221106T080000
END:STANDARD
BEGIN:DAYLIGHT
TZOFFSETFROM:-0700
TZOFFSETTO:-0600
TZNAME:MDT
DTSTART:20230312T090000
END:DAYLIGHT
BEGIN:STANDARD
TZOFFSETFROM:-0600
TZOFFSETTO:-0700
TZNAME:MST
DTSTART:20231105T080000
END:STANDARD
BEGIN:DAYLIGHT
TZOFFSETFROM:-0700
TZOFFSETTO:-0600
TZNAME:MDT
DTSTART:20240310T090000
END:DAYLIGHT
BEGIN:STANDARD
TZOFFSETFROM:-0600
TZOFFSETTO:-0700
TZNAME:MST
DTSTART:20241103T080000
END:STANDARD
END:VTIMEZONE
BEGIN:VEVENT
DTSTART;VALUE=DATE:20230128
DTEND;VALUE=DATE:20230327
DTSTAMP:20260424T014638
CREATED:20230227T173242Z
LAST-MODIFIED:20230227T173242Z
UID:10007405-1674864000-1679875199@scfd.org
SUMMARY:2023 Members' Show & Power of Process: Una exposición de estudiantes de Jeffco
DESCRIPTION:
URL:https://scfd.org/es/event/2023-members-show-power-of-process-una-exposicion-de-estudiantes-de-jeffco/
END:VEVENT
BEGIN:VEVENT
DTSTART;TZID=America/Denver:20230310T180000
DTEND;TZID=America/Denver:20230310T210000
DTSTAMP:20260424T014638
CREATED:20230119T012217Z
LAST-MODIFIED:20230119T012217Z
UID:10007284-1678471200-1678482000@scfd.org
SUMMARY:Estudio abierto
DESCRIPTION:
URL:https://scfd.org/es/event/estudio-abierto-11/2023-03-10/
END:VEVENT
BEGIN:VEVENT
DTSTART;TZID=America/Denver:20230310T180000
DTEND;TZID=America/Denver:20230310T210000
DTSTAMP:20260424T014638
CREATED:20230119T012256Z
LAST-MODIFIED:20230119T012256Z
UID:10007300-1678471200-1678482000@scfd.org
SUMMARY:Estudio abierto
DESCRIPTION:
URL:https://scfd.org/es/event/estudio-abierto-12/2023-03-10/
END:VEVENT
BEGIN:VEVENT
DTSTART;TZID=America/Denver:20230310T180000
DTEND;TZID=America/Denver:20230310T210000
DTSTAMP:20260424T014638
CREATED:20230119T012312Z
LAST-MODIFIED:20230119T012312Z
UID:10007335-1678471200-1678482000@scfd.org
SUMMARY:Estudio abierto
DESCRIPTION:
URL:https://scfd.org/es/event/estudio-abierto-13/2023-03-10/
END:VEVENT
BEGIN:VEVENT
DTSTART;TZID=America/Denver:20230310T180000
DTEND;TZID=America/Denver:20230310T210000
DTSTAMP:20260424T014638
CREATED:20230119T012328Z
LAST-MODIFIED:20230119T012328Z
UID:10007350-1678471200-1678482000@scfd.org
SUMMARY:Estudio abierto
DESCRIPTION:
URL:https://scfd.org/es/event/estudio-abierto-14/2023-03-10/
END:VEVENT
BEGIN:VEVENT
DTSTART;TZID=America/Denver:20230310T180000
DTEND;TZID=America/Denver:20230310T210000
DTSTAMP:20260424T014638
CREATED:20230119T012403Z
LAST-MODIFIED:20230119T012403Z
UID:10007372-1678471200-1678482000@scfd.org
SUMMARY:Estudio abierto
DESCRIPTION:
URL:https://scfd.org/es/event/estudio-abierto-15/2023-03-10/
END:VEVENT
BEGIN:VEVENT
DTSTART;TZID=America/Denver:20230310T180000
DTEND;TZID=America/Denver:20230310T210000
DTSTAMP:20260424T014638
CREATED:20230119T012431Z
LAST-MODIFIED:20230119T012431Z
UID:10006514-1678471200-1678482000@scfd.org
SUMMARY:Estudio abierto
DESCRIPTION:
URL:https://scfd.org/es/event/estudio-abierto-16/2023-03-10/
END:VEVENT
BEGIN:VEVENT
DTSTART;TZID=America/Denver:20230310T180000
DTEND;TZID=America/Denver:20230310T210000
DTSTAMP:20260424T014638
CREATED:20230119T012446Z
LAST-MODIFIED:20230119T012446Z
UID:10006532-1678471200-1678482000@scfd.org
SUMMARY:Estudio abierto
DESCRIPTION:
URL:https://scfd.org/es/event/estudio-abierto-17/2023-03-10/
END:VEVENT
BEGIN:VEVENT
DTSTART;TZID=America/Denver:20230310T180000
DTEND;TZID=America/Denver:20230310T210000
DTSTAMP:20260424T014638
CREATED:20230119T012518Z
LAST-MODIFIED:20230119T012518Z
UID:10006572-1678471200-1678482000@scfd.org
SUMMARY:Estudio abierto
DESCRIPTION:
URL:https://scfd.org/es/event/estudio-abierto-18/2023-03-10/
END:VEVENT
BEGIN:VEVENT
DTSTART;TZID=America/Denver:20230311T090000
DTEND;TZID=America/Denver:20230311T150000
DTSTAMP:20260424T014638
CREATED:20221216T180126Z
LAST-MODIFIED:20221216T180126Z
UID:10006317-1678525200-1678546800@scfd.org
SUMMARY:Días libres de SCFD en el Centro de Conservación de plains
DESCRIPTION:
URL:https://scfd.org/es/event/dias-libres-de-scfd-en-el-centro-de-conservacion-de-plains-9/2023-03-11/
END:VEVENT
BEGIN:VEVENT
DTSTART;TZID=America/Denver:20230311T090000
DTEND;TZID=America/Denver:20230311T170000
DTSTAMP:20260424T014638
CREATED:20221216T180226Z
LAST-MODIFIED:20221216T180226Z
UID:10006324-1678525200-1678554000@scfd.org
SUMMARY:Día libre de SCFD en el Museo
DESCRIPTION:
URL:https://scfd.org/es/event/dia-libre-de-scfd-en-el-museo/2023-03-11/
END:VEVENT
BEGIN:VEVENT
DTSTART;TZID=America/Denver:20230311T090000
DTEND;TZID=America/Denver:20230311T170000
DTSTAMP:20260424T014638
CREATED:20221216T180305Z
LAST-MODIFIED:20221216T180305Z
UID:10006335-1678525200-1678554000@scfd.org
SUMMARY:Día libre de SCFD en el Museo
DESCRIPTION:
URL:https://scfd.org/es/event/dia-libre-de-scfd-en-el-museo-2/2023-03-11/
END:VEVENT
BEGIN:VEVENT
DTSTART;TZID=America/Denver:20230311T090000
DTEND;TZID=America/Denver:20230311T170000
DTSTAMP:20260424T014638
CREATED:20221216T180316Z
LAST-MODIFIED:20221216T180316Z
UID:10006346-1678525200-1678554000@scfd.org
SUMMARY:Día libre de SCFD en el Museo
DESCRIPTION:
URL:https://scfd.org/es/event/dia-libre-de-scfd-en-el-museo-3/2023-03-11/
END:VEVENT
BEGIN:VEVENT
DTSTART;TZID=America/Denver:20230311T090000
DTEND;TZID=America/Denver:20230311T170000
DTSTAMP:20260424T014638
CREATED:20221216T180333Z
LAST-MODIFIED:20221216T180333Z
UID:10006357-1678525200-1678554000@scfd.org
SUMMARY:Día libre de SCFD en el Museo
DESCRIPTION:
URL:https://scfd.org/es/event/dia-libre-de-scfd-en-el-museo-4/2023-03-11/
END:VEVENT
BEGIN:VEVENT
DTSTART;TZID=America/Denver:20230311T090000
DTEND;TZID=America/Denver:20230311T170000
DTSTAMP:20260424T014638
CREATED:20221216T180403Z
LAST-MODIFIED:20221216T180403Z
UID:10006368-1678525200-1678554000@scfd.org
SUMMARY:Día libre de SCFD en el Museo
DESCRIPTION:
URL:https://scfd.org/es/event/dia-libre-de-scfd-en-el-museo-5/2023-03-11/
END:VEVENT
BEGIN:VEVENT
DTSTART;TZID=America/Denver:20230311T090000
DTEND;TZID=America/Denver:20230311T170000
DTSTAMP:20260424T014638
CREATED:20221216T180435Z
LAST-MODIFIED:20221216T180435Z
UID:10006378-1678525200-1678554000@scfd.org
SUMMARY:Día libre de SCFD en el Museo
DESCRIPTION:
URL:https://scfd.org/es/event/dia-libre-de-scfd-en-el-museo-6/2023-03-11/
END:VEVENT
BEGIN:VEVENT
DTSTART;TZID=America/Denver:20230311T090000
DTEND;TZID=America/Denver:20230311T170000
DTSTAMP:20260424T014638
CREATED:20221216T180457Z
LAST-MODIFIED:20221216T180457Z
UID:10006388-1678525200-1678554000@scfd.org
SUMMARY:Día libre de SCFD en el Museo
DESCRIPTION:
URL:https://scfd.org/es/event/dia-libre-de-scfd-en-el-museo-7/2023-03-11/
END:VEVENT
BEGIN:VEVENT
DTSTART;TZID=America/Denver:20230311T090000
DTEND;TZID=America/Denver:20230311T170000
DTSTAMP:20260424T014638
CREATED:20221216T180509Z
LAST-MODIFIED:20221216T180509Z
UID:10006398-1678525200-1678554000@scfd.org
SUMMARY:Día libre de SCFD en el Museo
DESCRIPTION:
URL:https://scfd.org/es/event/dia-libre-de-scfd-en-el-museo-8/2023-03-11/
END:VEVENT
BEGIN:VEVENT
DTSTART;TZID=America/Denver:20230311T090000
DTEND;TZID=America/Denver:20230311T170000
DTSTAMP:20260424T014638
CREATED:20221216T180641Z
LAST-MODIFIED:20221216T180641Z
UID:10007047-1678525200-1678554000@scfd.org
SUMMARY:Día libre de SCFD en el Museo
DESCRIPTION:
URL:https://scfd.org/es/event/dia-libre-de-scfd-en-el-museo-9/2023-03-11/
END:VEVENT
BEGIN:VEVENT
DTSTART;TZID=America/Denver:20230311T090000
DTEND;TZID=America/Denver:20230311T170000
DTSTAMP:20260424T014638
CREATED:20221216T181453Z
LAST-MODIFIED:20221216T181453Z
UID:10007064-1678525200-1678554000@scfd.org
SUMMARY:Día libre de SCFD en el Museo
DESCRIPTION:
URL:https://scfd.org/es/event/dia-libre-de-scfd-en-el-museo-10/2023-03-11/
END:VEVENT
BEGIN:VEVENT
DTSTART;TZID=America/Denver:20230311T090000
DTEND;TZID=America/Denver:20230311T170000
DTSTAMP:20260424T014638
CREATED:20221216T181557Z
LAST-MODIFIED:20221216T181557Z
UID:10007095-1678525200-1678554000@scfd.org
SUMMARY:Día libre de SCFD en el Museo
DESCRIPTION:
URL:https://scfd.org/es/event/dia-libre-de-scfd-en-el-museo-11/2023-03-11/
END:VEVENT
END:VCALENDAR