BEGIN:VCALENDAR
VERSION:2.0
PRODID:-//SCFD - ECPv6.15.18//NONSGML v1.0//EN
CALSCALE:GREGORIAN
METHOD:PUBLISH
X-ORIGINAL-URL:https://scfd.org/es/
X-WR-CALDESC:Eventos para SCFD
REFRESH-INTERVAL;VALUE=DURATION:PT1H
X-Robots-Tag:noindex
X-PUBLISHED-TTL:PT1H
BEGIN:VTIMEZONE
TZID:America/Denver
BEGIN:DAYLIGHT
TZOFFSETFROM:-0700
TZOFFSETTO:-0600
TZNAME:MDT
DTSTART:20230312T090000
END:DAYLIGHT
BEGIN:STANDARD
TZOFFSETFROM:-0600
TZOFFSETTO:-0700
TZNAME:MST
DTSTART:20231105T080000
END:STANDARD
BEGIN:DAYLIGHT
TZOFFSETFROM:-0700
TZOFFSETTO:-0600
TZNAME:MDT
DTSTART:20240310T090000
END:DAYLIGHT
BEGIN:STANDARD
TZOFFSETFROM:-0600
TZOFFSETTO:-0700
TZNAME:MST
DTSTART:20241103T080000
END:STANDARD
BEGIN:DAYLIGHT
TZOFFSETFROM:-0700
TZOFFSETTO:-0600
TZNAME:MDT
DTSTART:20250309T090000
END:DAYLIGHT
BEGIN:STANDARD
TZOFFSETFROM:-0600
TZOFFSETTO:-0700
TZNAME:MST
DTSTART:20251102T080000
END:STANDARD
END:VTIMEZONE
BEGIN:VEVENT
DTSTART;TZID=America/Denver:20240702T170000
DTEND;TZID=America/Denver:20240702T190000
DTSTAMP:20260421T174133
CREATED:20231214T220951Z
LAST-MODIFIED:20231214T220951Z
UID:10007948-1719939600-1719946800@scfd.org
SUMMARY:Tardes gratuitos para votantes de SCFD en la Casa Molly Brown
DESCRIPTION:
URL:https://scfd.org/es/event/tardes-gratuitos-para-votantes-de-scfd-en-la-casa-molly-brown/2024-07-02/
END:VEVENT
BEGIN:VEVENT
DTSTART;TZID=America/Denver:20240702T170000
DTEND;TZID=America/Denver:20240702T190000
DTSTAMP:20260421T174133
CREATED:20231214T221518Z
LAST-MODIFIED:20231214T221518Z
UID:10006805-1719939600-1719946800@scfd.org
SUMMARY:Tardes gratuitos para votantes de SCFD en la Casa Molly Brown
DESCRIPTION:
URL:https://scfd.org/es/event/tardes-gratuitos-para-votantes-de-scfd-en-la-casa-molly-brown-2/2024-07-02/
END:VEVENT
BEGIN:VEVENT
DTSTART;TZID=America/Denver:20240702T170000
DTEND;TZID=America/Denver:20240702T190000
DTSTAMP:20260421T174133
CREATED:20231214T222012Z
LAST-MODIFIED:20231214T222012Z
UID:10007976-1719939600-1719946800@scfd.org
SUMMARY:Tardes gratuitos para votantes de SCFD en la Casa Molly Brown
DESCRIPTION:
URL:https://scfd.org/es/event/tardes-gratuitos-para-votantes-de-scfd-en-la-casa-molly-brown-3/2024-07-02/
END:VEVENT
BEGIN:VEVENT
DTSTART;TZID=America/Denver:20240702T170000
DTEND;TZID=America/Denver:20240702T190000
DTSTAMP:20260421T174134
CREATED:20231214T222146Z
LAST-MODIFIED:20231214T222146Z
UID:10008020-1719939600-1719946800@scfd.org
SUMMARY:Tardes gratuitos para votantes de SCFD en la Casa Molly Brown
DESCRIPTION:
URL:https://scfd.org/es/event/tardes-gratuitos-para-votantes-de-scfd-en-la-casa-molly-brown-4/2024-07-02/
END:VEVENT
BEGIN:VEVENT
DTSTART;TZID=America/Denver:20240702T170000
DTEND;TZID=America/Denver:20240702T190000
DTSTAMP:20260421T174134
CREATED:20231214T222455Z
LAST-MODIFIED:20231214T222455Z
UID:10008061-1719939600-1719946800@scfd.org
SUMMARY:Tardes gratuitos para votantes de SCFD en la Casa Molly Brown
DESCRIPTION:
URL:https://scfd.org/es/event/tardes-gratuitos-para-votantes-de-scfd-en-la-casa-molly-brown-5/2024-07-02/
END:VEVENT
BEGIN:VEVENT
DTSTART;TZID=America/Denver:20240702T170000
DTEND;TZID=America/Denver:20240702T190000
DTSTAMP:20260421T174134
CREATED:20231214T223224Z
LAST-MODIFIED:20231214T223224Z
UID:10008114-1719939600-1719946800@scfd.org
SUMMARY:Tardes gratuitos para votantes de SCFD en la Casa Molly Brown
DESCRIPTION:
URL:https://scfd.org/es/event/tardes-gratuitos-para-votantes-de-scfd-en-la-casa-molly-brown-6/2024-07-02/
END:VEVENT
BEGIN:VEVENT
DTSTART;TZID=America/Denver:20240702T170000
DTEND;TZID=America/Denver:20240702T190000
DTSTAMP:20260421T174134
CREATED:20231214T223452Z
LAST-MODIFIED:20231214T223452Z
UID:10008155-1719939600-1719946800@scfd.org
SUMMARY:Tardes gratuitos para votantes de SCFD en la Casa Molly Brown
DESCRIPTION:
URL:https://scfd.org/es/event/tardes-gratuitos-para-votantes-de-scfd-en-la-casa-molly-brown-7/2024-07-02/
END:VEVENT
BEGIN:VEVENT
DTSTART;TZID=America/Denver:20240702T170000
DTEND;TZID=America/Denver:20240702T190000
DTSTAMP:20260421T174134
CREATED:20231214T223548Z
LAST-MODIFIED:20231214T223548Z
UID:10008182-1719939600-1719946800@scfd.org
SUMMARY:Tardes gratuitos para votantes de SCFD en la Casa Molly Brown
DESCRIPTION:
URL:https://scfd.org/es/event/tardes-gratuitos-para-votantes-de-scfd-en-la-casa-molly-brown-8/2024-07-02/
END:VEVENT
BEGIN:VEVENT
DTSTART;TZID=America/Denver:20240702T170000
DTEND;TZID=America/Denver:20240702T190000
DTSTAMP:20260421T174134
CREATED:20231214T225151Z
LAST-MODIFIED:20231214T225151Z
UID:10006922-1719939600-1719946800@scfd.org
SUMMARY:Tardes gratuitos para votantes de SCFD en la Casa Molly Brown
DESCRIPTION:
URL:https://scfd.org/es/event/tardes-gratuitos-para-votantes-de-scfd-en-la-casa-molly-brown-9/2024-07-02/
END:VEVENT
BEGIN:VEVENT
DTSTART;TZID=America/Denver:20240702T170000
DTEND;TZID=America/Denver:20240702T190000
DTSTAMP:20260421T174134
CREATED:20231214T225753Z
LAST-MODIFIED:20231214T225753Z
UID:10008227-1719939600-1719946800@scfd.org
SUMMARY:Tardes gratuitos para votantes de SCFD en la Casa Molly Brown
DESCRIPTION:
URL:https://scfd.org/es/event/tardes-gratuitos-para-votantes-de-scfd-en-la-casa-molly-brown-10/2024-07-02/
END:VEVENT
BEGIN:VEVENT
DTSTART;TZID=America/Denver:20240702T170000
DTEND;TZID=America/Denver:20240702T190000
DTSTAMP:20260421T174134
CREATED:20231214T230302Z
LAST-MODIFIED:20231214T230302Z
UID:10008283-1719939600-1719946800@scfd.org
SUMMARY:Tardes gratuitos para votantes de SCFD en la Casa Molly Brown
DESCRIPTION:
URL:https://scfd.org/es/event/tardes-gratuitos-para-votantes-de-scfd-en-la-casa-molly-brown-11/2024-07-02/
END:VEVENT
BEGIN:VEVENT
DTSTART;TZID=America/Denver:20240703T090000
DTEND;TZID=America/Denver:20240703T143000
DTSTAMP:20260421T174134
CREATED:20231214T221012Z
LAST-MODIFIED:20231214T221012Z
UID:10006755-1719997200-1720017000@scfd.org
SUMMARY:Jardín Botánico de Denver - Días Gratis en York Street y Chatfield Farms
DESCRIPTION:
URL:https://scfd.org/es/event/jardin-botanico-de-denver-dias-gratis-en-york-street-y-chatfield-farms/2024-07-03/
END:VEVENT
BEGIN:VEVENT
DTSTART;TZID=America/Denver:20240703T090000
DTEND;TZID=America/Denver:20240703T143000
DTSTAMP:20260421T174134
CREATED:20231214T222232Z
LAST-MODIFIED:20231214T222232Z
UID:10008030-1719997200-1720017000@scfd.org
SUMMARY:Jardín Botánico de Denver - Días Gratis en York Street y Chatfield Farms
DESCRIPTION:
URL:https://scfd.org/es/event/jardin-botanico-de-denver-dias-gratis-en-york-street-y-chatfield-farms-2/2024-07-03/
END:VEVENT
BEGIN:VEVENT
DTSTART;TZID=America/Denver:20240703T090000
DTEND;TZID=America/Denver:20240703T143000
DTSTAMP:20260421T174134
CREATED:20231214T222756Z
LAST-MODIFIED:20231214T222756Z
UID:10008107-1719997200-1720017000@scfd.org
SUMMARY:Jardín Botánico de Denver - Días Gratis en York Street y Chatfield Farms
DESCRIPTION:
URL:https://scfd.org/es/event/jardin-botanico-de-denver-dias-gratis-en-york-street-y-chatfield-farms-3/2024-07-03/
END:VEVENT
BEGIN:VEVENT
DTSTART;TZID=America/Denver:20240703T090000
DTEND;TZID=America/Denver:20240703T143000
DTSTAMP:20260421T174134
CREATED:20231214T223437Z
LAST-MODIFIED:20231214T223437Z
UID:10008148-1719997200-1720017000@scfd.org
SUMMARY:Jardín Botánico de Denver - Días Gratis en York Street y Chatfield Farms
DESCRIPTION:
URL:https://scfd.org/es/event/jardin-botanico-de-denver-dias-gratis-en-york-street-y-chatfield-farms-4/2024-07-03/
END:VEVENT
BEGIN:VEVENT
DTSTART;TZID=America/Denver:20240703T090000
DTEND;TZID=America/Denver:20240703T143000
DTSTAMP:20260421T174134
CREATED:20231214T223810Z
LAST-MODIFIED:20231214T223810Z
UID:10006885-1719997200-1720017000@scfd.org
SUMMARY:Jardín Botánico de Denver - Días Gratis en York Street y Chatfield Farms
DESCRIPTION:
URL:https://scfd.org/es/event/jardin-botanico-de-denver-dias-gratis-en-york-street-y-chatfield-farms-5/2024-07-03/
END:VEVENT
BEGIN:VEVENT
DTSTART;TZID=America/Denver:20240703T090000
DTEND;TZID=America/Denver:20240703T143000
DTSTAMP:20260421T174134
CREATED:20231214T225653Z
LAST-MODIFIED:20231214T225653Z
UID:10008216-1719997200-1720017000@scfd.org
SUMMARY:Jardín Botánico de Denver - Días Gratis en York Street y Chatfield Farms
DESCRIPTION:
URL:https://scfd.org/es/event/jardin-botanico-de-denver-dias-gratis-en-york-street-y-chatfield-farms-6/2024-07-03/
END:VEVENT
BEGIN:VEVENT
DTSTART;TZID=America/Denver:20240703T090000
DTEND;TZID=America/Denver:20240703T143000
DTSTAMP:20260421T174134
CREATED:20231214T230041Z
LAST-MODIFIED:20231214T230041Z
UID:10008248-1719997200-1720017000@scfd.org
SUMMARY:Jardín Botánico de Denver - Días Gratis en York Street y Chatfield Farms
DESCRIPTION:
URL:https://scfd.org/es/event/jardin-botanico-de-denver-dias-gratis-en-york-street-y-chatfield-farms-7/2024-07-03/
END:VEVENT
BEGIN:VEVENT
DTSTART;TZID=America/Denver:20240703T090000
DTEND;TZID=America/Denver:20240703T143000
DTSTAMP:20260421T174134
CREATED:20231214T230420Z
LAST-MODIFIED:20231214T230420Z
UID:10008324-1719997200-1720017000@scfd.org
SUMMARY:Jardín Botánico de Denver - Días Gratis en York Street y Chatfield Farms
DESCRIPTION:
URL:https://scfd.org/es/event/jardin-botanico-de-denver-dias-gratis-en-york-street-y-chatfield-farms-8/2024-07-03/
END:VEVENT
END:VCALENDAR