BEGIN:VCALENDAR
VERSION:2.0
PRODID:-//SCFD - ECPv6.15.18//NONSGML v1.0//EN
CALSCALE:GREGORIAN
METHOD:PUBLISH
X-WR-CALNAME:SCFD
X-ORIGINAL-URL:https://scfd.org/es/
X-WR-CALDESC:Eventos para SCFD
REFRESH-INTERVAL;VALUE=DURATION:PT1H
X-Robots-Tag:noindex
X-PUBLISHED-TTL:PT1H
BEGIN:VTIMEZONE
TZID:America/Denver
BEGIN:DAYLIGHT
TZOFFSETFROM:-0700
TZOFFSETTO:-0600
TZNAME:MDT
DTSTART:20230312T090000
END:DAYLIGHT
BEGIN:STANDARD
TZOFFSETFROM:-0600
TZOFFSETTO:-0700
TZNAME:MST
DTSTART:20231105T080000
END:STANDARD
BEGIN:DAYLIGHT
TZOFFSETFROM:-0700
TZOFFSETTO:-0600
TZNAME:MDT
DTSTART:20240310T090000
END:DAYLIGHT
BEGIN:STANDARD
TZOFFSETFROM:-0600
TZOFFSETTO:-0700
TZNAME:MST
DTSTART:20241103T080000
END:STANDARD
BEGIN:DAYLIGHT
TZOFFSETFROM:-0700
TZOFFSETTO:-0600
TZNAME:MDT
DTSTART:20250309T090000
END:DAYLIGHT
BEGIN:STANDARD
TZOFFSETFROM:-0600
TZOFFSETTO:-0700
TZNAME:MST
DTSTART:20251102T080000
END:STANDARD
END:VTIMEZONE
BEGIN:VEVENT
DTSTART;TZID=America/Denver:20240725T110000
DTEND;TZID=America/Denver:20240725T130000
DTSTAMP:20260422T041832
CREATED:20240319T153132Z
LAST-MODIFIED:20240319T153132Z
UID:10008545-1721905200-1721912400@scfd.org
SUMMARY:Sacude la cuadra
DESCRIPTION:
URL:https://scfd.org/es/event/sacude-la-cuadra/2024-07-25/
END:VEVENT
BEGIN:VEVENT
DTSTART;TZID=America/Denver:20240725T110000
DTEND;TZID=America/Denver:20240725T130000
DTSTAMP:20260422T041832
CREATED:20240319T153140Z
LAST-MODIFIED:20240319T153140Z
UID:10008552-1721905200-1721912400@scfd.org
SUMMARY:Sacude la cuadra
DESCRIPTION:
URL:https://scfd.org/es/event/sacude-la-cuadra-2/2024-07-25/
END:VEVENT
BEGIN:VEVENT
DTSTART;TZID=America/Denver:20240725T110000
DTEND;TZID=America/Denver:20240725T130000
DTSTAMP:20260422T041832
CREATED:20240319T153244Z
LAST-MODIFIED:20240319T153244Z
UID:10008564-1721905200-1721912400@scfd.org
SUMMARY:Sacude la cuadra
DESCRIPTION:
URL:https://scfd.org/es/event/sacude-la-cuadra-3/2024-07-25/
END:VEVENT
BEGIN:VEVENT
DTSTART;TZID=America/Denver:20240726T100000
DTEND;TZID=America/Denver:20240726T160000
DTSTAMP:20260422T041832
CREATED:20240104T192244Z
LAST-MODIFIED:20240104T192244Z
UID:10008408-1721988000-1722009600@scfd.org
SUMMARY:Viernes gratis en Four Mile
DESCRIPTION:
URL:https://scfd.org/es/event/viernes-gratis-en-four-mile/2024-07-26/
END:VEVENT
BEGIN:VEVENT
DTSTART;TZID=America/Denver:20240726T100000
DTEND;TZID=America/Denver:20240726T160000
DTSTAMP:20260422T041832
CREATED:20240104T192340Z
LAST-MODIFIED:20240104T192340Z
UID:10008418-1721988000-1722009600@scfd.org
SUMMARY:Viernes gratis en Four Mile
DESCRIPTION:
URL:https://scfd.org/es/event/viernes-gratis-en-four-mile-2/2024-07-26/
END:VEVENT
BEGIN:VEVENT
DTSTART;TZID=America/Denver:20240726T100000
DTEND;TZID=America/Denver:20240726T160000
DTSTAMP:20260422T041832
CREATED:20240104T192528Z
LAST-MODIFIED:20240104T192528Z
UID:10008427-1721988000-1722009600@scfd.org
SUMMARY:Viernes gratis en Four Mile
DESCRIPTION:
URL:https://scfd.org/es/event/viernes-gratis-en-four-mile-3/2024-07-26/
END:VEVENT
BEGIN:VEVENT
DTSTART;TZID=America/Denver:20240726T100000
DTEND;TZID=America/Denver:20240726T160000
DTSTAMP:20260422T041833
CREATED:20240104T192610Z
LAST-MODIFIED:20240104T192610Z
UID:10008437-1721988000-1722009600@scfd.org
SUMMARY:Viernes gratis en Four Mile
DESCRIPTION:
URL:https://scfd.org/es/event/viernes-gratis-en-four-mile-4/2024-07-26/
END:VEVENT
BEGIN:VEVENT
DTSTART;TZID=America/Denver:20240726T100000
DTEND;TZID=America/Denver:20240726T160000
DTSTAMP:20260422T041833
CREATED:20240104T192720Z
LAST-MODIFIED:20240104T192720Z
UID:10008446-1721988000-1722009600@scfd.org
SUMMARY:Viernes gratis en Four Mile
DESCRIPTION:
URL:https://scfd.org/es/event/viernes-gratis-en-four-mile-5/2024-07-26/
END:VEVENT
BEGIN:VEVENT
DTSTART;TZID=America/Denver:20240726T100000
DTEND;TZID=America/Denver:20240726T160000
DTSTAMP:20260422T041833
CREATED:20240104T192746Z
LAST-MODIFIED:20240104T192746Z
UID:10008455-1721988000-1722009600@scfd.org
SUMMARY:Viernes gratis en Four Mile
DESCRIPTION:
URL:https://scfd.org/es/event/viernes-gratis-en-four-mile-6/2024-07-26/
END:VEVENT
BEGIN:VEVENT
DTSTART;TZID=America/Denver:20240726T100000
DTEND;TZID=America/Denver:20240726T160000
DTSTAMP:20260422T041833
CREATED:20240104T192849Z
LAST-MODIFIED:20240104T192849Z
UID:10008465-1721988000-1722009600@scfd.org
SUMMARY:Viernes gratis en Four Mile
DESCRIPTION:
URL:https://scfd.org/es/event/viernes-gratis-en-four-mile-7/2024-07-26/
END:VEVENT
BEGIN:VEVENT
DTSTART;TZID=America/Denver:20240726T100000
DTEND;TZID=America/Denver:20240726T160000
DTSTAMP:20260422T041833
CREATED:20240104T192942Z
LAST-MODIFIED:20240104T192942Z
UID:10008474-1721988000-1722009600@scfd.org
SUMMARY:Viernes gratis en Four Mile
DESCRIPTION:
URL:https://scfd.org/es/event/viernes-gratis-en-four-mile-8/2024-07-26/
END:VEVENT
BEGIN:VEVENT
DTSTART;TZID=America/Denver:20240726T100000
DTEND;TZID=America/Denver:20240726T160000
DTSTAMP:20260422T041833
CREATED:20240104T193015Z
LAST-MODIFIED:20240104T193015Z
UID:10008484-1721988000-1722009600@scfd.org
SUMMARY:Viernes gratis en Four Mile
DESCRIPTION:
URL:https://scfd.org/es/event/viernes-gratis-en-four-mile-9/2024-07-26/
END:VEVENT
BEGIN:VEVENT
DTSTART;TZID=America/Denver:20240726T180000
DTEND;TZID=America/Denver:20240726T200000
DTSTAMP:20260422T041833
CREATED:20240207T160813Z
LAST-MODIFIED:20240207T160813Z
UID:10007013-1722016800-1722024000@scfd.org
SUMMARY:Micrófono abierto y mezcla
DESCRIPTION:
URL:https://scfd.org/es/event/microfono-abierto-y-mezcla-11/2024-07-26/
END:VEVENT
BEGIN:VEVENT
DTSTART;TZID=America/Denver:20240727T100000
DTEND;TZID=America/Denver:20240727T190000
DTSTAMP:20260422T041833
CREATED:20240207T160613Z
LAST-MODIFIED:20240207T160613Z
UID:10007000-1722074400-1722106800@scfd.org
SUMMARY:Festival del Bote del Dragón de Colorado 2024
DESCRIPTION:
URL:https://scfd.org/es/event/festival-del-bote-del-dragon-de-colorado-2024-2/2024-07-27/
END:VEVENT
BEGIN:VEVENT
DTSTART;TZID=America/Denver:20240728T100000
DTEND;TZID=America/Denver:20240728T170000
DTSTAMP:20260422T041833
CREATED:20231214T222651Z
LAST-MODIFIED:20231214T222651Z
UID:10008067-1722160800-1722186000@scfd.org
SUMMARY:Celebración del Orgullo de la Discapacidad (Ley de Estadounidenses con Discapacidades)
DESCRIPTION:
URL:https://scfd.org/es/event/celebracion-del-orgullo-de-la-discapacidad-ley-de-estadounidenses-con-discapacidades/
END:VEVENT
BEGIN:VEVENT
DTSTART;TZID=America/Denver:20240728T100000
DTEND;TZID=America/Denver:20240728T190000
DTSTAMP:20260422T041833
CREATED:20240207T160613Z
LAST-MODIFIED:20240207T160613Z
UID:10007001-1722160800-1722193200@scfd.org
SUMMARY:Festival del Bote del Dragón de Colorado 2024
DESCRIPTION:
URL:https://scfd.org/es/event/festival-del-bote-del-dragon-de-colorado-2024-2/2024-07-28/
END:VEVENT
END:VCALENDAR