BEGIN:VCALENDAR
VERSION:2.0
PRODID:-//SCFD - ECPv6.15.18//NONSGML v1.0//EN
CALSCALE:GREGORIAN
METHOD:PUBLISH
X-ORIGINAL-URL:https://scfd.org/es/
X-WR-CALDESC:Eventos para SCFD
REFRESH-INTERVAL;VALUE=DURATION:PT1H
X-Robots-Tag:noindex
X-PUBLISHED-TTL:PT1H
BEGIN:VTIMEZONE
TZID:America/Denver
BEGIN:DAYLIGHT
TZOFFSETFROM:-0700
TZOFFSETTO:-0600
TZNAME:MDT
DTSTART:20230312T090000
END:DAYLIGHT
BEGIN:STANDARD
TZOFFSETFROM:-0600
TZOFFSETTO:-0700
TZNAME:MST
DTSTART:20231105T080000
END:STANDARD
BEGIN:DAYLIGHT
TZOFFSETFROM:-0700
TZOFFSETTO:-0600
TZNAME:MDT
DTSTART:20240310T090000
END:DAYLIGHT
BEGIN:STANDARD
TZOFFSETFROM:-0600
TZOFFSETTO:-0700
TZNAME:MST
DTSTART:20241103T080000
END:STANDARD
BEGIN:DAYLIGHT
TZOFFSETFROM:-0700
TZOFFSETTO:-0600
TZNAME:MDT
DTSTART:20250309T090000
END:DAYLIGHT
BEGIN:STANDARD
TZOFFSETFROM:-0600
TZOFFSETTO:-0700
TZNAME:MST
DTSTART:20251102T080000
END:STANDARD
END:VTIMEZONE
BEGIN:VEVENT
DTSTART;TZID=America/Denver:20241021T090000
DTEND;TZID=America/Denver:20241021T160000
DTSTAMP:20260423T225926
CREATED:20240319T153119Z
LAST-MODIFIED:20240319T153121Z
UID:10008542-1729501200-1729526400@scfd.org
SUMMARY:Días Libres de MOA
DESCRIPTION:
URL:https://scfd.org/es/event/dias-libres-de-moa/2024-10-21/
END:VEVENT
BEGIN:VEVENT
DTSTART;TZID=America/Denver:20241021T090000
DTEND;TZID=America/Denver:20241021T160000
DTSTAMP:20260423T225926
CREATED:20240319T153155Z
LAST-MODIFIED:20240319T153155Z
UID:10008561-1729501200-1729526400@scfd.org
SUMMARY:Días Libres de MOA
DESCRIPTION:
URL:https://scfd.org/es/event/dias-libres-de-moa-2/2024-10-21/
END:VEVENT
BEGIN:VEVENT
DTSTART;TZID=America/Denver:20241021T090000
DTEND;TZID=America/Denver:20241021T160000
DTSTAMP:20260423T225926
CREATED:20240319T153255Z
LAST-MODIFIED:20240319T153255Z
UID:10008573-1729501200-1729526400@scfd.org
SUMMARY:Días Libres de MOA
DESCRIPTION:
URL:https://scfd.org/es/event/dias-libres-de-moa-3/2024-10-21/
END:VEVENT
BEGIN:VEVENT
DTSTART;TZID=America/Denver:20241025T100000
DTEND;TZID=America/Denver:20241025T160000
DTSTAMP:20260423T225926
CREATED:20240104T192244Z
LAST-MODIFIED:20240104T192244Z
UID:10008411-1729850400-1729872000@scfd.org
SUMMARY:Viernes gratis en Four Mile
DESCRIPTION:
URL:https://scfd.org/es/event/viernes-gratis-en-four-mile/2024-10-25/
END:VEVENT
BEGIN:VEVENT
DTSTART;TZID=America/Denver:20241025T100000
DTEND;TZID=America/Denver:20241025T160000
DTSTAMP:20260423T225926
CREATED:20240104T192340Z
LAST-MODIFIED:20240104T192340Z
UID:10008421-1729850400-1729872000@scfd.org
SUMMARY:Viernes gratis en Four Mile
DESCRIPTION:
URL:https://scfd.org/es/event/viernes-gratis-en-four-mile-2/2024-10-25/
END:VEVENT
BEGIN:VEVENT
DTSTART;TZID=America/Denver:20241025T100000
DTEND;TZID=America/Denver:20241025T160000
DTSTAMP:20260423T225926
CREATED:20240104T192528Z
LAST-MODIFIED:20240104T192528Z
UID:10008430-1729850400-1729872000@scfd.org
SUMMARY:Viernes gratis en Four Mile
DESCRIPTION:
URL:https://scfd.org/es/event/viernes-gratis-en-four-mile-3/2024-10-25/
END:VEVENT
BEGIN:VEVENT
DTSTART;TZID=America/Denver:20241025T100000
DTEND;TZID=America/Denver:20241025T160000
DTSTAMP:20260423T225926
CREATED:20240104T192610Z
LAST-MODIFIED:20240104T192610Z
UID:10008440-1729850400-1729872000@scfd.org
SUMMARY:Viernes gratis en Four Mile
DESCRIPTION:
URL:https://scfd.org/es/event/viernes-gratis-en-four-mile-4/2024-10-25/
END:VEVENT
BEGIN:VEVENT
DTSTART;TZID=America/Denver:20241025T100000
DTEND;TZID=America/Denver:20241025T160000
DTSTAMP:20260423T225926
CREATED:20240104T192720Z
LAST-MODIFIED:20240104T192720Z
UID:10008449-1729850400-1729872000@scfd.org
SUMMARY:Viernes gratis en Four Mile
DESCRIPTION:
URL:https://scfd.org/es/event/viernes-gratis-en-four-mile-5/2024-10-25/
END:VEVENT
BEGIN:VEVENT
DTSTART;TZID=America/Denver:20241025T100000
DTEND;TZID=America/Denver:20241025T160000
DTSTAMP:20260423T225926
CREATED:20240104T192746Z
LAST-MODIFIED:20240104T192746Z
UID:10008458-1729850400-1729872000@scfd.org
SUMMARY:Viernes gratis en Four Mile
DESCRIPTION:
URL:https://scfd.org/es/event/viernes-gratis-en-four-mile-6/2024-10-25/
END:VEVENT
BEGIN:VEVENT
DTSTART;TZID=America/Denver:20241025T100000
DTEND;TZID=America/Denver:20241025T160000
DTSTAMP:20260423T225926
CREATED:20240104T192849Z
LAST-MODIFIED:20240104T192849Z
UID:10008468-1729850400-1729872000@scfd.org
SUMMARY:Viernes gratis en Four Mile
DESCRIPTION:
URL:https://scfd.org/es/event/viernes-gratis-en-four-mile-7/2024-10-25/
END:VEVENT
BEGIN:VEVENT
DTSTART;TZID=America/Denver:20241025T100000
DTEND;TZID=America/Denver:20241025T160000
DTSTAMP:20260423T225926
CREATED:20240104T192942Z
LAST-MODIFIED:20240104T192942Z
UID:10008477-1729850400-1729872000@scfd.org
SUMMARY:Viernes gratis en Four Mile
DESCRIPTION:
URL:https://scfd.org/es/event/viernes-gratis-en-four-mile-8/2024-10-25/
END:VEVENT
BEGIN:VEVENT
DTSTART;TZID=America/Denver:20241025T100000
DTEND;TZID=America/Denver:20241025T160000
DTSTAMP:20260423T225926
CREATED:20240104T193015Z
LAST-MODIFIED:20240104T193015Z
UID:10008487-1729850400-1729872000@scfd.org
SUMMARY:Viernes gratis en Four Mile
DESCRIPTION:
URL:https://scfd.org/es/event/viernes-gratis-en-four-mile-9/2024-10-25/
END:VEVENT
BEGIN:VEVENT
DTSTART;TZID=America/Denver:20241025T173000
DTEND;TZID=America/Denver:20241025T203000
DTSTAMP:20260423T225926
CREATED:20240731T150105Z
LAST-MODIFIED:20240731T150105Z
UID:10008611-1729877400-1729888200@scfd.org
SUMMARY:Estudio abierto
DESCRIPTION:
URL:https://scfd.org/es/event/estudio-abierto-20/2024-10-25/
END:VEVENT
BEGIN:VEVENT
DTSTART;TZID=America/Denver:20241025T173000
DTEND;TZID=America/Denver:20241025T203000
DTSTAMP:20260423T225926
CREATED:20240812T184814Z
LAST-MODIFIED:20240812T184814Z
UID:10008622-1729877400-1729888200@scfd.org
SUMMARY:Estudio abierto
DESCRIPTION:
URL:https://scfd.org/es/event/estudio-abierto-21/2024-10-25/
END:VEVENT
BEGIN:VEVENT
DTSTART;TZID=America/Denver:20241025T173000
DTEND;TZID=America/Denver:20241025T203000
DTSTAMP:20260423T225926
CREATED:20240812T185352Z
LAST-MODIFIED:20240812T185352Z
UID:10008628-1729877400-1729888200@scfd.org
SUMMARY:Estudio abierto
DESCRIPTION:
URL:https://scfd.org/es/event/estudio-abierto-22/2024-10-25/
END:VEVENT
BEGIN:VEVENT
DTSTART;TZID=America/Denver:20241025T173000
DTEND;TZID=America/Denver:20241025T203000
DTSTAMP:20260423T225926
CREATED:20240812T185621Z
LAST-MODIFIED:20240812T185621Z
UID:10008636-1729877400-1729888200@scfd.org
SUMMARY:Estudio abierto
DESCRIPTION:
URL:https://scfd.org/es/event/estudio-abierto-23/2024-10-25/
END:VEVENT
BEGIN:VEVENT
DTSTART;TZID=America/Denver:20241025T180000
DTEND;TZID=America/Denver:20241025T200000
DTSTAMP:20260423T225926
CREATED:20240207T160813Z
LAST-MODIFIED:20240207T160813Z
UID:10007016-1729879200-1729886400@scfd.org
SUMMARY:Micrófono abierto y mezcla
DESCRIPTION:
URL:https://scfd.org/es/event/microfono-abierto-y-mezcla-11/2024-10-25/
END:VEVENT
BEGIN:VEVENT
DTSTART;TZID=America/Denver:20241027T160000
DTEND;TZID=America/Denver:20241027T180000
DTSTAMP:20260423T225926
CREATED:20231214T221946Z
LAST-MODIFIED:20231214T221946Z
UID:10007954-1730044800-1730052000@scfd.org
SUMMARY:Orquesta de Compositores Locales Homespun Concierto de Jazz
DESCRIPTION:
URL:https://scfd.org/es/event/orquesta-de-compositores-locales-homespun-concierto-de-jazz/
END:VEVENT
END:VCALENDAR