BEGIN:VCALENDAR
VERSION:2.0
PRODID:-//SCFD - ECPv6.15.18//NONSGML v1.0//EN
CALSCALE:GREGORIAN
METHOD:PUBLISH
X-WR-CALNAME:SCFD
X-ORIGINAL-URL:https://scfd.org/es/
X-WR-CALDESC:Eventos para SCFD
REFRESH-INTERVAL;VALUE=DURATION:PT1H
X-Robots-Tag:noindex
X-PUBLISHED-TTL:PT1H
BEGIN:VTIMEZONE
TZID:America/Denver
BEGIN:DAYLIGHT
TZOFFSETFROM:-0700
TZOFFSETTO:-0600
TZNAME:MDT
DTSTART:20230312T090000
END:DAYLIGHT
BEGIN:STANDARD
TZOFFSETFROM:-0600
TZOFFSETTO:-0700
TZNAME:MST
DTSTART:20231105T080000
END:STANDARD
BEGIN:DAYLIGHT
TZOFFSETFROM:-0700
TZOFFSETTO:-0600
TZNAME:MDT
DTSTART:20240310T090000
END:DAYLIGHT
BEGIN:STANDARD
TZOFFSETFROM:-0600
TZOFFSETTO:-0700
TZNAME:MST
DTSTART:20241103T080000
END:STANDARD
BEGIN:DAYLIGHT
TZOFFSETFROM:-0700
TZOFFSETTO:-0600
TZNAME:MDT
DTSTART:20250309T090000
END:DAYLIGHT
BEGIN:STANDARD
TZOFFSETFROM:-0600
TZOFFSETTO:-0700
TZNAME:MST
DTSTART:20251102T080000
END:STANDARD
END:VTIMEZONE
BEGIN:VEVENT
DTSTART;VALUE=DATE:20241101
DTEND;VALUE=DATE:20241124
DTSTAMP:20260423T230953
CREATED:20241025T171429Z
LAST-MODIFIED:20241025T171429Z
UID:10008678-1730419200-1732406399@scfd.org
SUMMARY:Ojos arriba\, boca abierta
DESCRIPTION:
URL:https://scfd.org/es/event/ojos-arriba-boca-abierta/
END:VEVENT
BEGIN:VEVENT
DTSTART;TZID=America/Denver:20241104T100000
DTEND;TZID=America/Denver:20241104T104500
DTSTAMP:20260423T230953
CREATED:20241025T171452Z
LAST-MODIFIED:20241025T171452Z
UID:10008679-1730714400-1730717100@scfd.org
SUMMARY:El Principito- Teatro para Jóvenes
DESCRIPTION:
URL:https://scfd.org/es/event/el-principito-teatro-para-jovenes/
END:VEVENT
BEGIN:VEVENT
DTSTART;TZID=America/Denver:20241104T100000
DTEND;TZID=America/Denver:20241104T110000
DTSTAMP:20260423T230953
CREATED:20240826T211036Z
LAST-MODIFIED:20240826T211036Z
UID:10008653-1730714400-1730718000@scfd.org
SUMMARY:El Principito - Teatro para Público Joven presentado por Platte Valley Players
DESCRIPTION:
URL:https://scfd.org/es/event/el-principito-teatro-para-publico-joven-presentado-por-platte-valley-players-3/2024-11-04/1/
END:VEVENT
BEGIN:VEVENT
DTSTART;TZID=America/Denver:20241104T113000
DTEND;TZID=America/Denver:20241104T123000
DTSTAMP:20260423T230953
CREATED:20240826T211036Z
LAST-MODIFIED:20240826T211036Z
UID:10008654-1730719800-1730723400@scfd.org
SUMMARY:El Principito - Teatro para Público Joven presentado por Platte Valley Players
DESCRIPTION:
URL:https://scfd.org/es/event/el-principito-teatro-para-publico-joven-presentado-por-platte-valley-players-3/2024-11-04/2/
END:VEVENT
BEGIN:VEVENT
DTSTART;TZID=America/Denver:20241104T180000
DTEND;TZID=America/Denver:20241104T200000
DTSTAMP:20260423T230953
CREATED:20241004T161900Z
LAST-MODIFIED:20241004T161900Z
UID:10008660-1730743200-1730750400@scfd.org
SUMMARY:Escaparate privado
DESCRIPTION:
URL:https://scfd.org/es/event/escaparate-privado/
END:VEVENT
BEGIN:VEVENT
DTSTART;TZID=America/Denver:20241105T170000
DTEND;TZID=America/Denver:20241105T190000
DTSTAMP:20260423T230953
CREATED:20231214T220951Z
LAST-MODIFIED:20231214T220951Z
UID:10007952-1730826000-1730833200@scfd.org
SUMMARY:Tardes gratuitos para votantes de SCFD en la Casa Molly Brown
DESCRIPTION:
URL:https://scfd.org/es/event/tardes-gratuitos-para-votantes-de-scfd-en-la-casa-molly-brown/2024-11-05/
END:VEVENT
BEGIN:VEVENT
DTSTART;TZID=America/Denver:20241105T170000
DTEND;TZID=America/Denver:20241105T190000
DTSTAMP:20260423T230953
CREATED:20231214T221518Z
LAST-MODIFIED:20231214T221518Z
UID:10006809-1730826000-1730833200@scfd.org
SUMMARY:Tardes gratuitos para votantes de SCFD en la Casa Molly Brown
DESCRIPTION:
URL:https://scfd.org/es/event/tardes-gratuitos-para-votantes-de-scfd-en-la-casa-molly-brown-2/2024-11-05/
END:VEVENT
BEGIN:VEVENT
DTSTART;TZID=America/Denver:20241105T170000
DTEND;TZID=America/Denver:20241105T190000
DTSTAMP:20260423T230953
CREATED:20231214T222012Z
LAST-MODIFIED:20231214T222012Z
UID:10007980-1730826000-1730833200@scfd.org
SUMMARY:Tardes gratuitos para votantes de SCFD en la Casa Molly Brown
DESCRIPTION:
URL:https://scfd.org/es/event/tardes-gratuitos-para-votantes-de-scfd-en-la-casa-molly-brown-3/2024-11-05/
END:VEVENT
BEGIN:VEVENT
DTSTART;TZID=America/Denver:20241105T170000
DTEND;TZID=America/Denver:20241105T190000
DTSTAMP:20260423T230953
CREATED:20231214T222146Z
LAST-MODIFIED:20231214T222146Z
UID:10008024-1730826000-1730833200@scfd.org
SUMMARY:Tardes gratuitos para votantes de SCFD en la Casa Molly Brown
DESCRIPTION:
URL:https://scfd.org/es/event/tardes-gratuitos-para-votantes-de-scfd-en-la-casa-molly-brown-4/2024-11-05/
END:VEVENT
BEGIN:VEVENT
DTSTART;TZID=America/Denver:20241105T170000
DTEND;TZID=America/Denver:20241105T190000
DTSTAMP:20260423T230953
CREATED:20231214T222455Z
LAST-MODIFIED:20231214T222455Z
UID:10008065-1730826000-1730833200@scfd.org
SUMMARY:Tardes gratuitos para votantes de SCFD en la Casa Molly Brown
DESCRIPTION:
URL:https://scfd.org/es/event/tardes-gratuitos-para-votantes-de-scfd-en-la-casa-molly-brown-5/2024-11-05/
END:VEVENT
BEGIN:VEVENT
DTSTART;TZID=America/Denver:20241105T170000
DTEND;TZID=America/Denver:20241105T190000
DTSTAMP:20260423T230953
CREATED:20231214T223224Z
LAST-MODIFIED:20231214T223224Z
UID:10008118-1730826000-1730833200@scfd.org
SUMMARY:Tardes gratuitos para votantes de SCFD en la Casa Molly Brown
DESCRIPTION:
URL:https://scfd.org/es/event/tardes-gratuitos-para-votantes-de-scfd-en-la-casa-molly-brown-6/2024-11-05/
END:VEVENT
BEGIN:VEVENT
DTSTART;TZID=America/Denver:20241105T170000
DTEND;TZID=America/Denver:20241105T190000
DTSTAMP:20260423T230953
CREATED:20231214T223452Z
LAST-MODIFIED:20231214T223452Z
UID:10008159-1730826000-1730833200@scfd.org
SUMMARY:Tardes gratuitos para votantes de SCFD en la Casa Molly Brown
DESCRIPTION:
URL:https://scfd.org/es/event/tardes-gratuitos-para-votantes-de-scfd-en-la-casa-molly-brown-7/2024-11-05/
END:VEVENT
BEGIN:VEVENT
DTSTART;TZID=America/Denver:20241105T170000
DTEND;TZID=America/Denver:20241105T190000
DTSTAMP:20260423T230953
CREATED:20231214T223548Z
LAST-MODIFIED:20231214T223548Z
UID:10008186-1730826000-1730833200@scfd.org
SUMMARY:Tardes gratuitos para votantes de SCFD en la Casa Molly Brown
DESCRIPTION:
URL:https://scfd.org/es/event/tardes-gratuitos-para-votantes-de-scfd-en-la-casa-molly-brown-8/2024-11-05/
END:VEVENT
BEGIN:VEVENT
DTSTART;TZID=America/Denver:20241105T170000
DTEND;TZID=America/Denver:20241105T190000
DTSTAMP:20260423T230953
CREATED:20231214T225151Z
LAST-MODIFIED:20231214T225151Z
UID:10006926-1730826000-1730833200@scfd.org
SUMMARY:Tardes gratuitos para votantes de SCFD en la Casa Molly Brown
DESCRIPTION:
URL:https://scfd.org/es/event/tardes-gratuitos-para-votantes-de-scfd-en-la-casa-molly-brown-9/2024-11-05/
END:VEVENT
BEGIN:VEVENT
DTSTART;TZID=America/Denver:20241105T170000
DTEND;TZID=America/Denver:20241105T190000
DTSTAMP:20260423T230953
CREATED:20231214T225753Z
LAST-MODIFIED:20231214T225753Z
UID:10008231-1730826000-1730833200@scfd.org
SUMMARY:Tardes gratuitos para votantes de SCFD en la Casa Molly Brown
DESCRIPTION:
URL:https://scfd.org/es/event/tardes-gratuitos-para-votantes-de-scfd-en-la-casa-molly-brown-10/2024-11-05/
END:VEVENT
BEGIN:VEVENT
DTSTART;TZID=America/Denver:20241105T170000
DTEND;TZID=America/Denver:20241105T190000
DTSTAMP:20260423T230953
CREATED:20231214T230302Z
LAST-MODIFIED:20231214T230302Z
UID:10008287-1730826000-1730833200@scfd.org
SUMMARY:Tardes gratuitos para votantes de SCFD en la Casa Molly Brown
DESCRIPTION:
URL:https://scfd.org/es/event/tardes-gratuitos-para-votantes-de-scfd-en-la-casa-molly-brown-11/2024-11-05/
END:VEVENT
BEGIN:VEVENT
DTSTART;TZID=America/Denver:20241107T170000
DTEND;TZID=America/Denver:20241107T190000
DTSTAMP:20260423T230953
CREATED:20240812T185837Z
LAST-MODIFIED:20240812T185837Z
UID:10008648-1730998800-1731006000@scfd.org
SUMMARY:Tardes de votantes de SCFD 2024 en el Museo de la Casa Molly Brown
DESCRIPTION:
URL:https://scfd.org/es/event/tardes-de-votantes-de-scfd-2024-en-el-museo-de-la-casa-molly-brown-4/2024-11-07/
END:VEVENT
BEGIN:VEVENT
DTSTART;TZID=America/Denver:20241108T100000
DTEND;TZID=America/Denver:20241108T160000
DTSTAMP:20260423T230953
CREATED:20240812T185820Z
LAST-MODIFIED:20240812T185820Z
UID:10008644-1731060000-1731081600@scfd.org
SUMMARY:Laboratorio de Aprendizaje de Educación contra el Terrorismo Día Libre de SCFD
DESCRIPTION:
URL:https://scfd.org/es/event/laboratorio-de-aprendizaje-de-educacion-contra-el-terrorismo-dia-libre-de-scfd-6/2024-11-08/
END:VEVENT
BEGIN:VEVENT
DTSTART;TZID=America/Denver:20241109T090000
DTEND;TZID=America/Denver:20241109T170000
DTSTAMP:20260423T230953
CREATED:20240214T192347Z
LAST-MODIFIED:20240214T192347Z
UID:10008516-1731142800-1731171600@scfd.org
SUMMARY:Museo Longmont Segundo sábado gratis
DESCRIPTION:
URL:https://scfd.org/es/event/museo-longmont-segundo-sabado-gratis-10/2024-11-09/
END:VEVENT
BEGIN:VEVENT
DTSTART;TZID=America/Denver:20241109T100000
DTEND;TZID=America/Denver:20241109T110000
DTSTAMP:20260423T230953
CREATED:20240826T211036Z
LAST-MODIFIED:20240826T211036Z
UID:10008655-1731146400-1731150000@scfd.org
SUMMARY:El Principito - Teatro para Público Joven presentado por Platte Valley Players
DESCRIPTION:
URL:https://scfd.org/es/event/el-principito-teatro-para-publico-joven-presentado-por-platte-valley-players-3/2024-11-09/1/
END:VEVENT
BEGIN:VEVENT
DTSTART;TZID=America/Denver:20241109T100000
DTEND;TZID=America/Denver:20241109T160000
DTSTAMP:20260423T230953
CREATED:20231214T221040Z
LAST-MODIFIED:20231214T221040Z
UID:10006764-1731146400-1731168000@scfd.org
SUMMARY:Días gratis en el zoológico de Denver
DESCRIPTION:
URL:https://scfd.org/es/event/dias-gratis-en-el-zoologico-de-denver-7/2024-11-09/
END:VEVENT
BEGIN:VEVENT
DTSTART;TZID=America/Denver:20241109T100000
DTEND;TZID=America/Denver:20241109T160000
DTSTAMP:20260423T230953
CREATED:20231214T221248Z
LAST-MODIFIED:20231214T221248Z
UID:10006798-1731146400-1731168000@scfd.org
SUMMARY:Días gratis en el zoológico de Denver
DESCRIPTION:
URL:https://scfd.org/es/event/dias-gratis-en-el-zoologico-de-denver-8/2024-11-09/
END:VEVENT
BEGIN:VEVENT
DTSTART;TZID=America/Denver:20241109T100000
DTEND;TZID=America/Denver:20241109T160000
DTSTAMP:20260423T230953
CREATED:20231214T221844Z
LAST-MODIFIED:20231214T221844Z
UID:10006835-1731146400-1731168000@scfd.org
SUMMARY:Días gratis en el zoológico de Denver
DESCRIPTION:
URL:https://scfd.org/es/event/dias-gratis-en-el-zoologico-de-denver-9/2024-11-09/
END:VEVENT
BEGIN:VEVENT
DTSTART;TZID=America/Denver:20241109T100000
DTEND;TZID=America/Denver:20241109T160000
DTSTAMP:20260423T230953
CREATED:20231214T223843Z
LAST-MODIFIED:20231214T223843Z
UID:10006911-1731146400-1731168000@scfd.org
SUMMARY:Días gratis en el zoológico de Denver
DESCRIPTION:
URL:https://scfd.org/es/event/dias-gratis-en-el-zoologico-de-denver-10/2024-11-09/
END:VEVENT
BEGIN:VEVENT
DTSTART;TZID=America/Denver:20241109T100000
DTEND;TZID=America/Denver:20241109T160000
DTSTAMP:20260423T230953
CREATED:20231214T230138Z
LAST-MODIFIED:20231214T230138Z
UID:10008272-1731146400-1731168000@scfd.org
SUMMARY:Días gratis en el zoológico de Denver
DESCRIPTION:
URL:https://scfd.org/es/event/dias-gratis-en-el-zoologico-de-denver-11/2024-11-09/
END:VEVENT
BEGIN:VEVENT
DTSTART;TZID=America/Denver:20241109T100000
DTEND;TZID=America/Denver:20241109T160000
DTSTAMP:20260423T230953
CREATED:20231214T230357Z
LAST-MODIFIED:20231214T230357Z
UID:10008310-1731146400-1731168000@scfd.org
SUMMARY:Días gratis en el zoológico de Denver
DESCRIPTION:
URL:https://scfd.org/es/event/dias-gratis-en-el-zoologico-de-denver-12/2024-11-09/
END:VEVENT
BEGIN:VEVENT
DTSTART;TZID=America/Denver:20241109T100000
DTEND;TZID=America/Denver:20241109T160000
DTSTAMP:20260423T230953
CREATED:20231214T230448Z
LAST-MODIFIED:20231214T230448Z
UID:10008350-1731146400-1731168000@scfd.org
SUMMARY:Días gratis en el zoológico de Denver
DESCRIPTION:
URL:https://scfd.org/es/event/dias-gratis-en-el-zoologico-de-denver-13/2024-11-09/
END:VEVENT
BEGIN:VEVENT
DTSTART;TZID=America/Denver:20241109T113000
DTEND;TZID=America/Denver:20241109T123000
DTSTAMP:20260423T230953
CREATED:20240826T211036Z
LAST-MODIFIED:20240826T211036Z
UID:10008656-1731151800-1731155400@scfd.org
SUMMARY:El Principito - Teatro para Público Joven presentado por Platte Valley Players
DESCRIPTION:
URL:https://scfd.org/es/event/el-principito-teatro-para-publico-joven-presentado-por-platte-valley-players-3/2024-11-09/2/
END:VEVENT
BEGIN:VEVENT
DTSTART;TZID=America/Denver:20241110T120000
DTEND;TZID=America/Denver:20241110T170000
DTSTAMP:20260423T230953
CREATED:20240104T192311Z
LAST-MODIFIED:20240104T192311Z
UID:10008413-1731240000-1731258000@scfd.org
SUMMARY:¡Día libre de SCFD!
DESCRIPTION:
URL:https://scfd.org/es/event/dia-libre-de-scfd-39/
END:VEVENT
END:VCALENDAR