BEGIN:VCALENDAR
VERSION:2.0
PRODID:-//SCFD - ECPv6.15.18//NONSGML v1.0//EN
CALSCALE:GREGORIAN
METHOD:PUBLISH
X-WR-CALNAME:SCFD
X-ORIGINAL-URL:https://scfd.org/es/
X-WR-CALDESC:Eventos para SCFD
REFRESH-INTERVAL;VALUE=DURATION:PT1H
X-Robots-Tag:noindex
X-PUBLISHED-TTL:PT1H
BEGIN:VTIMEZONE
TZID:America/Denver
BEGIN:DAYLIGHT
TZOFFSETFROM:-0700
TZOFFSETTO:-0600
TZNAME:MDT
DTSTART:20240310T090000
END:DAYLIGHT
BEGIN:STANDARD
TZOFFSETFROM:-0600
TZOFFSETTO:-0700
TZNAME:MST
DTSTART:20241103T080000
END:STANDARD
BEGIN:DAYLIGHT
TZOFFSETFROM:-0700
TZOFFSETTO:-0600
TZNAME:MDT
DTSTART:20250309T090000
END:DAYLIGHT
BEGIN:STANDARD
TZOFFSETFROM:-0600
TZOFFSETTO:-0700
TZNAME:MST
DTSTART:20251102T080000
END:STANDARD
BEGIN:DAYLIGHT
TZOFFSETFROM:-0700
TZOFFSETTO:-0600
TZNAME:MDT
DTSTART:20260308T090000
END:DAYLIGHT
BEGIN:STANDARD
TZOFFSETFROM:-0600
TZOFFSETTO:-0700
TZNAME:MST
DTSTART:20261101T080000
END:STANDARD
END:VTIMEZONE
BEGIN:VEVENT
DTSTART;TZID=America/Denver:20250110T100000
DTEND;TZID=America/Denver:20250110T170000
DTSTAMP:20260424T112545
CREATED:20250115T195147Z
LAST-MODIFIED:20250115T195147Z
UID:10007313-1736503200-1736528400@scfd.org
SUMMARY:Días libres de la comunidad del zoológico de Denver
DESCRIPTION:
URL:https://scfd.org/es/event/dias-libres-de-la-comunidad-del-zoologico-de-denver-12/2025-01-10/
END:VEVENT
BEGIN:VEVENT
DTSTART;TZID=America/Denver:20250112T090000
DTEND;TZID=America/Denver:20250112T170000
DTSTAMP:20260424T112545
CREATED:20241031T222543Z
LAST-MODIFIED:20241031T222543Z
UID:10008693-1736672400-1736701200@scfd.org
SUMMARY:Día Gratis del Museo de Naturaleza y Ciencia de Denver
DESCRIPTION:
URL:https://scfd.org/es/event/dia-gratis-del-museo-de-naturaleza-y-ciencia-de-denver-10/2025-01-12/
END:VEVENT
END:VCALENDAR