BEGIN:VCALENDAR
VERSION:2.0
PRODID:-//SCFD - ECPv6.15.18//NONSGML v1.0//EN
CALSCALE:GREGORIAN
METHOD:PUBLISH
X-ORIGINAL-URL:https://scfd.org/es/
X-WR-CALDESC:Eventos para SCFD
REFRESH-INTERVAL;VALUE=DURATION:PT1H
X-Robots-Tag:noindex
X-PUBLISHED-TTL:PT1H
BEGIN:VTIMEZONE
TZID:America/Denver
BEGIN:DAYLIGHT
TZOFFSETFROM:-0700
TZOFFSETTO:-0600
TZNAME:MDT
DTSTART:20240310T090000
END:DAYLIGHT
BEGIN:STANDARD
TZOFFSETFROM:-0600
TZOFFSETTO:-0700
TZNAME:MST
DTSTART:20241103T080000
END:STANDARD
BEGIN:DAYLIGHT
TZOFFSETFROM:-0700
TZOFFSETTO:-0600
TZNAME:MDT
DTSTART:20250309T090000
END:DAYLIGHT
BEGIN:STANDARD
TZOFFSETFROM:-0600
TZOFFSETTO:-0700
TZNAME:MST
DTSTART:20251102T080000
END:STANDARD
BEGIN:DAYLIGHT
TZOFFSETFROM:-0700
TZOFFSETTO:-0600
TZNAME:MDT
DTSTART:20260308T090000
END:DAYLIGHT
BEGIN:STANDARD
TZOFFSETFROM:-0600
TZOFFSETTO:-0700
TZNAME:MST
DTSTART:20261101T080000
END:STANDARD
END:VTIMEZONE
BEGIN:VEVENT
DTSTART;TZID=America/Denver:20250116T110000
DTEND;TZID=America/Denver:20250330T190000
DTSTAMP:20260423T041232
CREATED:20250113T211730Z
LAST-MODIFIED:20250113T211730Z
UID:10008794-1737025200-1743361200@scfd.org
SUMMARY:Exposición en la galería Arte del Estado 2025
DESCRIPTION:
URL:https://scfd.org/es/event/exposicion-en-la-galeria-arte-del-estado-2025/
END:VEVENT
BEGIN:VEVENT
DTSTART;TZID=America/Denver:20250310T090000
DTEND;TZID=America/Denver:20250310T160000
DTSTAMP:20260423T041232
CREATED:20241216T211901Z
LAST-MODIFIED:20241216T211901Z
UID:10008756-1741597200-1741622400@scfd.org
SUMMARY:Jardines Botánicos de Denver York Street Días Gratis: Por favor\, obtenga sus boletos con anticipación. No hay entradas disponibles para los días agotados. Los días gratuitos son solo para el horario regular del jardín y no incluyen eventos con boleto.
DESCRIPTION:
URL:https://scfd.org/es/event/jardines-botanicos-de-denver-york-street-dias-gratis-por-favor-obtenga-sus-boletos-con-anticipacion-no-hay-entradas-disponibles-para-los-dias-agotados-los-dias-gratuitos-son-solo-para-el-horario-r-7/2025-03-10/
END:VEVENT
BEGIN:VEVENT
DTSTART;TZID=America/Denver:20250311T100000
DTEND;TZID=America/Denver:20250311T200000
DTSTAMP:20260423T041232
CREATED:20241119T192541Z
LAST-MODIFIED:20241119T192541Z
UID:10007225-1741687200-1741723200@scfd.org
SUMMARY:Día libre en el DAM
DESCRIPTION:
URL:https://scfd.org/es/event/dia-libre-en-el-dam-24/
END:VEVENT
BEGIN:VEVENT
DTSTART;TZID=America/Denver:20250312T193000
DTEND;TZID=America/Denver:20250312T210000
DTSTAMP:20260423T041232
CREATED:20250203T232755Z
LAST-MODIFIED:20250203T232755Z
UID:10008823-1741807800-1741813200@scfd.org
SUMMARY:Concierto paralelo de DYAO
DESCRIPTION:
URL:https://scfd.org/es/event/concierto-paralelo-de-dyao/
END:VEVENT
BEGIN:VEVENT
DTSTART;TZID=America/Denver:20250313T090000
DTEND;TZID=America/Denver:20250313T170000
DTSTAMP:20260423T041232
CREATED:20250310T235640Z
LAST-MODIFIED:20250310T235640Z
UID:10008864-1741856400-1741885200@scfd.org
SUMMARY:Día Libre de SCFD
DESCRIPTION:
URL:https://scfd.org/es/event/dia-libre-de-scfd-7/2025-03-13/
END:VEVENT
BEGIN:VEVENT
DTSTART;TZID=America/Denver:20250315T100000
DTEND;TZID=America/Denver:20250315T150000
DTSTAMP:20260423T041232
CREATED:20241216T211928Z
LAST-MODIFIED:20241216T211928Z
UID:10008764-1742032800-1742050800@scfd.org
SUMMARY:Días libres en el Centro de Conservación de las Llanuras
DESCRIPTION:
URL:https://scfd.org/es/event/dias-libres-en-el-centro-de-conservacion-de-las-llanuras-7/2025-03-15/
END:VEVENT
END:VCALENDAR