BEGIN:VCALENDAR
VERSION:2.0
PRODID:-//SCFD - ECPv6.15.18//NONSGML v1.0//EN
CALSCALE:GREGORIAN
METHOD:PUBLISH
X-ORIGINAL-URL:https://scfd.org/es/
X-WR-CALDESC:Eventos para SCFD
REFRESH-INTERVAL;VALUE=DURATION:PT1H
X-Robots-Tag:noindex
X-PUBLISHED-TTL:PT1H
BEGIN:VTIMEZONE
TZID:America/Denver
BEGIN:DAYLIGHT
TZOFFSETFROM:-0700
TZOFFSETTO:-0600
TZNAME:MDT
DTSTART:20240310T090000
END:DAYLIGHT
BEGIN:STANDARD
TZOFFSETFROM:-0600
TZOFFSETTO:-0700
TZNAME:MST
DTSTART:20241103T080000
END:STANDARD
BEGIN:DAYLIGHT
TZOFFSETFROM:-0700
TZOFFSETTO:-0600
TZNAME:MDT
DTSTART:20250309T090000
END:DAYLIGHT
BEGIN:STANDARD
TZOFFSETFROM:-0600
TZOFFSETTO:-0700
TZNAME:MST
DTSTART:20251102T080000
END:STANDARD
BEGIN:DAYLIGHT
TZOFFSETFROM:-0700
TZOFFSETTO:-0600
TZNAME:MDT
DTSTART:20260308T090000
END:DAYLIGHT
BEGIN:STANDARD
TZOFFSETFROM:-0600
TZOFFSETTO:-0700
TZNAME:MST
DTSTART:20261101T080000
END:STANDARD
END:VTIMEZONE
BEGIN:VEVENT
DTSTART;TZID=America/Denver:20250708T100000
DTEND;TZID=America/Denver:20250708T200000
DTSTAMP:20260421T231626
CREATED:20241115T170521Z
LAST-MODIFIED:20241115T170521Z
UID:10008733-1751968800-1752004800@scfd.org
SUMMARY:Día libre en el DAM
DESCRIPTION:
URL:https://scfd.org/es/event/dia-libre-en-el-dam-20/
END:VEVENT
BEGIN:VEVENT
DTSTART;TZID=America/Denver:20250708T120000
DTEND;TZID=America/Denver:20250708T123000
DTSTAMP:20260421T231626
CREATED:20250625T213017Z
LAST-MODIFIED:20250625T213017Z
UID:10008939-1751976000-1751977800@scfd.org
SUMMARY:Venta de entradas DCPAccess
DESCRIPTION:
URL:https://scfd.org/es/event/venta-de-entradas-dcpaccess/2025-07-08/
END:VEVENT
BEGIN:VEVENT
DTSTART;TZID=America/Denver:20250709T100000
DTEND;TZID=America/Denver:20250709T170000
DTSTAMP:20260421T231626
CREATED:20250418T172541Z
LAST-MODIFIED:20250418T172541Z
UID:10008910-1752055200-1752080400@scfd.org
SUMMARY:Día Libre de SCFD en Marjorie Park
DESCRIPTION:
URL:https://scfd.org/es/event/dia-libre-de-scfd-en-marjorie-park/2025-07-09/
END:VEVENT
BEGIN:VEVENT
DTSTART;TZID=America/Denver:20250709T113000
DTEND;TZID=America/Denver:20250709T144500
DTSTAMP:20260421T231626
CREATED:20250519T221002Z
LAST-MODIFIED:20250519T221002Z
UID:10007522-1752060600-1752072300@scfd.org
SUMMARY:¿Está realmente enterrado aquí?
DESCRIPTION:
URL:https://scfd.org/es/event/esta-realmente-enterrado-aqui/2025-07-09/
END:VEVENT
BEGIN:VEVENT
DTSTART;TZID=America/Denver:20250711T183000
DTEND;TZID=America/Denver:20250711T203000
DTSTAMP:20260421T231626
CREATED:20250523T221809Z
LAST-MODIFIED:20250523T221809Z
UID:10008928-1752258600-1752265800@scfd.org
SUMMARY:Voces Sagradas EN VIVO
DESCRIPTION:
URL:https://scfd.org/es/event/voces-sagradas-en-vivo/2025-07-11/
END:VEVENT
BEGIN:VEVENT
DTSTART;TZID=America/Denver:20250712T090000
DTEND;TZID=America/Denver:20250712T140000
DTSTAMP:20260421T231626
CREATED:20241216T211928Z
LAST-MODIFIED:20241216T211928Z
UID:10008766-1752310800-1752328800@scfd.org
SUMMARY:Días libres en el Centro de Conservación de las Llanuras
DESCRIPTION:
URL:https://scfd.org/es/event/dias-libres-en-el-centro-de-conservacion-de-las-llanuras-7/2025-07-12/
END:VEVENT
BEGIN:VEVENT
DTSTART;TZID=America/Denver:20250713T150000
DTEND;TZID=America/Denver:20250713T170000
DTSTAMP:20260421T231626
CREATED:20250325T204245Z
LAST-MODIFIED:20250325T204245Z
UID:10008877-1752418800-1752426000@scfd.org
SUMMARY:Conciertos en el Carrusel
DESCRIPTION:
URL:https://scfd.org/es/event/conciertos-en-el-carrusel/2025-07-13/
END:VEVENT
END:VCALENDAR