BEGIN:VCALENDAR
VERSION:2.0
PRODID:-//SCFD - ECPv6.15.18//NONSGML v1.0//EN
CALSCALE:GREGORIAN
METHOD:PUBLISH
X-ORIGINAL-URL:https://scfd.org/es/
X-WR-CALDESC:Eventos para SCFD
REFRESH-INTERVAL;VALUE=DURATION:PT1H
X-Robots-Tag:noindex
X-PUBLISHED-TTL:PT1H
BEGIN:VTIMEZONE
TZID:America/Denver
BEGIN:DAYLIGHT
TZOFFSETFROM:-0700
TZOFFSETTO:-0600
TZNAME:MDT
DTSTART:20240310T090000
END:DAYLIGHT
BEGIN:STANDARD
TZOFFSETFROM:-0600
TZOFFSETTO:-0700
TZNAME:MST
DTSTART:20241103T080000
END:STANDARD
BEGIN:DAYLIGHT
TZOFFSETFROM:-0700
TZOFFSETTO:-0600
TZNAME:MDT
DTSTART:20250309T090000
END:DAYLIGHT
BEGIN:STANDARD
TZOFFSETFROM:-0600
TZOFFSETTO:-0700
TZNAME:MST
DTSTART:20251102T080000
END:STANDARD
BEGIN:DAYLIGHT
TZOFFSETFROM:-0700
TZOFFSETTO:-0600
TZNAME:MDT
DTSTART:20260308T090000
END:DAYLIGHT
BEGIN:STANDARD
TZOFFSETFROM:-0600
TZOFFSETTO:-0700
TZNAME:MST
DTSTART:20261101T080000
END:STANDARD
END:VTIMEZONE
BEGIN:VEVENT
DTSTART;TZID=America/Denver:20250716T113000
DTEND;TZID=America/Denver:20250716T144500
DTSTAMP:20260421T231936
CREATED:20250519T221002Z
LAST-MODIFIED:20250519T221002Z
UID:10007523-1752665400-1752677100@scfd.org
SUMMARY:¿Está realmente enterrado aquí?
DESCRIPTION:
URL:https://scfd.org/es/event/esta-realmente-enterrado-aqui/2025-07-16/
END:VEVENT
BEGIN:VEVENT
DTSTART;TZID=America/Denver:20250718T100000
DTEND;TZID=America/Denver:20250718T160000
DTSTAMP:20260421T231936
CREATED:20250206T192936Z
LAST-MODIFIED:20250206T192936Z
UID:10008840-1752832800-1752854400@scfd.org
SUMMARY:Día Libre del Laboratorio de Aprendizaje de Educación Antiterrorista (CELL): Día Libre de SCFD
DESCRIPTION:
URL:https://scfd.org/es/event/dia-libre-del-laboratorio-de-aprendizaje-de-educacion-antiterrorista-cell-dia-libre-de-scfd/2025-07-18/
END:VEVENT
END:VCALENDAR