BEGIN:VCALENDAR
VERSION:2.0
PRODID:-//SCFD - ECPv6.15.18//NONSGML v1.0//EN
CALSCALE:GREGORIAN
METHOD:PUBLISH
X-ORIGINAL-URL:https://scfd.org/es/
X-WR-CALDESC:Eventos para SCFD
REFRESH-INTERVAL;VALUE=DURATION:PT1H
X-Robots-Tag:noindex
X-PUBLISHED-TTL:PT1H
BEGIN:VTIMEZONE
TZID:America/Denver
BEGIN:DAYLIGHT
TZOFFSETFROM:-0700
TZOFFSETTO:-0600
TZNAME:MDT
DTSTART:20240310T090000
END:DAYLIGHT
BEGIN:STANDARD
TZOFFSETFROM:-0600
TZOFFSETTO:-0700
TZNAME:MST
DTSTART:20241103T080000
END:STANDARD
BEGIN:DAYLIGHT
TZOFFSETFROM:-0700
TZOFFSETTO:-0600
TZNAME:MDT
DTSTART:20250309T090000
END:DAYLIGHT
BEGIN:STANDARD
TZOFFSETFROM:-0600
TZOFFSETTO:-0700
TZNAME:MST
DTSTART:20251102T080000
END:STANDARD
BEGIN:DAYLIGHT
TZOFFSETFROM:-0700
TZOFFSETTO:-0600
TZNAME:MDT
DTSTART:20260308T090000
END:DAYLIGHT
BEGIN:STANDARD
TZOFFSETFROM:-0600
TZOFFSETTO:-0700
TZNAME:MST
DTSTART:20261101T080000
END:STANDARD
END:VTIMEZONE
BEGIN:VEVENT
DTSTART;TZID=America/Denver:20250812T100000
DTEND;TZID=America/Denver:20250812T200000
DTSTAMP:20260421T223654
CREATED:20241115T170505Z
LAST-MODIFIED:20241115T170505Z
UID:10008732-1754992800-1755028800@scfd.org
SUMMARY:Día libre en el DAM
DESCRIPTION:
URL:https://scfd.org/es/event/dia-libre-en-el-dam-19/
END:VEVENT
BEGIN:VEVENT
DTSTART;TZID=America/Denver:20250813T100000
DTEND;TZID=America/Denver:20250813T170000
DTSTAMP:20260421T223654
CREATED:20250418T172541Z
LAST-MODIFIED:20250418T172541Z
UID:10008911-1755079200-1755104400@scfd.org
SUMMARY:Día Libre de SCFD en Marjorie Park
DESCRIPTION:
URL:https://scfd.org/es/event/dia-libre-de-scfd-en-marjorie-park/2025-08-13/
END:VEVENT
BEGIN:VEVENT
DTSTART;TZID=America/Denver:20250813T113000
DTEND;TZID=America/Denver:20250813T144500
DTSTAMP:20260421T223654
CREATED:20250519T221002Z
LAST-MODIFIED:20250519T221002Z
UID:10007527-1755084600-1755096300@scfd.org
SUMMARY:¿Está realmente enterrado aquí?
DESCRIPTION:
URL:https://scfd.org/es/event/esta-realmente-enterrado-aqui/2025-08-13/
END:VEVENT
BEGIN:VEVENT
DTSTART;TZID=America/Denver:20250814T090000
DTEND;TZID=America/Denver:20250814T140000
DTSTAMP:20260421T223654
CREATED:20241216T211928Z
LAST-MODIFIED:20241216T211928Z
UID:10008767-1755162000-1755180000@scfd.org
SUMMARY:Días libres en el Centro de Conservación de las Llanuras
DESCRIPTION:
URL:https://scfd.org/es/event/dias-libres-en-el-centro-de-conservacion-de-las-llanuras-7/2025-08-14/
END:VEVENT
BEGIN:VEVENT
DTSTART;TZID=America/Denver:20250814T120000
DTEND;TZID=America/Denver:20250814T130000
DTSTAMP:20260421T223654
CREATED:20250721T222401Z
LAST-MODIFIED:20250721T222401Z
UID:10007549-1755172800-1755176400@scfd.org
SUMMARY:Picnic en la Plaza
DESCRIPTION:
URL:https://scfd.org/es/event/picnic-en-la-plaza/2025-08-14/
END:VEVENT
BEGIN:VEVENT
DTSTART;TZID=America/Denver:20250815T100000
DTEND;TZID=America/Denver:20250815T160000
DTSTAMP:20260421T223654
CREATED:20250206T192936Z
LAST-MODIFIED:20250206T192936Z
UID:10008841-1755252000-1755273600@scfd.org
SUMMARY:Día Libre del Laboratorio de Aprendizaje de Educación Antiterrorista (CELL): Día Libre de SCFD
DESCRIPTION:
URL:https://scfd.org/es/event/dia-libre-del-laboratorio-de-aprendizaje-de-educacion-antiterrorista-cell-dia-libre-de-scfd/2025-08-15/
END:VEVENT
BEGIN:VEVENT
DTSTART;TZID=America/Denver:20250815T180000
DTEND;TZID=America/Denver:20250815T210000
DTSTAMP:20260421T223654
CREATED:20250730T182813Z
LAST-MODIFIED:20250730T182813Z
UID:10007558-1755280800-1755291600@scfd.org
SUMMARY:El aire libre en Clement Park
DESCRIPTION:
URL:https://scfd.org/es/event/el-aire-libre-en-clement-park/
END:VEVENT
BEGIN:VEVENT
DTSTART;TZID=America/Denver:20250816T100000
DTEND;TZID=America/Denver:20250816T170000
DTSTAMP:20260421T223654
CREATED:20241025T171211Z
LAST-MODIFIED:20241025T171211Z
UID:10007150-1755338400-1755363600@scfd.org
SUMMARY:Fin de semana de viaje gratis en Wingate
DESCRIPTION:
URL:https://scfd.org/es/event/fin-de-semana-de-viaje-gratis-en-wingate/
END:VEVENT
BEGIN:VEVENT
DTSTART;TZID=America/Denver:20250816T100000
DTEND;TZID=America/Denver:20250816T170000
DTSTAMP:20260421T223654
CREATED:20250721T215737Z
LAST-MODIFIED:20250721T215737Z
UID:10008969-1755338400-1755363600@scfd.org
SUMMARY:Objetos perdidos: arte con objetos encontrados
DESCRIPTION:
URL:https://scfd.org/es/event/objetos-perdidos-arte-con-objetos-encontrados/2025-08-16/
END:VEVENT
BEGIN:VEVENT
DTSTART;TZID=America/Denver:20250817T180000
DTEND;TZID=America/Denver:20250817T210000
DTSTAMP:20260421T223654
CREATED:20250730T183007Z
LAST-MODIFIED:20250730T183007Z
UID:10007560-1755453600-1755464400@scfd.org
SUMMARY:El aire libre en Hudson Gardens
DESCRIPTION:
URL:https://scfd.org/es/event/el-aire-libre-en-hudson-gardens/
END:VEVENT
END:VCALENDAR