BEGIN:VCALENDAR
VERSION:2.0
PRODID:-//SCFD - ECPv6.15.18//NONSGML v1.0//EN
CALSCALE:GREGORIAN
METHOD:PUBLISH
X-WR-CALNAME:SCFD
X-ORIGINAL-URL:https://scfd.org/es/
X-WR-CALDESC:Eventos para SCFD
REFRESH-INTERVAL;VALUE=DURATION:PT1H
X-Robots-Tag:noindex
X-PUBLISHED-TTL:PT1H
BEGIN:VTIMEZONE
TZID:America/Denver
BEGIN:DAYLIGHT
TZOFFSETFROM:-0700
TZOFFSETTO:-0600
TZNAME:MDT
DTSTART:20250309T090000
END:DAYLIGHT
BEGIN:STANDARD
TZOFFSETFROM:-0600
TZOFFSETTO:-0700
TZNAME:MST
DTSTART:20251102T080000
END:STANDARD
BEGIN:DAYLIGHT
TZOFFSETFROM:-0700
TZOFFSETTO:-0600
TZNAME:MDT
DTSTART:20260308T090000
END:DAYLIGHT
BEGIN:STANDARD
TZOFFSETFROM:-0600
TZOFFSETTO:-0700
TZNAME:MST
DTSTART:20261101T080000
END:STANDARD
BEGIN:DAYLIGHT
TZOFFSETFROM:-0700
TZOFFSETTO:-0600
TZNAME:MDT
DTSTART:20270314T090000
END:DAYLIGHT
BEGIN:STANDARD
TZOFFSETFROM:-0600
TZOFFSETTO:-0700
TZNAME:MST
DTSTART:20271107T080000
END:STANDARD
END:VTIMEZONE
BEGIN:VEVENT
DTSTART;VALUE=DATE:20260309
DTEND;VALUE=DATE:20260310
DTSTAMP:20260420T220932
CREATED:20260107T194113Z
LAST-MODIFIED:20260107T194113Z
UID:10007823-1773014400-1773100799@scfd.org
SUMMARY:DBG - York y Chatfield
DESCRIPTION:
URL:https://scfd.org/es/event/dbg-york-y-chatfield/2026-03-09/
END:VEVENT
BEGIN:VEVENT
DTSTART;TZID=America/Denver:20260310T100000
DTEND;TZID=America/Denver:20260310T200000
DTSTAMP:20260420T220932
CREATED:20251013T213639Z
LAST-MODIFIED:20251013T213639Z
UID:10009007-1773136800-1773172800@scfd.org
SUMMARY:Día libre en el Museo de Arte de Denver
DESCRIPTION:
URL:https://scfd.org/es/event/dia-libre-en-el-museo-de-arte-de-denver-4/
END:VEVENT
BEGIN:VEVENT
DTSTART;TZID=America/Denver:20260312T090000
DTEND;TZID=America/Denver:20260312T170000
DTSTAMP:20260420T220932
CREATED:20260219T003749Z
LAST-MODIFIED:20260219T003749Z
UID:10009141-1773306000-1773334800@scfd.org
SUMMARY:Día SCFD Gratuito del Museo del Ferrocarril de Colorado
DESCRIPTION:
URL:https://scfd.org/es/event/dia-scfd-gratuito-del-museo-del-ferrocarril-de-colorado/
END:VEVENT
END:VCALENDAR