BEGIN:VCALENDAR
VERSION:2.0
PRODID:-//SCFD - ECPv6.15.18//NONSGML v1.0//EN
CALSCALE:GREGORIAN
METHOD:PUBLISH
X-ORIGINAL-URL:https://scfd.org/es/
X-WR-CALDESC:Eventos para SCFD
REFRESH-INTERVAL;VALUE=DURATION:PT1H
X-Robots-Tag:noindex
X-PUBLISHED-TTL:PT1H
BEGIN:VTIMEZONE
TZID:America/Denver
BEGIN:DAYLIGHT
TZOFFSETFROM:-0700
TZOFFSETTO:-0600
TZNAME:MDT
DTSTART:20250309T090000
END:DAYLIGHT
BEGIN:STANDARD
TZOFFSETFROM:-0600
TZOFFSETTO:-0700
TZNAME:MST
DTSTART:20251102T080000
END:STANDARD
BEGIN:DAYLIGHT
TZOFFSETFROM:-0700
TZOFFSETTO:-0600
TZNAME:MDT
DTSTART:20260308T090000
END:DAYLIGHT
BEGIN:STANDARD
TZOFFSETFROM:-0600
TZOFFSETTO:-0700
TZNAME:MST
DTSTART:20261101T080000
END:STANDARD
BEGIN:DAYLIGHT
TZOFFSETFROM:-0700
TZOFFSETTO:-0600
TZNAME:MDT
DTSTART:20270314T090000
END:DAYLIGHT
BEGIN:STANDARD
TZOFFSETFROM:-0600
TZOFFSETTO:-0700
TZNAME:MST
DTSTART:20271107T080000
END:STANDARD
END:VTIMEZONE
BEGIN:VEVENT
DTSTART;TZID=America/Denver:20260323T110000
DTEND;TZID=America/Denver:20260323T170000
DTSTAMP:20260422T210728
CREATED:20251203T001309Z
LAST-MODIFIED:20251203T001309Z
UID:10007781-1774263600-1774285200@scfd.org
SUMMARY:Día de Paseo Gratis Tom & Glenna Carline
DESCRIPTION:
URL:https://scfd.org/es/event/dia-de-paseo-gratis-tom-glenna-carline/
END:VEVENT
BEGIN:VEVENT
DTSTART;TZID=America/Denver:20260327T090000
DTEND;TZID=America/Denver:20260327T160000
DTSTAMP:20260422T210728
CREATED:20260109T161433Z
LAST-MODIFIED:20260109T161433Z
UID:10009110-1774602000-1774627200@scfd.org
SUMMARY:¡Celebra el Sesquicentenario al Estilo Dino Ridge!
DESCRIPTION:
URL:https://scfd.org/es/event/celebra-el-sesquicentenario-al-estilo-dino-ridge/2026-03-27/
END:VEVENT
BEGIN:VEVENT
DTSTART;TZID=America/Denver:20260329T160000
DTEND;TZID=America/Denver:20260329T180000
DTSTAMP:20260422T210728
CREATED:20260305T174416Z
LAST-MODIFIED:20260305T174416Z
UID:10009525-1774800000-1774807200@scfd.org
SUMMARY:Motus Theater & CAPU presentan: Motus Playback: Viajes de Adopción
DESCRIPTION:
URL:https://scfd.org/es/event/motus-theater-capu-presentan-motus-playback-viajes-de-adopcion/
END:VEVENT
END:VCALENDAR