BEGIN:VCALENDAR
VERSION:2.0
PRODID:-//SCFD - ECPv6.15.18//NONSGML v1.0//EN
CALSCALE:GREGORIAN
METHOD:PUBLISH
X-ORIGINAL-URL:https://scfd.org
X-WR-CALDESC:Events for SCFD
REFRESH-INTERVAL;VALUE=DURATION:PT1H
X-Robots-Tag:noindex
X-PUBLISHED-TTL:PT1H
BEGIN:VTIMEZONE
TZID:America/Denver
BEGIN:DAYLIGHT
TZOFFSETFROM:-0700
TZOFFSETTO:-0600
TZNAME:MDT
DTSTART:20230312T090000
END:DAYLIGHT
BEGIN:STANDARD
TZOFFSETFROM:-0600
TZOFFSETTO:-0700
TZNAME:MST
DTSTART:20231105T080000
END:STANDARD
BEGIN:DAYLIGHT
TZOFFSETFROM:-0700
TZOFFSETTO:-0600
TZNAME:MDT
DTSTART:20240310T090000
END:DAYLIGHT
BEGIN:STANDARD
TZOFFSETFROM:-0600
TZOFFSETTO:-0700
TZNAME:MST
DTSTART:20241103T080000
END:STANDARD
BEGIN:DAYLIGHT
TZOFFSETFROM:-0700
TZOFFSETTO:-0600
TZNAME:MDT
DTSTART:20250309T090000
END:DAYLIGHT
BEGIN:STANDARD
TZOFFSETFROM:-0600
TZOFFSETTO:-0700
TZNAME:MST
DTSTART:20251102T080000
END:STANDARD
END:VTIMEZONE
BEGIN:VEVENT
DTSTART;VALUE=DATE:20240109
DTEND;VALUE=DATE:20240110
DTSTAMP:20260422T040044
CREATED:20231214T235434Z
LAST-MODIFIED:20231214T235434Z
UID:10006966-1704758400-1704844799@scfd.org
SUMMARY:Denver Center for the Performing Arts
DESCRIPTION:
URL:https://scfd.org/event/denver-center-for-the-performing-arts/
END:VEVENT
BEGIN:VEVENT
DTSTART;TZID=America/Denver:20240109T100000
DTEND;TZID=America/Denver:20240109T200000
DTSTAMP:20260422T040044
CREATED:20231213T002432Z
LAST-MODIFIED:20240429T222723Z
UID:10007894-1704794400-1704830400@scfd.org
SUMMARY:Denver Art Museum Free Day
DESCRIPTION:
URL:https://scfd.org/event/denver-art-museum-free-day/2024-01-09/
END:VEVENT
END:VCALENDAR