BEGIN:VCALENDAR
VERSION:2.0
PRODID:-//SCFD - ECPv6.15.18//NONSGML v1.0//EN
CALSCALE:GREGORIAN
METHOD:PUBLISH
X-ORIGINAL-URL:https://scfd.org
X-WR-CALDESC:Events for SCFD
REFRESH-INTERVAL;VALUE=DURATION:PT1H
X-Robots-Tag:noindex
X-PUBLISHED-TTL:PT1H
BEGIN:VTIMEZONE
TZID:America/Denver
BEGIN:DAYLIGHT
TZOFFSETFROM:-0700
TZOFFSETTO:-0600
TZNAME:MDT
DTSTART:20230312T090000
END:DAYLIGHT
BEGIN:STANDARD
TZOFFSETFROM:-0600
TZOFFSETTO:-0700
TZNAME:MST
DTSTART:20231105T080000
END:STANDARD
BEGIN:DAYLIGHT
TZOFFSETFROM:-0700
TZOFFSETTO:-0600
TZNAME:MDT
DTSTART:20240310T090000
END:DAYLIGHT
BEGIN:STANDARD
TZOFFSETFROM:-0600
TZOFFSETTO:-0700
TZNAME:MST
DTSTART:20241103T080000
END:STANDARD
BEGIN:DAYLIGHT
TZOFFSETFROM:-0700
TZOFFSETTO:-0600
TZNAME:MDT
DTSTART:20250309T090000
END:DAYLIGHT
BEGIN:STANDARD
TZOFFSETFROM:-0600
TZOFFSETTO:-0700
TZNAME:MST
DTSTART:20251102T080000
END:STANDARD
END:VTIMEZONE
BEGIN:VEVENT
DTSTART;TZID=America/Denver:20240808T120000
DTEND;TZID=America/Denver:20240808T130000
DTSTAMP:20260424T074558
CREATED:20240701T191301Z
LAST-MODIFIED:20240702T202800Z
UID:10008599-1723118400-1723122000@scfd.org
SUMMARY:Picnic on the Plaza Series
DESCRIPTION:
URL:https://scfd.org/event/picnic-on-the-plaza-series/2024-08-08/
END:VEVENT
BEGIN:VEVENT
DTSTART;TZID=America/Denver:20240808T130000
DTEND;TZID=America/Denver:20240808T140000
DTSTAMP:20260424T074558
CREATED:20230713T225717Z
LAST-MODIFIED:20230720T212935Z
UID:10007659-1723122000-1723125600@scfd.org
SUMMARY:Parkinson's
DESCRIPTION:
URL:https://scfd.org/event/13584/2024-08-08/
END:VEVENT
END:VCALENDAR