BEGIN:VCALENDAR
VERSION:2.0
PRODID:-//SCFD - ECPv6.15.18//NONSGML v1.0//EN
CALSCALE:GREGORIAN
METHOD:PUBLISH
X-ORIGINAL-URL:https://scfd.org
X-WR-CALDESC:Events for SCFD
REFRESH-INTERVAL;VALUE=DURATION:PT1H
X-Robots-Tag:noindex
X-PUBLISHED-TTL:PT1H
BEGIN:VTIMEZONE
TZID:America/Denver
BEGIN:DAYLIGHT
TZOFFSETFROM:-0700
TZOFFSETTO:-0600
TZNAME:MDT
DTSTART:20230312T090000
END:DAYLIGHT
BEGIN:STANDARD
TZOFFSETFROM:-0600
TZOFFSETTO:-0700
TZNAME:MST
DTSTART:20231105T080000
END:STANDARD
BEGIN:DAYLIGHT
TZOFFSETFROM:-0700
TZOFFSETTO:-0600
TZNAME:MDT
DTSTART:20240310T090000
END:DAYLIGHT
BEGIN:STANDARD
TZOFFSETFROM:-0600
TZOFFSETTO:-0700
TZNAME:MST
DTSTART:20241103T080000
END:STANDARD
BEGIN:DAYLIGHT
TZOFFSETFROM:-0700
TZOFFSETTO:-0600
TZNAME:MDT
DTSTART:20250309T090000
END:DAYLIGHT
BEGIN:STANDARD
TZOFFSETFROM:-0600
TZOFFSETTO:-0700
TZNAME:MST
DTSTART:20251102T080000
END:STANDARD
END:VTIMEZONE
BEGIN:VEVENT
DTSTART;TZID=America/Denver:20240926T130000
DTEND;TZID=America/Denver:20240926T140000
DTSTAMP:20260422T131235
CREATED:20230713T225717Z
LAST-MODIFIED:20230720T212935Z
UID:10007666-1727355600-1727359200@scfd.org
SUMMARY:Parkinson's
DESCRIPTION:
URL:https://scfd.org/event/13584/2024-09-26/
END:VEVENT
BEGIN:VEVENT
DTSTART;TZID=America/Denver:20240926T170000
DTEND;TZID=America/Denver:20240926T190000
DTSTAMP:20260422T131235
CREATED:20240909T184929Z
LAST-MODIFIED:20240909T195242Z
UID:10007137-1727370000-1727377200@scfd.org
SUMMARY:Y/OUR Denver Photo Reception
DESCRIPTION:
URL:https://scfd.org/event/y-our-denver-photo-reception/
END:VEVENT
END:VCALENDAR