BEGIN:VCALENDAR
VERSION:2.0
PRODID:-//SCFD - ECPv6.15.18//NONSGML v1.0//EN
CALSCALE:GREGORIAN
METHOD:PUBLISH
X-ORIGINAL-URL:https://scfd.org
X-WR-CALDESC:Events for SCFD
REFRESH-INTERVAL;VALUE=DURATION:PT1H
X-Robots-Tag:noindex
X-PUBLISHED-TTL:PT1H
BEGIN:VTIMEZONE
TZID:America/Denver
BEGIN:DAYLIGHT
TZOFFSETFROM:-0700
TZOFFSETTO:-0600
TZNAME:MDT
DTSTART:20250309T090000
END:DAYLIGHT
BEGIN:STANDARD
TZOFFSETFROM:-0600
TZOFFSETTO:-0700
TZNAME:MST
DTSTART:20251102T080000
END:STANDARD
BEGIN:DAYLIGHT
TZOFFSETFROM:-0700
TZOFFSETTO:-0600
TZNAME:MDT
DTSTART:20260308T090000
END:DAYLIGHT
BEGIN:STANDARD
TZOFFSETFROM:-0600
TZOFFSETTO:-0700
TZNAME:MST
DTSTART:20261101T080000
END:STANDARD
BEGIN:DAYLIGHT
TZOFFSETFROM:-0700
TZOFFSETTO:-0600
TZNAME:MDT
DTSTART:20270314T090000
END:DAYLIGHT
BEGIN:STANDARD
TZOFFSETFROM:-0600
TZOFFSETTO:-0700
TZNAME:MST
DTSTART:20271107T080000
END:STANDARD
END:VTIMEZONE
BEGIN:VEVENT
DTSTART;TZID=America/Denver:20260606T101200
DTEND;TZID=America/Denver:20260606T110000
DTSTAMP:20260423T003032
CREATED:20260409T192116Z
LAST-MODIFIED:20260409T195220Z
UID:10009589-1780740720-1780743600@scfd.org
SUMMARY:TCB Jazz Band Concert
DESCRIPTION:
URL:https://scfd.org/event/tcb-jazz-band-concert/
END:VEVENT
BEGIN:VEVENT
DTSTART;TZID=America/Denver:20260608T163000
DTEND;TZID=America/Denver:20260608T173000
DTSTAMP:20260423T003032
CREATED:20260409T192730Z
LAST-MODIFIED:20260409T195339Z
UID:10009591-1780936200-1780939800@scfd.org
SUMMARY:TCB Jazz Band
DESCRIPTION:
URL:https://scfd.org/event/tcb-jazz-band/
END:VEVENT
BEGIN:VEVENT
DTSTART;VALUE=DATE:20260609
DTEND;VALUE=DATE:20260610
DTSTAMP:20260423T003032
CREATED:20260107T194017Z
LAST-MODIFIED:20260107T194017Z
UID:10007817-1780963200-1781049599@scfd.org
SUMMARY:DBG - York and Chatfield
DESCRIPTION:
URL:https://scfd.org/event/dbg-york-and-chatfield/2026-06-09/
END:VEVENT
BEGIN:VEVENT
DTSTART;TZID=America/Denver:20260609T100000
DTEND;TZID=America/Denver:20260609T200000
DTSTAMP:20260423T003032
CREATED:20251002T224217Z
LAST-MODIFIED:20251013T220347Z
UID:10009003-1780999200-1781035200@scfd.org
SUMMARY:Free Day at the Denver Art Museum
DESCRIPTION:
URL:https://scfd.org/event/free-day-at-the-denver-art-museum-15/
END:VEVENT
BEGIN:VEVENT
DTSTART;TZID=America/Denver:20260610T100000
DTEND;TZID=America/Denver:20260610T160000
DTSTAMP:20260423T003032
CREATED:20260325T170707Z
LAST-MODIFIED:20260326T233216Z
UID:10009548-1781085600-1781107200@scfd.org
SUMMARY:Marjorie Park SCFD Free Day
DESCRIPTION:
URL:https://scfd.org/event/marjorie-park-scfd-free-day/2026-06-10/
END:VEVENT
BEGIN:VEVENT
DTSTART;TZID=America/Denver:20260611T090000
DTEND;TZID=America/Denver:20260611T140000
DTSTAMP:20260423T003032
CREATED:20260107T194512Z
LAST-MODIFIED:20260107T194512Z
UID:10009077-1781168400-1781186400@scfd.org
SUMMARY:DBG Plains Conservation Center
DESCRIPTION:
URL:https://scfd.org/event/dbg-plains-conservation-center/2026-06-11/
END:VEVENT
BEGIN:VEVENT
DTSTART;TZID=America/Denver:20260613T100000
DTEND;TZID=America/Denver:20260613T120000
DTSTAMP:20260423T003032
CREATED:20260213T231643Z
LAST-MODIFIED:20260219T004051Z
UID:10009146-1781344800-1781352000@scfd.org
SUMMARY:Worldwide Knit in Public Day
DESCRIPTION:
URL:https://scfd.org/event/worldwide-knit-in-public-day-2/
END:VEVENT
BEGIN:VEVENT
DTSTART;TZID=America/Denver:20260614T100000
DTEND;TZID=America/Denver:20260614T170000
DTSTAMP:20260423T003032
CREATED:20251229T200311Z
LAST-MODIFIED:20260402T164254Z
UID:10009070-1781431200-1781456400@scfd.org
SUMMARY:Denver Pride Month - Free Day
DESCRIPTION:
URL:https://scfd.org/event/denver-pride-month-free-day/
END:VEVENT
BEGIN:VEVENT
DTSTART;TZID=America/Denver:20260619T090000
DTEND;TZID=America/Denver:20260619T170000
DTSTAMP:20260423T003032
CREATED:20260107T193636Z
LAST-MODIFIED:20260107T193636Z
UID:10007807-1781859600-1781888400@scfd.org
SUMMARY:DMNS Free Days
DESCRIPTION:
URL:https://scfd.org/event/dmns-free-days/2026-06-19/
END:VEVENT
BEGIN:VEVENT
DTSTART;TZID=America/Denver:20260626T100000
DTEND;TZID=America/Denver:20260626T160000
DTSTAMP:20260423T003032
CREATED:20260123T164909Z
LAST-MODIFIED:20260123T183615Z
UID:10007855-1782468000-1782489600@scfd.org
SUMMARY:2026 SCFD Free Days (Daytime Admission 10am-4pm)
DESCRIPTION:
URL:https://scfd.org/event/2026-scfd-free-days-daytime-admission-10am-4pm/2026-06-26/
END:VEVENT
BEGIN:VEVENT
DTSTART;TZID=America/Denver:20260626T173000
DTEND;TZID=America/Denver:20260626T203000
DTSTAMP:20260423T003032
CREATED:20260414T145735Z
LAST-MODIFIED:20260416T203819Z
UID:10009596-1782495000-1782505800@scfd.org
SUMMARY:Adult Open Studio
DESCRIPTION:
URL:https://scfd.org/event/adult-open-studio-4/2026-06-26/
END:VEVENT
BEGIN:VEVENT
DTSTART;VALUE=DATE:20260701
DTEND;VALUE=DATE:20260702
DTSTAMP:20260423T003032
CREATED:20260107T194017Z
LAST-MODIFIED:20260107T194017Z
UID:10007818-1782864000-1782950399@scfd.org
SUMMARY:DBG - York and Chatfield
DESCRIPTION:
URL:https://scfd.org/event/dbg-york-and-chatfield/2026-07-01/
END:VEVENT
BEGIN:VEVENT
DTSTART;TZID=America/Denver:20260702T160000
DTEND;TZID=America/Denver:20260702T190000
DTSTAMP:20260423T003032
CREATED:20251208T175601Z
LAST-MODIFIED:20251212T190656Z
UID:10009048-1783008000-1783018800@scfd.org
SUMMARY:SCFD Free Evenings
DESCRIPTION:
URL:https://scfd.org/event/scfd-free-evenings/2026-07-02/
END:VEVENT
BEGIN:VEVENT
DTSTART;TZID=America/Denver:20260704T133000
DTEND;TZID=America/Denver:20260704T150000
DTSTAMP:20260423T003032
CREATED:20260409T193008Z
LAST-MODIFIED:20260409T195525Z
UID:10009593-1783171800-1783177200@scfd.org
SUMMARY:4th of July Concert
DESCRIPTION:
URL:https://scfd.org/event/4th-of-july-concert/
END:VEVENT
BEGIN:VEVENT
DTSTART;TZID=America/Denver:20260708T100000
DTEND;TZID=America/Denver:20260708T160000
DTSTAMP:20260423T003032
CREATED:20260325T170707Z
LAST-MODIFIED:20260326T233216Z
UID:10009549-1783504800-1783526400@scfd.org
SUMMARY:Marjorie Park SCFD Free Day
DESCRIPTION:
URL:https://scfd.org/event/marjorie-park-scfd-free-day/2026-07-08/
END:VEVENT
BEGIN:VEVENT
DTSTART;TZID=America/Denver:20260711T090000
DTEND;TZID=America/Denver:20260711T140000
DTSTAMP:20260423T003032
CREATED:20260107T194512Z
LAST-MODIFIED:20260107T194512Z
UID:10009078-1783760400-1783778400@scfd.org
SUMMARY:DBG Plains Conservation Center
DESCRIPTION:
URL:https://scfd.org/event/dbg-plains-conservation-center/2026-07-11/
END:VEVENT
BEGIN:VEVENT
DTSTART;TZID=America/Denver:20260712T093000
DTEND;TZID=America/Denver:20260712T140000
DTSTAMP:20260423T003032
CREATED:20260203T194641Z
LAST-MODIFIED:20260205T224032Z
UID:10009129-1783848600-1783864800@scfd.org
SUMMARY:Free Family Day
DESCRIPTION:
URL:https://scfd.org/event/free-family-day/
END:VEVENT
BEGIN:VEVENT
DTSTART;TZID=America/Denver:20260714T100000
DTEND;TZID=America/Denver:20260714T200000
DTSTAMP:20260423T003032
CREATED:20251013T231420Z
LAST-MODIFIED:20251015T230907Z
UID:10009012-1784023200-1784059200@scfd.org
SUMMARY:Free Day at the Denver Art Museum
DESCRIPTION:
URL:https://scfd.org/event/free-day-at-the-denver-art-museum-16/
END:VEVENT
BEGIN:VEVENT
DTSTART;TZID=America/Denver:20260715T100000
DTEND;TZID=America/Denver:20260715T160000
DTSTAMP:20260423T003032
CREATED:20260325T170707Z
LAST-MODIFIED:20260326T233216Z
UID:10009550-1784109600-1784131200@scfd.org
SUMMARY:Marjorie Park SCFD Free Day
DESCRIPTION:
URL:https://scfd.org/event/marjorie-park-scfd-free-day/2026-07-15/
END:VEVENT
BEGIN:VEVENT
DTSTART;TZID=America/Denver:20260724T100000
DTEND;TZID=America/Denver:20260724T160000
DTSTAMP:20260423T003032
CREATED:20260123T164909Z
LAST-MODIFIED:20260123T183615Z
UID:10007856-1784887200-1784908800@scfd.org
SUMMARY:2026 SCFD Free Days (Daytime Admission 10am-4pm)
DESCRIPTION:
URL:https://scfd.org/event/2026-scfd-free-days-daytime-admission-10am-4pm/2026-07-24/
END:VEVENT
BEGIN:VEVENT
DTSTART;TZID=America/Denver:20260724T120000
DTEND;TZID=America/Denver:20260724T140000
DTSTAMP:20260423T003032
CREATED:20260407T161333Z
LAST-MODIFIED:20260409T194733Z
UID:10009583-1784894400-1784901600@scfd.org
SUMMARY:Free Trad Jazz Education Seminar
DESCRIPTION:
URL:https://scfd.org/event/free-trad-jazz-education-seminar/
END:VEVENT
BEGIN:VEVENT
DTSTART;TZID=America/Denver:20260726T100000
DTEND;TZID=America/Denver:20260726T170000
DTSTAMP:20260423T003032
CREATED:20260401T192505Z
LAST-MODIFIED:20260402T164423Z
UID:10009576-1785060000-1785085200@scfd.org
SUMMARY:Clyfford Still Museum SCFD Free Day and Disability Pride Celebration
DESCRIPTION:
URL:https://scfd.org/event/clyfford-still-museum-scfd-free-day-and-disability-pride-celebration/
END:VEVENT
BEGIN:VEVENT
DTSTART;TZID=America/Denver:20260729T100000
DTEND;TZID=America/Denver:20260729T160000
DTSTAMP:20260423T003032
CREATED:20260325T170707Z
LAST-MODIFIED:20260326T233216Z
UID:10009551-1785319200-1785340800@scfd.org
SUMMARY:Marjorie Park SCFD Free Day
DESCRIPTION:
URL:https://scfd.org/event/marjorie-park-scfd-free-day/2026-07-29/
END:VEVENT
BEGIN:VEVENT
DTSTART;TZID=America/Denver:20260731T173000
DTEND;TZID=America/Denver:20260731T203000
DTSTAMP:20260423T003032
CREATED:20260414T145735Z
LAST-MODIFIED:20260416T203819Z
UID:10009597-1785519000-1785529800@scfd.org
SUMMARY:Adult Open Studio
DESCRIPTION:
URL:https://scfd.org/event/adult-open-studio-4/2026-07-31/
END:VEVENT
BEGIN:VEVENT
DTSTART;TZID=America/Denver:20260801T100000
DTEND;TZID=America/Denver:20260801T170000
DTSTAMP:20260423T003032
CREATED:20251013T231716Z
LAST-MODIFIED:20251023T160135Z
UID:10009013-1785578400-1785603600@scfd.org
SUMMARY:Free Day at the Denver Art Museum
DESCRIPTION:
URL:https://scfd.org/event/free-day-at-the-denver-art-museum-17/
END:VEVENT
BEGIN:VEVENT
DTSTART;TZID=America/Denver:20260805T100000
DTEND;TZID=America/Denver:20260805T160000
DTSTAMP:20260423T003032
CREATED:20260325T170707Z
LAST-MODIFIED:20260326T233216Z
UID:10009552-1785924000-1785945600@scfd.org
SUMMARY:Marjorie Park SCFD Free Day
DESCRIPTION:
URL:https://scfd.org/event/marjorie-park-scfd-free-day/2026-08-05/
END:VEVENT
BEGIN:VEVENT
DTSTART;TZID=America/Denver:20260806T160000
DTEND;TZID=America/Denver:20260806T190000
DTSTAMP:20260423T003032
CREATED:20251208T175601Z
LAST-MODIFIED:20251212T190656Z
UID:10009049-1786032000-1786042800@scfd.org
SUMMARY:SCFD Free Evenings
DESCRIPTION:
URL:https://scfd.org/event/scfd-free-evenings/2026-08-06/
END:VEVENT
BEGIN:VEVENT
DTSTART;TZID=America/Denver:20260819T100000
DTEND;TZID=America/Denver:20260819T160000
DTSTAMP:20260423T003032
CREATED:20260325T170707Z
LAST-MODIFIED:20260326T233216Z
UID:10009553-1787133600-1787155200@scfd.org
SUMMARY:Marjorie Park SCFD Free Day
DESCRIPTION:
URL:https://scfd.org/event/marjorie-park-scfd-free-day/2026-08-19/
END:VEVENT
BEGIN:VEVENT
DTSTART;TZID=America/Denver:20260820T090000
DTEND;TZID=America/Denver:20260820T140000
DTSTAMP:20260423T003032
CREATED:20260107T194512Z
LAST-MODIFIED:20260107T194512Z
UID:10009079-1787216400-1787234400@scfd.org
SUMMARY:DBG Plains Conservation Center
DESCRIPTION:
URL:https://scfd.org/event/dbg-plains-conservation-center/2026-08-20/
END:VEVENT
BEGIN:VEVENT
DTSTART;TZID=America/Denver:20260822T150000
DTEND;TZID=America/Denver:20260822T163000
DTSTAMP:20260423T003032
CREATED:20260406T153035Z
LAST-MODIFIED:20260409T194252Z
UID:10009577-1787410800-1787416200@scfd.org
SUMMARY:Season 14 - "Carmina Burana" The Metropolitan Choral Festival presents Carl Orff’s Carmina Burana. With a 150 voice choir and chamber orchestra you will feel the raw power and rhythmic intensity of this monumental choral staple. Tickets are free but must be reserved in advance.
DESCRIPTION:
URL:https://scfd.org/event/season-14-carmina-burana-the-metropolitan-choral-festival-presents-carl-orffs-carmina-burana-with-a-150-voice-choir-and-chamber-orchestra-you-will-feel-the-raw-power-and-rhythmic-inten/
END:VEVENT
END:VCALENDAR