BEGIN:VCALENDAR
VERSION:2.0
PRODID:-//SCFD - ECPv6.15.18//NONSGML v1.0//EN
CALSCALE:GREGORIAN
METHOD:PUBLISH
X-WR-CALNAME:SCFD
X-ORIGINAL-URL:https://scfd.org
X-WR-CALDESC:Events for SCFD
REFRESH-INTERVAL;VALUE=DURATION:PT1H
X-Robots-Tag:noindex
X-PUBLISHED-TTL:PT1H
BEGIN:VTIMEZONE
TZID:America/Denver
BEGIN:DAYLIGHT
TZOFFSETFROM:-0700
TZOFFSETTO:-0600
TZNAME:MDT
DTSTART:20210314T090000
END:DAYLIGHT
BEGIN:STANDARD
TZOFFSETFROM:-0600
TZOFFSETTO:-0700
TZNAME:MST
DTSTART:20211107T080000
END:STANDARD
BEGIN:DAYLIGHT
TZOFFSETFROM:-0700
TZOFFSETTO:-0600
TZNAME:MDT
DTSTART:20220313T090000
END:DAYLIGHT
BEGIN:STANDARD
TZOFFSETFROM:-0600
TZOFFSETTO:-0700
TZNAME:MST
DTSTART:20221106T080000
END:STANDARD
BEGIN:DAYLIGHT
TZOFFSETFROM:-0700
TZOFFSETTO:-0600
TZNAME:MDT
DTSTART:20230312T090000
END:DAYLIGHT
BEGIN:STANDARD
TZOFFSETFROM:-0600
TZOFFSETTO:-0700
TZNAME:MST
DTSTART:20231105T080000
END:STANDARD
END:VTIMEZONE
BEGIN:VEVENT
DTSTART;TZID=America/Denver:20220604T190000
DTEND;TZID=America/Denver:20220604T223000
DTSTAMP:20260424T083621
CREATED:20220510T191216Z
LAST-MODIFIED:20220512T175051Z
UID:10006719-1654369200-1654381800@scfd.org
SUMMARY:Adult Prom Fundraiser
DESCRIPTION:
URL:https://scfd.org/event/adult-prom-fundraiser/
END:VEVENT
BEGIN:VEVENT
DTSTART;TZID=America/Denver:20220605T100000
DTEND;TZID=America/Denver:20220605T170000
DTSTAMP:20260424T083621
CREATED:20220307T222647Z
LAST-MODIFIED:20220308T223734Z
UID:10006492-1654423200-1654448400@scfd.org
SUMMARY:SCFD Free Day at the DAM
DESCRIPTION:
URL:https://scfd.org/event/scfd-free-day-at-the-dam/2022-06-05/
END:VEVENT
BEGIN:VEVENT
DTSTART;TZID=America/Denver:20220605T160000
DTEND;TZID=America/Denver:20220605T160000
DTSTAMP:20260424T083621
CREATED:20220511T014445Z
LAST-MODIFIED:20220512T180005Z
UID:10006721-1654444800-1654444800@scfd.org
SUMMARY:Ukraine Benefit Concert
DESCRIPTION:
URL:https://scfd.org/event/ukraine-benefit-concert/
END:VEVENT
END:VCALENDAR