BEGIN:VCALENDAR
VERSION:2.0
PRODID:-//SCFD - ECPv6.15.18//NONSGML v1.0//EN
CALSCALE:GREGORIAN
METHOD:PUBLISH
X-ORIGINAL-URL:https://scfd.org
X-WR-CALDESC:Events for SCFD
REFRESH-INTERVAL;VALUE=DURATION:PT1H
X-Robots-Tag:noindex
X-PUBLISHED-TTL:PT1H
BEGIN:VTIMEZONE
TZID:America/Denver
BEGIN:DAYLIGHT
TZOFFSETFROM:-0700
TZOFFSETTO:-0600
TZNAME:MDT
DTSTART:20210314T090000
END:DAYLIGHT
BEGIN:STANDARD
TZOFFSETFROM:-0600
TZOFFSETTO:-0700
TZNAME:MST
DTSTART:20211107T080000
END:STANDARD
BEGIN:DAYLIGHT
TZOFFSETFROM:-0700
TZOFFSETTO:-0600
TZNAME:MDT
DTSTART:20220313T090000
END:DAYLIGHT
BEGIN:STANDARD
TZOFFSETFROM:-0600
TZOFFSETTO:-0700
TZNAME:MST
DTSTART:20221106T080000
END:STANDARD
BEGIN:DAYLIGHT
TZOFFSETFROM:-0700
TZOFFSETTO:-0600
TZNAME:MDT
DTSTART:20230312T090000
END:DAYLIGHT
BEGIN:STANDARD
TZOFFSETFROM:-0600
TZOFFSETTO:-0700
TZNAME:MST
DTSTART:20231105T080000
END:STANDARD
END:VTIMEZONE
BEGIN:VEVENT
DTSTART;TZID=America/Denver:20220705T130000
DTEND;TZID=America/Denver:20220705T150000
DTSTAMP:20260419T104250
CREATED:20210128T161018Z
LAST-MODIFIED:20220104T194354Z
UID:10006018-1657026000-1657033200@scfd.org
SUMMARY:RMQ English Paper Piecing - Free Class
DESCRIPTION:
URL:https://scfd.org/event/rmq-english-paper-piecing-free-class/2022-07-05/
END:VEVENT
BEGIN:VEVENT
DTSTART;VALUE=DATE:20220706
DTEND;VALUE=DATE:20220707
DTSTAMP:20260419T104250
CREATED:20211216T192255Z
LAST-MODIFIED:20211216T192255Z
UID:10006053-1657065600-1657151999@scfd.org
SUMMARY:SCFD Free Days at York St & Chatfield Farms
DESCRIPTION:
URL:https://scfd.org/event/scfd-free-days-at-york-st-chatfield-farms/2022-07-06/
END:VEVENT
BEGIN:VEVENT
DTSTART;TZID=America/Denver:20220708T190000
DTEND;TZID=America/Denver:20220708T230000
DTSTAMP:20260419T104250
CREATED:20220616T175805Z
LAST-MODIFIED:20220627T052553Z
UID:10006730-1657306800-1657321200@scfd.org
SUMMARY:Outdoor Movie Night: The Greatest Showman
DESCRIPTION:
URL:https://scfd.org/event/outdoor-movie-night-the-greatest-showman/
END:VEVENT
BEGIN:VEVENT
DTSTART;TZID=America/Denver:20220709T090000
DTEND;TZID=America/Denver:20220709T170000
DTSTAMP:20260419T104250
CREATED:20220627T225012Z
LAST-MODIFIED:20220704T152140Z
UID:10006241-1657357200-1657386000@scfd.org
SUMMARY:Free Day
DESCRIPTION:
URL:https://scfd.org/event/free-day/2022-07-09/
END:VEVENT
END:VCALENDAR