BEGIN:VCALENDAR
VERSION:2.0
PRODID:-//SCFD - ECPv6.15.18//NONSGML v1.0//EN
CALSCALE:GREGORIAN
METHOD:PUBLISH
X-ORIGINAL-URL:https://scfd.org
X-WR-CALDESC:Events for SCFD
REFRESH-INTERVAL;VALUE=DURATION:PT1H
X-Robots-Tag:noindex
X-PUBLISHED-TTL:PT1H
BEGIN:VTIMEZONE
TZID:America/Denver
BEGIN:DAYLIGHT
TZOFFSETFROM:-0700
TZOFFSETTO:-0600
TZNAME:MDT
DTSTART:20220313T090000
END:DAYLIGHT
BEGIN:STANDARD
TZOFFSETFROM:-0600
TZOFFSETTO:-0700
TZNAME:MST
DTSTART:20221106T080000
END:STANDARD
BEGIN:DAYLIGHT
TZOFFSETFROM:-0700
TZOFFSETTO:-0600
TZNAME:MDT
DTSTART:20230312T090000
END:DAYLIGHT
BEGIN:STANDARD
TZOFFSETFROM:-0600
TZOFFSETTO:-0700
TZNAME:MST
DTSTART:20231105T080000
END:STANDARD
BEGIN:DAYLIGHT
TZOFFSETFROM:-0700
TZOFFSETTO:-0600
TZNAME:MDT
DTSTART:20240310T090000
END:DAYLIGHT
BEGIN:STANDARD
TZOFFSETFROM:-0600
TZOFFSETTO:-0700
TZNAME:MST
DTSTART:20241103T080000
END:STANDARD
END:VTIMEZONE
BEGIN:VEVENT
DTSTART;TZID=America/Denver:20230613T100000
DTEND;TZID=America/Denver:20230613T210000
DTSTAMP:20260419T162505
CREATED:20221122T191204Z
LAST-MODIFIED:20221216T172035Z
UID:10006959-1686650400-1686690000@scfd.org
SUMMARY:Free Day at the DAM
DESCRIPTION:
URL:https://scfd.org/event/free-day-at-the-dam-7/
END:VEVENT
BEGIN:VEVENT
DTSTART;TZID=America/Denver:20230615T090000
DTEND;TZID=America/Denver:20230615T140000
DTSTAMP:20260419T162505
CREATED:20221019T154756Z
LAST-MODIFIED:20230105T163324Z
UID:10006856-1686819600-1686837600@scfd.org
SUMMARY:SCFD Free Days at Plains Conservation Center
DESCRIPTION:
URL:https://scfd.org/event/scfd-free-days-at-plains-conservation-center-6/2023-06-15/
END:VEVENT
BEGIN:VEVENT
DTSTART;TZID=America/Denver:20230616T180000
DTEND;TZID=America/Denver:20230616T220000
DTSTAMP:20260419T162505
CREATED:20230504T155521Z
LAST-MODIFIED:20230504T160901Z
UID:10007508-1686938400-1686952800@scfd.org
SUMMARY:Summer Film: Top Gun - Maverick
DESCRIPTION:
URL:https://scfd.org/event/summer-film-top-gun-maverick/
END:VEVENT
END:VCALENDAR