BEGIN:VCALENDAR
VERSION:2.0
PRODID:-//SCFD - ECPv6.15.18//NONSGML v1.0//EN
CALSCALE:GREGORIAN
METHOD:PUBLISH
X-WR-CALNAME:SCFD
X-ORIGINAL-URL:https://scfd.org
X-WR-CALDESC:Events for SCFD
REFRESH-INTERVAL;VALUE=DURATION:PT1H
X-Robots-Tag:noindex
X-PUBLISHED-TTL:PT1H
BEGIN:VTIMEZONE
TZID:America/Denver
BEGIN:DAYLIGHT
TZOFFSETFROM:-0700
TZOFFSETTO:-0600
TZNAME:MDT
DTSTART:20220313T090000
END:DAYLIGHT
BEGIN:STANDARD
TZOFFSETFROM:-0600
TZOFFSETTO:-0700
TZNAME:MST
DTSTART:20221106T080000
END:STANDARD
BEGIN:DAYLIGHT
TZOFFSETFROM:-0700
TZOFFSETTO:-0600
TZNAME:MDT
DTSTART:20230312T090000
END:DAYLIGHT
BEGIN:STANDARD
TZOFFSETFROM:-0600
TZOFFSETTO:-0700
TZNAME:MST
DTSTART:20231105T080000
END:STANDARD
BEGIN:DAYLIGHT
TZOFFSETFROM:-0700
TZOFFSETTO:-0600
TZNAME:MDT
DTSTART:20240310T090000
END:DAYLIGHT
BEGIN:STANDARD
TZOFFSETFROM:-0600
TZOFFSETTO:-0700
TZNAME:MST
DTSTART:20241103T080000
END:STANDARD
END:VTIMEZONE
BEGIN:VEVENT
DTSTART;TZID=America/Denver:20230628T170000
DTEND;TZID=America/Denver:20230628T210000
DTSTAMP:20260422T143107
CREATED:20230208T215154Z
LAST-MODIFIED:20230208T225750Z
UID:10006588-1687971600-1687986000@scfd.org
SUMMARY:SCFD Free Night
DESCRIPTION:
URL:https://scfd.org/event/scfd-free-night/
END:VEVENT
BEGIN:VEVENT
DTSTART;TZID=America/Denver:20230630T100000
DTEND;TZID=America/Denver:20230630T190000
DTSTAMP:20260422T143107
CREATED:20230403T190432Z
LAST-MODIFIED:20230406T230807Z
UID:10007463-1688119200-1688151600@scfd.org
SUMMARY:Educators' Day at FAN EXPO 2023
DESCRIPTION:
URL:https://scfd.org/event/educators-day-at-fan-expo-2023/
END:VEVENT
BEGIN:VEVENT
DTSTART;TZID=America/Denver:20230630T100000
DTEND;TZID=America/Denver:20230630T190000
DTSTAMP:20260422T143107
CREATED:20230403T190705Z
LAST-MODIFIED:20230406T230903Z
UID:10007473-1688119200-1688151600@scfd.org
SUMMARY:Pop Culture Classroom's Experience the Comics Student Group Program at FAN EXPO DENVER 2023
DESCRIPTION:
URL:https://scfd.org/event/pop-culture-classrooms-experience-the-comics-student-group-program-at-fan-expo-denver-2023/
END:VEVENT
BEGIN:VEVENT
DTSTART;TZID=America/Denver:20230630T180000
DTEND;TZID=America/Denver:20230630T220000
DTSTAMP:20260422T143107
CREATED:20230504T155656Z
LAST-MODIFIED:20230504T161150Z
UID:10007514-1688148000-1688162400@scfd.org
SUMMARY:Summer Film: Puss in Boots - The Last Wish
DESCRIPTION:
URL:https://scfd.org/event/summer-film-puss-in-boots-the-last-wish/
END:VEVENT
END:VCALENDAR