BEGIN:VCALENDAR
VERSION:2.0
PRODID:-//SCFD - ECPv6.15.18//NONSGML v1.0//EN
CALSCALE:GREGORIAN
METHOD:PUBLISH
X-ORIGINAL-URL:https://scfd.org
X-WR-CALDESC:Events for SCFD
REFRESH-INTERVAL;VALUE=DURATION:PT1H
X-Robots-Tag:noindex
X-PUBLISHED-TTL:PT1H
BEGIN:VTIMEZONE
TZID:America/Denver
BEGIN:DAYLIGHT
TZOFFSETFROM:-0700
TZOFFSETTO:-0600
TZNAME:MDT
DTSTART:20230312T090000
END:DAYLIGHT
BEGIN:STANDARD
TZOFFSETFROM:-0600
TZOFFSETTO:-0700
TZNAME:MST
DTSTART:20231105T080000
END:STANDARD
BEGIN:DAYLIGHT
TZOFFSETFROM:-0700
TZOFFSETTO:-0600
TZNAME:MDT
DTSTART:20240310T090000
END:DAYLIGHT
BEGIN:STANDARD
TZOFFSETFROM:-0600
TZOFFSETTO:-0700
TZNAME:MST
DTSTART:20241103T080000
END:STANDARD
BEGIN:DAYLIGHT
TZOFFSETFROM:-0700
TZOFFSETTO:-0600
TZNAME:MDT
DTSTART:20250309T090000
END:DAYLIGHT
BEGIN:STANDARD
TZOFFSETFROM:-0600
TZOFFSETTO:-0700
TZNAME:MST
DTSTART:20251102T080000
END:STANDARD
END:VTIMEZONE
BEGIN:VEVENT
DTSTART;TZID=America/Denver:20240409T100000
DTEND;TZID=America/Denver:20240409T200000
DTSTAMP:20260422T014428
CREATED:20231213T002432Z
LAST-MODIFIED:20240429T222723Z
UID:10007899-1712656800-1712692800@scfd.org
SUMMARY:Denver Art Museum Free Day
DESCRIPTION:
URL:https://scfd.org/event/denver-art-museum-free-day/2024-04-09/
END:VEVENT
BEGIN:VEVENT
DTSTART;TZID=America/Denver:20240409T180000
DTEND;TZID=America/Denver:20240409T200000
DTSTAMP:20260422T014428
CREATED:20240404T194058Z
LAST-MODIFIED:20240408T231614Z
UID:10007036-1712685600-1712692800@scfd.org
SUMMARY:Art Reception: Joellyn Duesberry: Solving Problems on Press; Please join us in celebrating the work of Joellyn Duesberry (1944 – 2016)\, a nationally-recognized American artist renowned for her vibrant landscape paintings. With a keen eye for color and a unique balance of geometric elements\, her canvases brought to life cityscapes and landscapes from around the globe. Join us on April 9 from 6:00 to 8:00 p.m. in the PACE Center Art Gallery for a reception celebrating the exhibit.  Attendees will have the opportunity to engage with the artist’s family and enjoy lite snacks while listening to live music by pianist\, Tracy Chrysler.
DESCRIPTION:
URL:https://scfd.org/event/art-reception-joellyn-duesberry-solving-problems-on-press-please-join-us-in-celebrating-the-work-of-joellyn-duesberry-1944-2016-a-nationally-recognized-american-artist-renowned-for-her/
END:VEVENT
BEGIN:VEVENT
DTSTART;TZID=America/Denver:20240411T130000
DTEND;TZID=America/Denver:20240411T140000
DTSTAMP:20260422T014428
CREATED:20230713T225717Z
LAST-MODIFIED:20230720T212935Z
UID:10007642-1712840400-1712844000@scfd.org
SUMMARY:Parkinson's
DESCRIPTION:
URL:https://scfd.org/event/13584/2024-04-11/
END:VEVENT
BEGIN:VEVENT
DTSTART;TZID=America/Denver:20240413T090000
DTEND;TZID=America/Denver:20240413T170000
DTSTAMP:20260422T014428
CREATED:20240208T172734Z
LAST-MODIFIED:20240214T191635Z
UID:10008497-1712998800-1713027600@scfd.org
SUMMARY:Longmont Museum Free Second Saturday
DESCRIPTION:
URL:https://scfd.org/event/free-second-saturday/2024-04-13/
END:VEVENT
BEGIN:VEVENT
DTSTART;TZID=America/Denver:20240413T120000
DTEND;TZID=America/Denver:20240413T140000
DTSTAMP:20260422T014428
CREATED:20240403T184712Z
LAST-MODIFIED:20240405T000011Z
UID:10007029-1713009600-1713016800@scfd.org
SUMMARY:Shakespeare in the Parking Lot
DESCRIPTION:
URL:https://scfd.org/event/shakespeare-in-the-parking-lot-2/
END:VEVENT
END:VCALENDAR