BEGIN:VCALENDAR
VERSION:2.0
PRODID:-//SCFD - ECPv6.15.18//NONSGML v1.0//EN
CALSCALE:GREGORIAN
METHOD:PUBLISH
X-WR-CALNAME:SCFD
X-ORIGINAL-URL:https://scfd.org
X-WR-CALDESC:Events for SCFD
REFRESH-INTERVAL;VALUE=DURATION:PT1H
X-Robots-Tag:noindex
X-PUBLISHED-TTL:PT1H
BEGIN:VTIMEZONE
TZID:America/Denver
BEGIN:DAYLIGHT
TZOFFSETFROM:-0700
TZOFFSETTO:-0600
TZNAME:MDT
DTSTART:20240310T090000
END:DAYLIGHT
BEGIN:STANDARD
TZOFFSETFROM:-0600
TZOFFSETTO:-0700
TZNAME:MST
DTSTART:20241103T080000
END:STANDARD
BEGIN:DAYLIGHT
TZOFFSETFROM:-0700
TZOFFSETTO:-0600
TZNAME:MDT
DTSTART:20250309T090000
END:DAYLIGHT
BEGIN:STANDARD
TZOFFSETFROM:-0600
TZOFFSETTO:-0700
TZNAME:MST
DTSTART:20251102T080000
END:STANDARD
BEGIN:DAYLIGHT
TZOFFSETFROM:-0700
TZOFFSETTO:-0600
TZNAME:MDT
DTSTART:20260308T090000
END:DAYLIGHT
BEGIN:STANDARD
TZOFFSETFROM:-0600
TZOFFSETTO:-0700
TZNAME:MST
DTSTART:20261101T080000
END:STANDARD
END:VTIMEZONE
BEGIN:VEVENT
DTSTART;TZID=America/Denver:20251104T120000
DTEND;TZID=America/Denver:20251104T123000
DTSTAMP:20260419T141231
CREATED:20250625T031521Z
LAST-MODIFIED:20250723T153618Z
UID:10008938-1762257600-1762259400@scfd.org
SUMMARY:DCPAccess Ticket Sale
DESCRIPTION:
URL:https://scfd.org/event/dcpaccess-ticket-sale/2025-11-04/
END:VEVENT
BEGIN:VEVENT
DTSTART;TZID=America/Denver:20251106T130000
DTEND;TZID=America/Denver:20251106T140000
DTSTAMP:20260419T141231
CREATED:20230713T225717Z
LAST-MODIFIED:20230720T212935Z
UID:10007724-1762434000-1762437600@scfd.org
SUMMARY:Parkinson's
DESCRIPTION:
URL:https://scfd.org/event/13584/2025-11-06/
END:VEVENT
BEGIN:VEVENT
DTSTART;TZID=America/Denver:20251107T100000
DTEND;TZID=America/Denver:20251107T170000
DTSTAMP:20260419T141231
CREATED:20241217T163230Z
LAST-MODIFIED:20241217T163230Z
UID:10008774-1762509600-1762534800@scfd.org
SUMMARY:Denver Zoo Community Free Days
DESCRIPTION:
URL:https://scfd.org/event/denver-zoo-community-free-days-6/2025-11-07/
END:VEVENT
BEGIN:VEVENT
DTSTART;TZID=America/Denver:20251107T160000
DTEND;TZID=America/Denver:20251107T200000
DTSTAMP:20260419T141231
CREATED:20250117T170753Z
LAST-MODIFIED:20250121T224955Z
UID:10007331-1762531200-1762545600@scfd.org
SUMMARY:Youth Open Mic
DESCRIPTION:
URL:https://scfd.org/event/youth-open-mic/2025-11-07/
END:VEVENT
BEGIN:VEVENT
DTSTART;TZID=America/Denver:20251108T100000
DTEND;TZID=America/Denver:20251108T170000
DTSTAMP:20260419T141231
CREATED:20241106T211028Z
LAST-MODIFIED:20250128T164808Z
UID:10008710-1762596000-1762621200@scfd.org
SUMMARY:Wings Over the Rockies Free Days
DESCRIPTION:
URL:https://scfd.org/event/wings-over-the-rockies-free-days/2025-11-08/
END:VEVENT
BEGIN:VEVENT
DTSTART;TZID=America/Denver:20251108T100000
DTEND;TZID=America/Denver:20251108T220000
DTSTAMP:20260419T141231
CREATED:20241024T183933Z
LAST-MODIFIED:20241115T170157Z
UID:10007149-1762596000-1762639200@scfd.org
SUMMARY:SCFD Free Day
DESCRIPTION:
URL:https://scfd.org/event/scfd-free-day-29/
END:VEVENT
BEGIN:VEVENT
DTSTART;TZID=America/Denver:20251108T100000
DTEND;TZID=America/Denver:20251108T220000
DTSTAMP:20260419T141231
CREATED:20241115T214112Z
LAST-MODIFIED:20241119T154811Z
UID:10007195-1762596000-1762639200@scfd.org
SUMMARY:Free Day at the DAM and Night at the Museums
DESCRIPTION:
URL:https://scfd.org/event/free-day-at-the-dam-and-night-at-the-museums/
END:VEVENT
BEGIN:VEVENT
DTSTART;TZID=America/Denver:20251108T170000
DTEND;TZID=America/Denver:20251108T210000
DTSTAMP:20260419T141231
CREATED:20241031T162315Z
LAST-MODIFIED:20250221T151447Z
UID:10008691-1762621200-1762635600@scfd.org
SUMMARY:Denver Museum of Nature & Science Free Nights
DESCRIPTION:
URL:https://scfd.org/event/denver-museum-of-nature-science-free-nights/2025-11-08/
END:VEVENT
END:VCALENDAR