BEGIN:VCALENDAR
VERSION:2.0
PRODID:-//SCFD - ECPv6.15.18//NONSGML v1.0//EN
CALSCALE:GREGORIAN
METHOD:PUBLISH
X-WR-CALNAME:SCFD
X-ORIGINAL-URL:https://scfd.org
X-WR-CALDESC:Events for SCFD
REFRESH-INTERVAL;VALUE=DURATION:PT1H
X-Robots-Tag:noindex
X-PUBLISHED-TTL:PT1H
BEGIN:VTIMEZONE
TZID:America/Denver
BEGIN:DAYLIGHT
TZOFFSETFROM:-0700
TZOFFSETTO:-0600
TZNAME:MDT
DTSTART:20250309T090000
END:DAYLIGHT
BEGIN:STANDARD
TZOFFSETFROM:-0600
TZOFFSETTO:-0700
TZNAME:MST
DTSTART:20251102T080000
END:STANDARD
BEGIN:DAYLIGHT
TZOFFSETFROM:-0700
TZOFFSETTO:-0600
TZNAME:MDT
DTSTART:20260308T090000
END:DAYLIGHT
BEGIN:STANDARD
TZOFFSETFROM:-0600
TZOFFSETTO:-0700
TZNAME:MST
DTSTART:20261101T080000
END:STANDARD
BEGIN:DAYLIGHT
TZOFFSETFROM:-0700
TZOFFSETTO:-0600
TZNAME:MDT
DTSTART:20270314T090000
END:DAYLIGHT
BEGIN:STANDARD
TZOFFSETFROM:-0600
TZOFFSETTO:-0700
TZNAME:MST
DTSTART:20271107T080000
END:STANDARD
END:VTIMEZONE
BEGIN:VEVENT
DTSTART;VALUE=DATE:20260422
DTEND;VALUE=DATE:20260423
DTSTAMP:20260420T195039
CREATED:20260107T194017Z
LAST-MODIFIED:20260107T194017Z
UID:10007816-1776816000-1776902399@scfd.org
SUMMARY:DBG - York and Chatfield
DESCRIPTION:
URL:https://scfd.org/event/dbg-york-and-chatfield/2026-04-22/
END:VEVENT
BEGIN:VEVENT
DTSTART;TZID=America/Denver:20260424T090000
DTEND;TZID=America/Denver:20260424T160000
DTSTAMP:20260420T195039
CREATED:20260108T014621Z
LAST-MODIFIED:20260109T161403Z
UID:10009091-1777021200-1777046400@scfd.org
SUMMARY:Celebrate the Sesquicentennial Dino Ridge Style!
DESCRIPTION:
URL:https://scfd.org/event/celebrate-the-sesquicentennial-dino-ridge-style/2026-04-24/
END:VEVENT
BEGIN:VEVENT
DTSTART;TZID=America/Denver:20260424T100000
DTEND;TZID=America/Denver:20260424T160000
DTSTAMP:20260420T195039
CREATED:20260123T164909Z
LAST-MODIFIED:20260123T183615Z
UID:10007852-1777024800-1777046400@scfd.org
SUMMARY:2026 SCFD Free Days (Daytime Admission 10am-4pm)
DESCRIPTION:
URL:https://scfd.org/event/2026-scfd-free-days-daytime-admission-10am-4pm/2026-04-24/
END:VEVENT
BEGIN:VEVENT
DTSTART;TZID=America/Denver:20260424T173000
DTEND;TZID=America/Denver:20260424T203000
DTSTAMP:20260420T195039
CREATED:20260414T145735Z
LAST-MODIFIED:20260416T203819Z
UID:10009595-1777051800-1777062600@scfd.org
SUMMARY:Adult Open Studio
DESCRIPTION:
URL:https://scfd.org/event/adult-open-studio-4/2026-04-24/
END:VEVENT
BEGIN:VEVENT
DTSTART;TZID=America/Denver:20260426T090000
DTEND;TZID=America/Denver:20260426T170000
DTSTAMP:20260420T195039
CREATED:20260107T193636Z
LAST-MODIFIED:20260107T193636Z
UID:10007806-1777194000-1777222800@scfd.org
SUMMARY:DMNS Free Days
DESCRIPTION:
URL:https://scfd.org/event/dmns-free-days/2026-04-26/
END:VEVENT
BEGIN:VEVENT
DTSTART;TZID=America/Denver:20260426T100000
DTEND;TZID=America/Denver:20260426T170000
DTSTAMP:20260420T195039
CREATED:20251013T231000Z
LAST-MODIFIED:20251015T230720Z
UID:10009011-1777197600-1777222800@scfd.org
SUMMARY:Día del Niño Celebration & Free Day at the Denver Art Museum
DESCRIPTION:
URL:https://scfd.org/event/dia-del-nino-celebration-free-day-at-the-denver-art-museum/
END:VEVENT
BEGIN:VEVENT
DTSTART;TZID=America/Denver:20260426T100000
DTEND;TZID=America/Denver:20260426T170000
DTSTAMP:20260420T195039
CREATED:20251229T194157Z
LAST-MODIFIED:20260402T164017Z
UID:10009069-1777197600-1777222800@scfd.org
SUMMARY:Día del Niño Celebration Program
DESCRIPTION:
URL:https://scfd.org/event/dia-del-nino-celebration-program-2/
END:VEVENT
BEGIN:VEVENT
DTSTART;TZID=America/Denver:20260426T100000
DTEND;TZID=America/Denver:20260426T170000
DTSTAMP:20260420T195039
CREATED:20260309T142240Z
LAST-MODIFIED:20260310T221613Z
UID:10009537-1777197600-1777222800@scfd.org
SUMMARY:Dia Del Nino 2026
DESCRIPTION:
URL:https://scfd.org/event/dia-del-nino-2026/
END:VEVENT
BEGIN:VEVENT
DTSTART;TZID=America/Denver:20260426T160000
DTEND;TZID=America/Denver:20260426T180000
DTSTAMP:20260420T195039
CREATED:20250824T143121Z
LAST-MODIFIED:20250827T155423Z
UID:10008993-1777219200-1777226400@scfd.org
SUMMARY:Stage & Screen Concert
DESCRIPTION:
URL:https://scfd.org/event/stage-screen-concert/
END:VEVENT
END:VCALENDAR